BEGIN:VCALENDAR
VERSION:2.0
PRODID:-//Macclesfield Harriers &amp; Athletic Club - ECPv6.15.20//NONSGML v1.0//EN
CALSCALE:GREGORIAN
METHOD:PUBLISH
X-WR-CALNAME:Macclesfield Harriers &amp; Athletic Club
X-ORIGINAL-URL:https://macclesfield-harriers.co.uk
X-WR-CALDESC:Events for Macclesfield Harriers &amp; Athletic Club
REFRESH-INTERVAL;VALUE=DURATION:PT1H
X-Robots-Tag:noindex
X-PUBLISHED-TTL:PT1H
BEGIN:VTIMEZONE
TZID:Europe/London
BEGIN:DAYLIGHT
TZOFFSETFROM:+0000
TZOFFSETTO:+0100
TZNAME:BST
DTSTART:20230326T010000
END:DAYLIGHT
BEGIN:STANDARD
TZOFFSETFROM:+0100
TZOFFSETTO:+0000
TZNAME:GMT
DTSTART:20231029T010000
END:STANDARD
BEGIN:DAYLIGHT
TZOFFSETFROM:+0000
TZOFFSETTO:+0100
TZNAME:BST
DTSTART:20240331T010000
END:DAYLIGHT
BEGIN:STANDARD
TZOFFSETFROM:+0100
TZOFFSETTO:+0000
TZNAME:GMT
DTSTART:20241027T010000
END:STANDARD
BEGIN:DAYLIGHT
TZOFFSETFROM:+0000
TZOFFSETTO:+0100
TZNAME:BST
DTSTART:20250330T010000
END:DAYLIGHT
BEGIN:STANDARD
TZOFFSETFROM:+0100
TZOFFSETTO:+0000
TZNAME:GMT
DTSTART:20251026T010000
END:STANDARD
END:VTIMEZONE
BEGIN:VEVENT
DTSTART;TZID=Europe/London:20240713T110000
DTEND;TZID=Europe/London:20240713T160000
DTSTAMP:20260423T081041
CREATED:20240121T165950Z
LAST-MODIFIED:20240121T165950Z
UID:10000346-1720868400-1720886400@macclesfield-harriers.co.uk
SUMMARY:2024 Wasdale - High Fell Series
DESCRIPTION:Wasdale Fell Race \nAL 34km/21.1mi\, 2750m/9022ft. \nThe Wasdale Fell Race is organised by Cumberland Fell Runners Association and is also part of the Lakeland Classics Trophy (details at lakelandclassicstrophy.org.uk). \nFee includes light refreshment\, use of the SPORTident race management / results system. \nAll Si-Cards are provided and pre logged onto the system\, no personal SI-Cards will be used. \nStart: 11:00 \n£15 pre-entry from early Feb via SI Entries \nParking\, Registration\, Start / Finish: located at the field east of National Trust campsite perimeter\, Wasdale GR 184 075. Post code for travel to Wasdale Campsite\, Wasdale Head\, Cumbria\, CA20 1EX. Please car share if at all possible to avoid valley road congestion and DO NOT PARK IN THE CAMPSITE IF YOU ARE NOT CAMPING. \nChanging: None – use cars. Toilets in the NT car park and with showers available on the NT camp site\, but there is charge for their use which MUST be paid by those using them. DO NOT USE THE SURROUNDS AS A TOILET.
URL:https://macclesfield-harriers.co.uk/event/2024-wasdale-high-fell-series/
LOCATION:Wasdale Campsite\, Wasdale Head\, Cumbria\, CA20 1EX
CATEGORIES:Club Championship,Events,Fell,Trail
ATTACH;FMTTYPE=image/jpeg:https://macclesfield-harriers.co.uk/wp-content/uploads/2022/01/2022-High-Fell-Series.jpg
END:VEVENT
END:VCALENDAR