BEGIN:VCALENDAR
VERSION:2.0
PRODID:-//Macclesfield Harriers &amp; Athletic Club - ECPv6.15.20//NONSGML v1.0//EN
CALSCALE:GREGORIAN
METHOD:PUBLISH
X-ORIGINAL-URL:https://macclesfield-harriers.co.uk
X-WR-CALDESC:Events for Macclesfield Harriers &amp; Athletic Club
REFRESH-INTERVAL;VALUE=DURATION:PT1H
X-Robots-Tag:noindex
X-PUBLISHED-TTL:PT1H
BEGIN:VTIMEZONE
TZID:Europe/London
BEGIN:DAYLIGHT
TZOFFSETFROM:+0000
TZOFFSETTO:+0100
TZNAME:BST
DTSTART:20190331T010000
END:DAYLIGHT
BEGIN:STANDARD
TZOFFSETFROM:+0100
TZOFFSETTO:+0000
TZNAME:GMT
DTSTART:20191027T010000
END:STANDARD
BEGIN:DAYLIGHT
TZOFFSETFROM:+0000
TZOFFSETTO:+0100
TZNAME:BST
DTSTART:20200329T010000
END:DAYLIGHT
BEGIN:STANDARD
TZOFFSETFROM:+0100
TZOFFSETTO:+0000
TZNAME:GMT
DTSTART:20201025T010000
END:STANDARD
BEGIN:DAYLIGHT
TZOFFSETFROM:+0000
TZOFFSETTO:+0100
TZNAME:BST
DTSTART:20210328T010000
END:DAYLIGHT
BEGIN:STANDARD
TZOFFSETFROM:+0100
TZOFFSETTO:+0000
TZNAME:GMT
DTSTART:20211031T010000
END:STANDARD
BEGIN:DAYLIGHT
TZOFFSETFROM:+0000
TZOFFSETTO:+0100
TZNAME:BST
DTSTART:20220327T010000
END:DAYLIGHT
BEGIN:STANDARD
TZOFFSETFROM:+0100
TZOFFSETTO:+0000
TZNAME:GMT
DTSTART:20221030T010000
END:STANDARD
BEGIN:DAYLIGHT
TZOFFSETFROM:+0000
TZOFFSETTO:+0100
TZNAME:BST
DTSTART:20230326T010000
END:DAYLIGHT
BEGIN:STANDARD
TZOFFSETFROM:+0100
TZOFFSETTO:+0000
TZNAME:GMT
DTSTART:20231029T010000
END:STANDARD
BEGIN:DAYLIGHT
TZOFFSETFROM:+0000
TZOFFSETTO:+0100
TZNAME:BST
DTSTART:20240331T010000
END:DAYLIGHT
BEGIN:STANDARD
TZOFFSETFROM:+0100
TZOFFSETTO:+0000
TZNAME:GMT
DTSTART:20241027T010000
END:STANDARD
BEGIN:DAYLIGHT
TZOFFSETFROM:+0000
TZOFFSETTO:+0100
TZNAME:BST
DTSTART:20250330T010000
END:DAYLIGHT
BEGIN:STANDARD
TZOFFSETFROM:+0100
TZOFFSETTO:+0000
TZNAME:GMT
DTSTART:20251026T010000
END:STANDARD
END:VTIMEZONE
BEGIN:VEVENT
DTSTART;TZID=Europe/London:20240710T193000
DTEND;TZID=Europe/London:20240710T210000
DTSTAMP:20260422T120042
CREATED:20240121T114750Z
LAST-MODIFIED:20240121T130726Z
UID:10000328-1720639800-1720645200@macclesfield-harriers.co.uk
SUMMARY:2024 Terry’s High Five - Summer Evening Series
DESCRIPTION:Details TBC \nBS 7km 305m \nhttps://www.facebook.com/EmmaTH5/ \n 
URL:https://macclesfield-harriers.co.uk/event/2024-terrys-high-five-summer-evening-series/
LOCATION:Ranger Station\, Trentabank\, Macclesfield Forest\, Langley\, Macclesfield\, Cheshire\, SK11 0NS\, United Kingdom
CATEGORIES:Club Championship,Club Races,Events,Fell,Trail
ATTACH;FMTTYPE=image/jpeg:https://macclesfield-harriers.co.uk/wp-content/uploads/2021/08/Terry-Neild.jpg
END:VEVENT
BEGIN:VEVENT
DTSTART;TZID=Europe/London:20200722T193000
DTEND;TZID=Europe/London:20200722T210000
DTSTAMP:20260422T120042
CREATED:20200309T191432Z
LAST-MODIFIED:20210706T103344Z
UID:10000052-1595446200-1595451600@macclesfield-harriers.co.uk
SUMMARY:Forest 5 (Summer Weekday Series)
DESCRIPTION:CS 9km 307m \nEOD £7 \nClub-organised race – if you aren’t racing\, consider volunteering. \n 
URL:https://macclesfield-harriers.co.uk/event/forest-5-summer-weekday-series/
LOCATION:Ranger Station\, Trentabank\, Macclesfield Forest\, Langley\, Macclesfield\, Cheshire\, SK11 0NS\, United Kingdom
CATEGORIES:Club Championship,Club Races,Fell
END:VEVENT
END:VCALENDAR