BEGIN:VCALENDAR
VERSION:2.0
PRODID:-//Macclesfield Harriers &amp; Athletic Club - ECPv6.15.20//NONSGML v1.0//EN
CALSCALE:GREGORIAN
METHOD:PUBLISH
X-WR-CALNAME:Macclesfield Harriers &amp; Athletic Club
X-ORIGINAL-URL:https://macclesfield-harriers.co.uk
X-WR-CALDESC:Events for Macclesfield Harriers &amp; Athletic Club
REFRESH-INTERVAL;VALUE=DURATION:PT1H
X-Robots-Tag:noindex
X-PUBLISHED-TTL:PT1H
BEGIN:VTIMEZONE
TZID:Europe/London
BEGIN:DAYLIGHT
TZOFFSETFROM:+0000
TZOFFSETTO:+0100
TZNAME:BST
DTSTART:20190331T010000
END:DAYLIGHT
BEGIN:STANDARD
TZOFFSETFROM:+0100
TZOFFSETTO:+0000
TZNAME:GMT
DTSTART:20191027T010000
END:STANDARD
BEGIN:DAYLIGHT
TZOFFSETFROM:+0000
TZOFFSETTO:+0100
TZNAME:BST
DTSTART:20200329T010000
END:DAYLIGHT
BEGIN:STANDARD
TZOFFSETFROM:+0100
TZOFFSETTO:+0000
TZNAME:GMT
DTSTART:20201025T010000
END:STANDARD
BEGIN:DAYLIGHT
TZOFFSETFROM:+0000
TZOFFSETTO:+0100
TZNAME:BST
DTSTART:20210328T010000
END:DAYLIGHT
BEGIN:STANDARD
TZOFFSETFROM:+0100
TZOFFSETTO:+0000
TZNAME:GMT
DTSTART:20211031T010000
END:STANDARD
BEGIN:DAYLIGHT
TZOFFSETFROM:+0000
TZOFFSETTO:+0100
TZNAME:BST
DTSTART:20220327T010000
END:DAYLIGHT
BEGIN:STANDARD
TZOFFSETFROM:+0100
TZOFFSETTO:+0000
TZNAME:GMT
DTSTART:20221030T010000
END:STANDARD
BEGIN:DAYLIGHT
TZOFFSETFROM:+0000
TZOFFSETTO:+0100
TZNAME:BST
DTSTART:20230326T010000
END:DAYLIGHT
BEGIN:STANDARD
TZOFFSETFROM:+0100
TZOFFSETTO:+0000
TZNAME:GMT
DTSTART:20231029T010000
END:STANDARD
BEGIN:DAYLIGHT
TZOFFSETFROM:+0000
TZOFFSETTO:+0100
TZNAME:BST
DTSTART:20240331T010000
END:DAYLIGHT
BEGIN:STANDARD
TZOFFSETFROM:+0100
TZOFFSETTO:+0000
TZNAME:GMT
DTSTART:20241027T010000
END:STANDARD
BEGIN:DAYLIGHT
TZOFFSETFROM:+0000
TZOFFSETTO:+0100
TZNAME:BST
DTSTART:20250330T010000
END:DAYLIGHT
BEGIN:STANDARD
TZOFFSETFROM:+0100
TZOFFSETTO:+0000
TZNAME:GMT
DTSTART:20251026T010000
END:STANDARD
END:VTIMEZONE
BEGIN:VEVENT
DTSTART;TZID=Europe/London:20241110T103000
DTEND;TZID=Europe/London:20241110T133000
DTSTAMP:20260422T090128
CREATED:20240121T162856Z
LAST-MODIFIED:20240121T162856Z
UID:10000341-1731234600-1731245400@macclesfield-harriers.co.uk
SUMMARY:2024 The Roaches - Peaks Trail Series
DESCRIPTION:RACE DETAILS\n\nDate & time: Sun 10 Nov 2023 at 10:30\nCountry: England\nRegion: Peak District\nCategory: BL\nWebsite: http://www.mowcoprunner.com\nDistance: 24.1 km / 15 miles\nClimb: 1128 m / 3701 ft\nVenue: Village Hall\, Meerbrook\, Leek.\, ST13 8SL\nGrid reference: 987608\nSkills: ER\, PM\, LK\nMinimum age: 18\n\nENTRY INFORMATION\n\nEntry on day: Yes\nEntry on day fee: £12.00\nPre-entry: No
URL:https://macclesfield-harriers.co.uk/event/2024-the-roaches-peaks-trail-series/
LOCATION:Meerbrook Village Hall\, Meerbrook\, Leek\, ST13 8SL
CATEGORIES:Club Championship,Events,Fell,Trail
ATTACH;FMTTYPE=image/jpeg:https://macclesfield-harriers.co.uk/wp-content/uploads/2022/01/2022-Peaks-Trail-Seriesl.jpg
END:VEVENT
BEGIN:VEVENT
DTSTART;TZID=Europe/London:20201108T103000
DTEND;TZID=Europe/London:20201108T133000
DTSTAMP:20260422T090128
CREATED:20200310T150414Z
LAST-MODIFIED:20210706T103343Z
UID:10000029-1604831400-1604842200@macclesfield-harriers.co.uk
SUMMARY:Roaches fell race (Local Peaks Series)
DESCRIPTION:BL: Distance: 24.1km / 15m\, Climb: 1128m / 3701ft \nEOD: £5 \nVenue: Village Hall\, Meerbrook\, Leek \nGrid ref: 987608
URL:https://macclesfield-harriers.co.uk/event/roaches-fell-race/
LOCATION:Meerbrook Village Hall\, Meerbrook\, Leek\, ST13 8SL
CATEGORIES:Club Championship,Fell
END:VEVENT
BEGIN:VEVENT
DTSTART;TZID=Europe/London:20200620T100000
DTEND;TZID=Europe/London:20200620T133000
DTSTAMP:20260422T090128
CREATED:20200309T165958Z
LAST-MODIFIED:20210706T103344Z
UID:10000016-1592647200-1592659800@macclesfield-harriers.co.uk
SUMMARY:Meerbrook 15K
DESCRIPTION:
URL:https://macclesfield-harriers.co.uk/event/meerbrook-15k/
LOCATION:Meerbrook Village Hall\, Meerbrook\, Leek\, ST13 8SL
CATEGORIES:Club Championship,Road
END:VEVENT
END:VCALENDAR