BEGIN:VCALENDAR
VERSION:2.0
PRODID:-//Macclesfield Harriers &amp; Athletic Club - ECPv6.15.20//NONSGML v1.0//EN
CALSCALE:GREGORIAN
METHOD:PUBLISH
X-WR-CALNAME:Macclesfield Harriers &amp; Athletic Club
X-ORIGINAL-URL:https://macclesfield-harriers.co.uk
X-WR-CALDESC:Events for Macclesfield Harriers &amp; Athletic Club
REFRESH-INTERVAL;VALUE=DURATION:PT1H
X-Robots-Tag:noindex
X-PUBLISHED-TTL:PT1H
BEGIN:VTIMEZONE
TZID:Europe/London
BEGIN:DAYLIGHT
TZOFFSETFROM:+0000
TZOFFSETTO:+0100
TZNAME:BST
DTSTART:20210328T010000
END:DAYLIGHT
BEGIN:STANDARD
TZOFFSETFROM:+0100
TZOFFSETTO:+0000
TZNAME:GMT
DTSTART:20211031T010000
END:STANDARD
BEGIN:DAYLIGHT
TZOFFSETFROM:+0000
TZOFFSETTO:+0100
TZNAME:BST
DTSTART:20220327T010000
END:DAYLIGHT
BEGIN:STANDARD
TZOFFSETFROM:+0100
TZOFFSETTO:+0000
TZNAME:GMT
DTSTART:20221030T010000
END:STANDARD
BEGIN:DAYLIGHT
TZOFFSETFROM:+0000
TZOFFSETTO:+0100
TZNAME:BST
DTSTART:20230326T010000
END:DAYLIGHT
BEGIN:STANDARD
TZOFFSETFROM:+0100
TZOFFSETTO:+0000
TZNAME:GMT
DTSTART:20231029T010000
END:STANDARD
END:VTIMEZONE
BEGIN:VEVENT
DTSTART;TZID=Europe/London:20220115T083000
DTEND;TZID=Europe/London:20220115T120000
DTSTAMP:20260424T135641
CREATED:20210924T143420Z
LAST-MODIFIED:20210924T143420Z
UID:10000141-1642235400-1642248000@macclesfield-harriers.co.uk
SUMMARY:Wildest Peaks Trail Run (Dark & White)
DESCRIPTION:The fifth edition of this superb winter trail running event across the high level moorland and woodland of the Eastern Moors and National Trust Longshaw Estate. Both the 25.7 km long and 10.6 km short routes provide a variety of top quality running trails and the opportunity to gaze over some of Peak District National Park’s most stunning scenery. \n\nBoth courses are fully signed with Dark & White arrows\, a colour OS route map will also provided\nChoose your distance 25.6 km/15.9 miles or 10.6 km/6.6 miles – gold\, silver & bronze time awards/certificates awarded on each course\nTrail running related prizes for male and female age category winners and runners up on each course. NB: classes will be merged if entries are low in any of the age categories\nDesignated rolling start windows – start anytime within your chosen 10 min window\nStart individually or in small groups (max of 4 people per group)\nSPORTident electronic punching with on-the-spot results.\n\n 
URL:https://macclesfield-harriers.co.uk/event/wildest-peaks-trail-run-dark-white/
LOCATION:Longshaw Estate\, The Moorland Discovery Centre\, Longshaw Estate\, Sheffield\, S11 7TZ\, United Kingdom
CATEGORIES:Trail
ATTACH;FMTTYPE=image/png:https://macclesfield-harriers.co.uk/wp-content/uploads/2021/09/Screenshot-2021-09-24-at-14-26-37-Wildest-Peaks-Trail-Run-Peak-District-Trail-Running-Dark-White-Events.png
END:VEVENT
END:VCALENDAR