BEGIN:VCALENDAR
VERSION:2.0
PRODID:-//Macclesfield Harriers &amp; Athletic Club - ECPv6.15.20//NONSGML v1.0//EN
CALSCALE:GREGORIAN
METHOD:PUBLISH
X-ORIGINAL-URL:https://macclesfield-harriers.co.uk
X-WR-CALDESC:Events for Macclesfield Harriers &amp; Athletic Club
REFRESH-INTERVAL;VALUE=DURATION:PT1H
X-Robots-Tag:noindex
X-PUBLISHED-TTL:PT1H
BEGIN:VTIMEZONE
TZID:UTC
BEGIN:STANDARD
TZOFFSETFROM:+0000
TZOFFSETTO:+0000
TZNAME:UTC
DTSTART:20230101T000000
END:STANDARD
END:VTIMEZONE
BEGIN:VTIMEZONE
TZID:Europe/London
BEGIN:DAYLIGHT
TZOFFSETFROM:+0000
TZOFFSETTO:+0100
TZNAME:BST
DTSTART:20210328T010000
END:DAYLIGHT
BEGIN:STANDARD
TZOFFSETFROM:+0100
TZOFFSETTO:+0000
TZNAME:GMT
DTSTART:20211031T010000
END:STANDARD
BEGIN:DAYLIGHT
TZOFFSETFROM:+0000
TZOFFSETTO:+0100
TZNAME:BST
DTSTART:20220327T010000
END:DAYLIGHT
BEGIN:STANDARD
TZOFFSETFROM:+0100
TZOFFSETTO:+0000
TZNAME:GMT
DTSTART:20221030T010000
END:STANDARD
BEGIN:DAYLIGHT
TZOFFSETFROM:+0000
TZOFFSETTO:+0100
TZNAME:BST
DTSTART:20230326T010000
END:DAYLIGHT
BEGIN:STANDARD
TZOFFSETFROM:+0100
TZOFFSETTO:+0000
TZNAME:GMT
DTSTART:20231029T010000
END:STANDARD
BEGIN:DAYLIGHT
TZOFFSETFROM:+0000
TZOFFSETTO:+0100
TZNAME:BST
DTSTART:20240331T010000
END:DAYLIGHT
BEGIN:STANDARD
TZOFFSETFROM:+0100
TZOFFSETTO:+0000
TZNAME:GMT
DTSTART:20241027T010000
END:STANDARD
END:VTIMEZONE
BEGIN:VEVENT
DTSTART;TZID=UTC:20251226T090000
DTEND;TZID=UTC:20251226T113000
DTSTAMP:20260422T061712
CREATED:20251008T125809Z
LAST-MODIFIED:20251128T123247Z
UID:10000429-1766739600-1766748600@macclesfield-harriers.co.uk
SUMMARY:2025 Boxing Day Run
DESCRIPTION:Details of the 2025 Boxing Day run will be available on the website by early December. \n2025 Boxing Day Run Details \nRegistration 9.00-9.45am (Cricket Club).\nPre-Registration Link \nRun Start 10.00am (Langley Methodist Church\, Cock Hall Lane).
URL:https://macclesfield-harriers.co.uk/event/2025-boxing-day-run/
LOCATION:Langley Cricket Club\, Cock Hall Lane\, Langley\, Cheshire\, SK11 0DE\, United Kingdom
CATEGORIES:Events,Road,Social,Trail
ATTACH;FMTTYPE=image/jpeg:https://macclesfield-harriers.co.uk/wp-content/uploads/2022/12/BDH-COVER.jpg
END:VEVENT
BEGIN:VEVENT
DTSTART;TZID=UTC:20241226T093000
DTEND;TZID=UTC:20241226T113000
DTSTAMP:20260422T061712
CREATED:20241109T173452Z
LAST-MODIFIED:20241112T171156Z
UID:10000385-1735205400-1735212600@macclesfield-harriers.co.uk
SUMMARY:2024 Boxing Day Run
DESCRIPTION:Details of the 2024 Boxing Day run will be available on the website by early December. \nRegistration 9.00-9.45am (Cricket Club).\nPre-Registration Link \nRun Start 10.00am (Langley Methodist Church\, Cock Hall Lane).
URL:https://macclesfield-harriers.co.uk/event/2024-boxing-day-run/
LOCATION:Langley Cricket Club\, Cock Hall Lane\, Langley\, Cheshire\, SK11 0DE\, United Kingdom
CATEGORIES:Events,Road,Social
ATTACH;FMTTYPE=image/jpeg:https://macclesfield-harriers.co.uk/wp-content/uploads/2022/12/BDH-COVER.jpg
END:VEVENT
BEGIN:VEVENT
DTSTART;TZID=Europe/London:20231226T090000
DTEND;TZID=Europe/London:20231226T130000
DTSTAMP:20260422T061712
CREATED:20231109T173623Z
LAST-MODIFIED:20231212T115431Z
UID:10000322-1703581200-1703595600@macclesfield-harriers.co.uk
SUMMARY:2023 Boxing Day Handicap
DESCRIPTION:NOTE: CLUB MEMBERS ONLY\nThe Boxing Day Handicap (BDH) is back again for 2023 – organiser (Sally Ann Hales) and venue (Langley Cricket Club) \nRegistration 9.00-9.45am (Cricket Club). \nPlease use THIS LINK to let the organiser know that you intend to take part (to give an idea of numbers) \nParking: Limited parking at the cricket club and some parking along the lane. If you park in the village please park with respect to the residents. \nStaggered start –  first (slower) runners setting off at 10.00am from the Methodist Church\, Langley \nSocial in the Cricket Club afterwards….the bar will be open. \nThe event needs helpers at the start\, finish and out on course. Please use THIS LINK to contact the organiser if you can help. \nInfo on route\, previous results etc….. Boxing Day Handicap
URL:https://macclesfield-harriers.co.uk/event/2023-boxing-day-handicap/
LOCATION:Langley Cricket Club\, Cock Hall Lane\, Langley\, Cheshire\, SK11 0DE\, United Kingdom
CATEGORIES:Club Races,Cross Country,Events,Fell,Road,Social,Track and Field,Trail
ATTACH;FMTTYPE=image/jpeg:https://macclesfield-harriers.co.uk/wp-content/uploads/2022/12/BDH-COVER.jpg
END:VEVENT
BEGIN:VEVENT
DTSTART;TZID=Europe/London:20221226T093000
DTEND;TZID=Europe/London:20221226T130000
DTSTAMP:20260422T061712
CREATED:20221209T150052Z
LAST-MODIFIED:20221213T165322Z
UID:10000265-1672047000-1672059600@macclesfield-harriers.co.uk
SUMMARY:2022 Boxing Day Handicap
DESCRIPTION:CLUB MEMBERS ONLY\nThe Boxing Day Handicap is back again for 2022 – this time with a new organiser (Sally Ann Hales) and a new venue (Langley Cricket Club) \nRegistration 9.30-10.15am (Cricket Club) \nStaggered start –  first (slower) runners setting off at 10.30am from the Methodist Church\, Langley \nSocial in the Cricket Club afterwards….the bar will be open. \nThe event needs helpers at the start\, finish and out on course. Please use THIS LINK to contact the organiser if you can help. \nInfo on route\, previous results etc….. Boxing Day Handicap
URL:https://macclesfield-harriers.co.uk/event/bdh-2022/
LOCATION:Langley Cricket Club\, Cock Hall Lane\, Langley\, Cheshire\, SK11 0DE\, United Kingdom
CATEGORIES:Club Races,Cross Country,Events,Fell,Road,Social,Track and Field,Trail
ATTACH;FMTTYPE=image/jpeg:https://macclesfield-harriers.co.uk/wp-content/uploads/2022/12/BDH-COVER.jpg
END:VEVENT
END:VCALENDAR