BEGIN:VCALENDAR
VERSION:2.0
PRODID:-//Macclesfield Harriers &amp; Athletic Club - ECPv6.15.20//NONSGML v1.0//EN
CALSCALE:GREGORIAN
METHOD:PUBLISH
X-ORIGINAL-URL:https://macclesfield-harriers.co.uk
X-WR-CALDESC:Events for Macclesfield Harriers &amp; Athletic Club
REFRESH-INTERVAL;VALUE=DURATION:PT1H
X-Robots-Tag:noindex
X-PUBLISHED-TTL:PT1H
BEGIN:VTIMEZONE
TZID:Europe/London
BEGIN:DAYLIGHT
TZOFFSETFROM:+0000
TZOFFSETTO:+0100
TZNAME:BST
DTSTART:20250330T010000
END:DAYLIGHT
BEGIN:STANDARD
TZOFFSETFROM:+0100
TZOFFSETTO:+0000
TZNAME:GMT
DTSTART:20251026T010000
END:STANDARD
BEGIN:DAYLIGHT
TZOFFSETFROM:+0000
TZOFFSETTO:+0100
TZNAME:BST
DTSTART:20260329T010000
END:DAYLIGHT
BEGIN:STANDARD
TZOFFSETFROM:+0100
TZOFFSETTO:+0000
TZNAME:GMT
DTSTART:20261025T010000
END:STANDARD
BEGIN:DAYLIGHT
TZOFFSETFROM:+0000
TZOFFSETTO:+0100
TZNAME:BST
DTSTART:20270328T010000
END:DAYLIGHT
BEGIN:STANDARD
TZOFFSETFROM:+0100
TZOFFSETTO:+0000
TZNAME:GMT
DTSTART:20271031T010000
END:STANDARD
END:VTIMEZONE
BEGIN:VTIMEZONE
TZID:UTC
BEGIN:STANDARD
TZOFFSETFROM:+0000
TZOFFSETTO:+0000
TZNAME:UTC
DTSTART:20250101T000000
END:STANDARD
END:VTIMEZONE
BEGIN:VEVENT
DTSTART;VALUE=DATE:20260509
DTEND;VALUE=DATE:20260512
DTSTAMP:20260422T095125
CREATED:20260128T212039Z
LAST-MODIFIED:20260128T212039Z
UID:10000444-1778299200-1778471999@macclesfield-harriers.co.uk
SUMMARY:2026 Cheshire Track and Field Championships
DESCRIPTION:The 2026 Cheshire T&F Championships will will be held over the weekend of 9th & 10th May at Victoria Park\, Warrington. \nThe event is open to all abilities and age groups from U12 to Seniors.  \nEntry details will be posted here as soon as they become available.
URL:https://macclesfield-harriers.co.uk/event/2026-cheshire-track-and-field-championships/
LOCATION:Victoria Park\, Warrington
CATEGORIES:Track and Field
ATTACH;FMTTYPE=image/jpeg:https://macclesfield-harriers.co.uk/wp-content/uploads/2024/06/IMG_8348-scaled-e1718740387267.jpg
END:VEVENT
BEGIN:VEVENT
DTSTART;TZID=UTC:20260517T110000
DTEND;TZID=UTC:20260517T170000
DTSTAMP:20260422T095125
CREATED:20260128T201419Z
LAST-MODIFIED:20260407T192742Z
UID:10000434-1779015600-1779037200@macclesfield-harriers.co.uk
SUMMARY:2026 Cheshire Track & Field Grand Prix - Round 2
DESCRIPTION:Round 2 of the 2026 Cheshire Track & Field Grand Prix series will be held on Sunday 17th May at Cumberland Arena\, Crewe. \nThis is an open event for all age groups (U10\, U12\, U14\, U16\, U18\, U20 & Senior) with entries being made by individual athletes. Entries will open nearer the time on the Roster Athletics portal. \nPlease speak to your Team Manager if you need any advice on how to enter.
URL:https://macclesfield-harriers.co.uk/event/2026-cheshire-track-field-grand-prix-round-2/
LOCATION:Cumberland Arena\, Crewe\, Thomas Street\, Crewe\, CW1 2BD\, United Kingdom
CATEGORIES:Track and Field
ATTACH;FMTTYPE=image/jpeg:https://macclesfield-harriers.co.uk/wp-content/uploads/2024/06/IMG_8348-scaled-e1718740387267.jpg
END:VEVENT
END:VCALENDAR