BEGIN:VCALENDAR
VERSION:2.0
PRODID:-//Macclesfield Harriers &amp; Athletic Club - ECPv6.15.20//NONSGML v1.0//EN
CALSCALE:GREGORIAN
METHOD:PUBLISH
X-ORIGINAL-URL:https://macclesfield-harriers.co.uk
X-WR-CALDESC:Events for Macclesfield Harriers &amp; Athletic Club
REFRESH-INTERVAL;VALUE=DURATION:PT1H
X-Robots-Tag:noindex
X-PUBLISHED-TTL:PT1H
BEGIN:VTIMEZONE
TZID:UTC
BEGIN:STANDARD
TZOFFSETFROM:+0000
TZOFFSETTO:+0000
TZNAME:UTC
DTSTART:20240101T000000
END:STANDARD
END:VTIMEZONE
BEGIN:VEVENT
DTSTART;VALUE=DATE:20250914
DTEND;VALUE=DATE:20250916
DTSTAMP:20260422T215816
CREATED:20250117T160607Z
LAST-MODIFIED:20250117T160607Z
UID:10000407-1757822400-1757908799@macclesfield-harriers.co.uk
SUMMARY:North West Road Relays
DESCRIPTION:Venue TBC. We will be looking to field as many age category groups as possible. Please contact Owain Morris if interested in representing the club at this event.
URL:https://macclesfield-harriers.co.uk/event/north-west-road-relays/
CATEGORIES:Club Championship,Road
ATTACH;FMTTYPE=image/jpeg:https://macclesfield-harriers.co.uk/wp-content/uploads/2024/07/Round-the-Runway-scaled.jpg
END:VEVENT
BEGIN:VEVENT
DTSTART;TZID=UTC:20250917T190000
DTEND;TZID=UTC:20250917T203000
DTSTAMP:20260422T215816
CREATED:20250730T062356Z
LAST-MODIFIED:20250820T212625Z
UID:10000426-1758135600-1758141000@macclesfield-harriers.co.uk
SUMMARY:Club Committee Meeting (September 2025)
DESCRIPTION:Committee Meeting … club members are welcome to attend. Any questions to be submitted to the club secretary.
URL:https://macclesfield-harriers.co.uk/event/club-committee-meeting-september-2025/
LOCATION:Macclesfield Athletics Track\, Priory Lane\, Macclesfield\, Cheshire\, SK10 4AF\, United Kingdom
CATEGORIES:Cross Country,Events,Fell,Road,Social,Track and Field,Trail
ATTACH;FMTTYPE=image/png:https://macclesfield-harriers.co.uk/wp-content/uploads/2019/08/email-header.png
ORGANIZER;CN="Rachel Gilliland":MAILTO:secretary@macclesfield-harriers.co.uk
END:VEVENT
BEGIN:VEVENT
DTSTART;TZID=UTC:20250921T090000
DTEND;TZID=UTC:20250921T120000
DTSTAMP:20260422T215816
CREATED:20250117T124707Z
LAST-MODIFIED:20250117T124707Z
UID:10000400-1758445200-1758456000@macclesfield-harriers.co.uk
SUMMARY:Guilden Sutton 10k
DESCRIPTION:5 bonus points are available as this is a designated race in the Cheshire Grand Prix. Your best 5 races in the series will count towards your standings in the Cheshire Grand Prix.
URL:https://macclesfield-harriers.co.uk/event/guilden-sutton-10k/
CATEGORIES:Club Championship,Road
ATTACH;FMTTYPE=image/jpeg:https://macclesfield-harriers.co.uk/wp-content/uploads/2024/07/Round-the-Runway-scaled.jpg
END:VEVENT
END:VCALENDAR