BEGIN:VCALENDAR
VERSION:2.0
PRODID:-//Macclesfield Harriers &amp; Athletic Club - ECPv6.15.20//NONSGML v1.0//EN
CALSCALE:GREGORIAN
METHOD:PUBLISH
X-WR-CALNAME:Macclesfield Harriers &amp; Athletic Club
X-ORIGINAL-URL:https://macclesfield-harriers.co.uk
X-WR-CALDESC:Events for Macclesfield Harriers &amp; Athletic Club
REFRESH-INTERVAL;VALUE=DURATION:PT1H
X-Robots-Tag:noindex
X-PUBLISHED-TTL:PT1H
BEGIN:VTIMEZONE
TZID:UTC
BEGIN:STANDARD
TZOFFSETFROM:+0000
TZOFFSETTO:+0000
TZNAME:UTC
DTSTART:20240101T000000
END:STANDARD
END:VTIMEZONE
BEGIN:VEVENT
DTSTART;TZID=UTC:20250621T110000
DTEND;TZID=UTC:20250621T170000
DTSTAMP:20260423T005002
CREATED:20250310T182534Z
LAST-MODIFIED:20250310T182534Z
UID:10000417-1750503600-1750525200@macclesfield-harriers.co.uk
SUMMARY:2025 Cheshire Track & Field Grand Prix - Round 3
DESCRIPTION:Round 1 of the Cheshire Track & Field Grand Prix series will be held at Victoria Park\, Warrington. \nThis is an open event for all age groups (U11 to Senior) with entries being made by individual athletes on the Roster Athletics web portal. \nFurther details will be provided once the Roster system has been launched. \nPlease speak to your Team Manager if you need any advice on how to enter.
URL:https://macclesfield-harriers.co.uk/event/2025-cheshire-track-field-grand-prix-round-3/
LOCATION:Ellesmere Port Sports Village\, Stanney Lane\, Ellesmere Port\, CH65 9LB\, United Kingdom
CATEGORIES:Track and Field
ATTACH;FMTTYPE=image/jpeg:https://macclesfield-harriers.co.uk/wp-content/uploads/2024/06/IMG_8348-scaled-e1718740387267.jpg
END:VEVENT
BEGIN:VEVENT
DTSTART;TZID=UTC:20250622T113000
DTEND;TZID=UTC:20250622T173000
DTSTAMP:20260423T005002
CREATED:20250310T184350Z
LAST-MODIFIED:20250614T184858Z
UID:10000419-1750591800-1750613400@macclesfield-harriers.co.uk
SUMMARY:2025 Northern Track and Field League Round 2
DESCRIPTION:Round 2 of the 2025 Northern T&F League will be held at Whitton Park Arena\, Blackburn. \nThis event is only for U17s and Seniors. \nThe order and timing of events can be found here: \n2025-NL-League-Structure-and-venues-V-2.0.pdf \nPlease contact your Team Manager for entry details.
URL:https://macclesfield-harriers.co.uk/event/2025-northern-track-and-field-league-round-2/
LOCATION:Witton Park Arena\, Witton Park Arena\, Preston Old Road\, Blackburn\, Lancashire\, BB2 2TP\, United Kingdom
CATEGORIES:Track and Field
ATTACH;FMTTYPE=image/png:https://macclesfield-harriers.co.uk/wp-content/uploads/2024/04/cxah22pk.png
END:VEVENT
END:VCALENDAR