BEGIN:VCALENDAR
VERSION:2.0
PRODID:-//Macclesfield Harriers &amp; Athletic Club - ECPv6.15.20//NONSGML v1.0//EN
CALSCALE:GREGORIAN
METHOD:PUBLISH
X-ORIGINAL-URL:https://macclesfield-harriers.co.uk
X-WR-CALDESC:Events for Macclesfield Harriers &amp; Athletic Club
REFRESH-INTERVAL;VALUE=DURATION:PT1H
X-Robots-Tag:noindex
X-PUBLISHED-TTL:PT1H
BEGIN:VTIMEZONE
TZID:Europe/London
BEGIN:DAYLIGHT
TZOFFSETFROM:+0000
TZOFFSETTO:+0100
TZNAME:BST
DTSTART:20230326T010000
END:DAYLIGHT
BEGIN:STANDARD
TZOFFSETFROM:+0100
TZOFFSETTO:+0000
TZNAME:GMT
DTSTART:20231029T010000
END:STANDARD
BEGIN:DAYLIGHT
TZOFFSETFROM:+0000
TZOFFSETTO:+0100
TZNAME:BST
DTSTART:20240331T010000
END:DAYLIGHT
BEGIN:STANDARD
TZOFFSETFROM:+0100
TZOFFSETTO:+0000
TZNAME:GMT
DTSTART:20241027T010000
END:STANDARD
BEGIN:DAYLIGHT
TZOFFSETFROM:+0000
TZOFFSETTO:+0100
TZNAME:BST
DTSTART:20250330T010000
END:DAYLIGHT
BEGIN:STANDARD
TZOFFSETFROM:+0100
TZOFFSETTO:+0000
TZNAME:GMT
DTSTART:20251026T010000
END:STANDARD
END:VTIMEZONE
BEGIN:VTIMEZONE
TZID:UTC
BEGIN:STANDARD
TZOFFSETFROM:+0000
TZOFFSETTO:+0000
TZNAME:UTC
DTSTART:20230101T000000
END:STANDARD
END:VTIMEZONE
BEGIN:VEVENT
DTSTART;TZID=Europe/London:20240717T193000
DTEND;TZID=Europe/London:20240717T210000
DTSTAMP:20260423T201634
CREATED:20240121T115325Z
LAST-MODIFIED:20240121T130636Z
UID:10000329-1721244600-1721250000@macclesfield-harriers.co.uk
SUMMARY:2024 Bamford Carnival - Summer Evening Series
DESCRIPTION:Bamford Carnival Fell Race\nWednesday 17th July 2024\, Race starts at 7.30pm.  7.2km\, 320m ascent. \nMinimum age 16 on the day of the race. \nOnline entry via SI Entries  \n£7 FRA members\, £8 non members.  Limited entries on the night £10. \nStart and finish Bamford Recreation Ground\, Grid Ref. 206829. \nFree car parking on the Recreation Ground\, S33 0DA\, off Station Road. \nThe race is licensed by the FRA under UKA Rules.  Category B\, Short. \nThe well marked route goes from Bamford Recreation Ground to the top of Win Hill and back.  Mostly on footpaths with a road section at the beginning and plenty of marshals make this event suitable for novice fell runners and experienced racers.
URL:https://macclesfield-harriers.co.uk/event/2024-bamford-carnival-summer-evening-series/
LOCATION:Bamford Recreation Ground\, Station Road\, Bamford\, S33 0DA
CATEGORIES:Club Championship,Events,Fell,Trail
ATTACH;FMTTYPE=image/jpeg:https://macclesfield-harriers.co.uk/wp-content/uploads/2022/01/2022-Summer-Series.jpg
END:VEVENT
BEGIN:VEVENT
DTSTART;TZID=Europe/London:20240720T090000
DTEND;TZID=Europe/London:20240720T100000
DTSTAMP:20260423T201634
CREATED:20240218T185330Z
LAST-MODIFIED:20240218T195508Z
UID:10000359-1721466000-1721469600@macclesfield-harriers.co.uk
SUMMARY:Warrington parkrun\, 2024
DESCRIPTION:Part of the Cheshire Grand Prix\nFree to enter\nPlease make sure you update your parkrun profile so Macclesfield Harriers & A.C. shows as your club on your profile\nhttps://www.parkrun.org.uk/warrington/
URL:https://macclesfield-harriers.co.uk/event/warrington-parkrun/
CATEGORIES:Club Championship,Road
ATTACH;FMTTYPE=image/png:https://macclesfield-harriers.co.uk/wp-content/uploads/2024/02/Macclesfield-Harriers-for-calendar.png
END:VEVENT
BEGIN:VEVENT
DTSTART;TZID=UTC:20240720T113000
DTEND;TZID=UTC:20240720T170000
DTSTAMP:20260423T201634
CREATED:20240406T215654Z
LAST-MODIFIED:20240409T144956Z
UID:10000369-1721475000-1721494800@macclesfield-harriers.co.uk
SUMMARY:2024 Cheshire Track and Field League: Round 3
DESCRIPTION:Round 3 of the T&F League will be held at Ellesmere Port Sports Village. \nFirst event (Senior Men’s 3000m) starts at 11:45. \nThe full schedule of events can be found here (NB: check the correct round): CL timetables 2024.pdf (cheshireaa.com) \nNB: This event is on a Saturday.
URL:https://macclesfield-harriers.co.uk/event/2024-cheshire-track-and-field-league-round-3-match-2/
LOCATION:Ellesmere Port Sports Village\, Stanney Lane\, Ellesmere Port\, CH65 9LB\, United Kingdom
CATEGORIES:Track and Field
ATTACH;FMTTYPE=image/jpeg:https://macclesfield-harriers.co.uk/wp-content/uploads/2024/04/Cheshire-TF-League-e1712481931441.jpg
END:VEVENT
BEGIN:VEVENT
DTSTART;TZID=UTC:20240721T111500
DTEND;TZID=UTC:20240721T170000
DTSTAMP:20260423T201634
CREATED:20240407T105843Z
LAST-MODIFIED:20240409T144647Z
UID:10000374-1721560500-1721581200@macclesfield-harriers.co.uk
SUMMARY:2024 Youth Development League (Lower Age Group) Round 4
DESCRIPTION:Round 4 of the Youth Development League will be held at Salford Metropolitan AC\, Cleavley Athletics Track\, Eccles. \nFirst event (U13 Girls 70m Hurdles) starts at 11:15.
URL:https://macclesfield-harriers.co.uk/event/2024-ydl-lower-round-4/
LOCATION:Cleavley Athletics Track\, Blantyre Street\, Eccles\, Greater Manchester\, M30 8HY\, United Kingdom
CATEGORIES:Track and Field
ATTACH;FMTTYPE=image/jpeg:https://macclesfield-harriers.co.uk/wp-content/uploads/2024/04/YDL-Logo-e1712482011644.jpg
END:VEVENT
END:VCALENDAR