BEGIN:VCALENDAR
VERSION:2.0
PRODID:-//Macclesfield Harriers &amp; Athletic Club - ECPv6.15.20//NONSGML v1.0//EN
CALSCALE:GREGORIAN
METHOD:PUBLISH
X-ORIGINAL-URL:https://macclesfield-harriers.co.uk
X-WR-CALDESC:Events for Macclesfield Harriers &amp; Athletic Club
REFRESH-INTERVAL;VALUE=DURATION:PT1H
X-Robots-Tag:noindex
X-PUBLISHED-TTL:PT1H
BEGIN:VTIMEZONE
TZID:Europe/London
BEGIN:DAYLIGHT
TZOFFSETFROM:+0000
TZOFFSETTO:+0100
TZNAME:BST
DTSTART:20230326T010000
END:DAYLIGHT
BEGIN:STANDARD
TZOFFSETFROM:+0100
TZOFFSETTO:+0000
TZNAME:GMT
DTSTART:20231029T010000
END:STANDARD
BEGIN:DAYLIGHT
TZOFFSETFROM:+0000
TZOFFSETTO:+0100
TZNAME:BST
DTSTART:20240331T010000
END:DAYLIGHT
BEGIN:STANDARD
TZOFFSETFROM:+0100
TZOFFSETTO:+0000
TZNAME:GMT
DTSTART:20241027T010000
END:STANDARD
BEGIN:DAYLIGHT
TZOFFSETFROM:+0000
TZOFFSETTO:+0100
TZNAME:BST
DTSTART:20250330T010000
END:DAYLIGHT
BEGIN:STANDARD
TZOFFSETFROM:+0100
TZOFFSETTO:+0000
TZNAME:GMT
DTSTART:20251026T010000
END:STANDARD
END:VTIMEZONE
BEGIN:VEVENT
DTSTART;TZID=Europe/London:20240605T193000
DTEND;TZID=Europe/London:20240605T213000
DTSTAMP:20260423T201634
CREATED:20240120T193559Z
LAST-MODIFIED:20240121T130906Z
UID:10000326-1717615800-1717623000@macclesfield-harriers.co.uk
SUMMARY:2024 Boar’s Head - Summer Evening Series
DESCRIPTION:8 miles / 1322 feet of ascent \nCategory BM PM/LK/NS \nWed 5th June 7:30 pm \nBoar’s Head Hotel\, 2 Shrigley Road North\, Poynton \n£5 EOD \nCourse is partially marked with 3 checkpoints
URL:https://macclesfield-harriers.co.uk/event/2024-boars-head-summer-evening-series/
LOCATION:Boar’s Head Hotel\, 2 Shrigley Road North\, Poynton
CATEGORIES:Club Championship,Events,Fell,Trail
ATTACH;FMTTYPE=image/jpeg:https://macclesfield-harriers.co.uk/wp-content/uploads/2022/01/2022-Summer-Series.jpg
END:VEVENT
BEGIN:VEVENT
DTSTART;TZID=Europe/London:20240606T191500
DTEND;TZID=Europe/London:20240606T200000
DTSTAMP:20260423T201634
CREATED:20240218T184615Z
LAST-MODIFIED:20240218T200251Z
UID:10000356-1717701300-1717704000@macclesfield-harriers.co.uk
SUMMARY:Dave Telford Memorial Dunham Massey 5k\, 2024
DESCRIPTION:Part of the Cheshire Grand Prix and the Spectrum Striders Summer Series\nTakes place in the grounds of Dunham Massey National Trust\nhttps://bookitzone.com/julian_spencer/SvjFFX
URL:https://macclesfield-harriers.co.uk/event/dave-telford-memorial-dunham-massey-10k-2024/
LOCATION:Dunham Massey
CATEGORIES:Club Championship,Road
ATTACH;FMTTYPE=image/png:https://macclesfield-harriers.co.uk/wp-content/uploads/2024/02/Macclesfield-Harriers-for-calendar.png
END:VEVENT
BEGIN:VEVENT
DTSTART;TZID=Europe/London:20240608T140000
DTEND;TZID=Europe/London:20240608T170000
DTSTAMP:20260423T201634
CREATED:20230611T072726Z
LAST-MODIFIED:20240120T191831Z
UID:10000319-1717855200-1717866000@macclesfield-harriers.co.uk
SUMMARY:2024 Wincle Trout
DESCRIPTION:Entries open 1/3/2024
URL:https://macclesfield-harriers.co.uk/event/2024-wincle-trout/
LOCATION:Tolls Farm (Wincle Brewery)\, Danebridge\, Wincle\, Macclesfield\, Cheshire\, SK11 0QE\, Tolls Farm (Wincle Brewery)\, Danebridge\, Cheshire\, SK11 0QE\, United Kingdom
CATEGORIES:Club Races,Fell,Trail
ATTACH;FMTTYPE=image/jpeg:https://macclesfield-harriers.co.uk/wp-content/uploads/2022/06/WT-1.jpg
ORGANIZER;CN="Rob Gittins":MAILTO:rob@janhill.co.uk
END:VEVENT
BEGIN:VEVENT
DTSTART;TZID=Europe/London:20240609T110000
DTEND;TZID=Europe/London:20240609T140000
DTSTAMP:20260423T201634
CREATED:20240121T165452Z
LAST-MODIFIED:20240121T165452Z
UID:10000345-1717930800-1717941600@macclesfield-harriers.co.uk
SUMMARY:2024 Howtown - High Fell Series
DESCRIPTION:RACE DETAILS\n\nDate & time: Sun 9 Jun 2023 at 11:00\nStart time info: 5 mins from Registration. Registration will close at 10.50am or when race full.\nCountry: England\nRegion: Lake District\nCategory: AL\nDistance: 21.4 km / 13.3 miles\nClimb: 1400 m / 4593 ft\nVenue: Howtown Bobbin Mill\, CA10 2ND\nGrid reference: 443196\nSkills: ER\, LK\, NS\nMinimum age: 18\n\nENTRY INFORMATION\n\nEntry on day: Yes\nEntry on day fee: £6.00\nPre-entry: No\nEntry limited to 100. Keen to keep it EOD but know entry limit puts people off travelling too far. Those travelling a significant journey can send me a message the week before the race I will hold them a place until 10.30 on the day (up to 30 places)
URL:https://macclesfield-harriers.co.uk/event/2024-howtown-high-fell-series/
LOCATION:Howtown Bobbin Mill\, CA10 2ND
CATEGORIES:Club Championship,Events,Fell,Trail
ATTACH;FMTTYPE=image/jpeg:https://macclesfield-harriers.co.uk/wp-content/uploads/2022/01/2022-High-Fell-Series.jpg
END:VEVENT
END:VCALENDAR