BEGIN:VCALENDAR
VERSION:2.0
PRODID:-//Macclesfield Harriers &amp; Athletic Club - ECPv6.15.20//NONSGML v1.0//EN
CALSCALE:GREGORIAN
METHOD:PUBLISH
X-WR-CALNAME:Macclesfield Harriers &amp; Athletic Club
X-ORIGINAL-URL:https://macclesfield-harriers.co.uk
X-WR-CALDESC:Events for Macclesfield Harriers &amp; Athletic Club
REFRESH-INTERVAL;VALUE=DURATION:PT1H
X-Robots-Tag:noindex
X-PUBLISHED-TTL:PT1H
BEGIN:VTIMEZONE
TZID:Europe/London
BEGIN:DAYLIGHT
TZOFFSETFROM:+0000
TZOFFSETTO:+0100
TZNAME:BST
DTSTART:20230326T010000
END:DAYLIGHT
BEGIN:STANDARD
TZOFFSETFROM:+0100
TZOFFSETTO:+0000
TZNAME:GMT
DTSTART:20231029T010000
END:STANDARD
BEGIN:DAYLIGHT
TZOFFSETFROM:+0000
TZOFFSETTO:+0100
TZNAME:BST
DTSTART:20240331T010000
END:DAYLIGHT
BEGIN:STANDARD
TZOFFSETFROM:+0100
TZOFFSETTO:+0000
TZNAME:GMT
DTSTART:20241027T010000
END:STANDARD
BEGIN:DAYLIGHT
TZOFFSETFROM:+0000
TZOFFSETTO:+0100
TZNAME:BST
DTSTART:20250330T010000
END:DAYLIGHT
BEGIN:STANDARD
TZOFFSETFROM:+0100
TZOFFSETTO:+0000
TZNAME:GMT
DTSTART:20251026T010000
END:STANDARD
END:VTIMEZONE
BEGIN:VTIMEZONE
TZID:UTC
BEGIN:STANDARD
TZOFFSETFROM:+0000
TZOFFSETTO:+0000
TZNAME:UTC
DTSTART:20230101T000000
END:STANDARD
END:VTIMEZONE
BEGIN:VTIMEZONE
TZID:Atlantic/Azores
BEGIN:DAYLIGHT
TZOFFSETFROM:-0100
TZOFFSETTO:+0000
TZNAME:+00
DTSTART:20230326T010000
END:DAYLIGHT
BEGIN:STANDARD
TZOFFSETFROM:+0000
TZOFFSETTO:-0100
TZNAME:-01
DTSTART:20231029T010000
END:STANDARD
BEGIN:DAYLIGHT
TZOFFSETFROM:-0100
TZOFFSETTO:+0000
TZNAME:+00
DTSTART:20240331T010000
END:DAYLIGHT
BEGIN:STANDARD
TZOFFSETFROM:+0000
TZOFFSETTO:-0100
TZNAME:-01
DTSTART:20241027T010000
END:STANDARD
BEGIN:DAYLIGHT
TZOFFSETFROM:-0100
TZOFFSETTO:+0000
TZNAME:+00
DTSTART:20250330T010000
END:DAYLIGHT
BEGIN:STANDARD
TZOFFSETFROM:+0000
TZOFFSETTO:-0100
TZNAME:-01
DTSTART:20251026T010000
END:STANDARD
END:VTIMEZONE
BEGIN:VEVENT
DTSTART;TZID=Europe/London:20240517T191500
DTEND;TZID=Europe/London:20240517T200000
DTSTAMP:20260423T201432
CREATED:20240218T183436Z
LAST-MODIFIED:20240218T195132Z
UID:10000355-1715973300-1715976000@macclesfield-harriers.co.uk
SUMMARY:Christleton 5k\, 2024
DESCRIPTION:Flat 5k with PB potential\, organisers claim that ‘most local runners can claim to have set their 5K PB at Christleton\nPart of the Cheshire Grand Prix series\nhttps://www.chestertri.org.uk/our-races/christleton-5k/
URL:https://macclesfield-harriers.co.uk/event/christleton-5k/
LOCATION:Christleton Sports Centre
CATEGORIES:Club Championship,Road
ATTACH;FMTTYPE=image/png:https://macclesfield-harriers.co.uk/wp-content/uploads/2024/02/Macclesfield-Harriers-for-calendar.png
END:VEVENT
BEGIN:VEVENT
DTSTART;TZID=UTC:20240518T113000
DTEND;TZID=UTC:20240518T173000
DTSTAMP:20260423T201432
CREATED:20240407T152224Z
LAST-MODIFIED:20240409T134132Z
UID:10000375-1716031800-1716053400@macclesfield-harriers.co.uk
SUMMARY:2024 Northern Track and Field League Round 1
DESCRIPTION:Round 1 of the Northern T&F League will be held at Deeside AAC\, Deeside Stadium\, Connah’s Quay. \nThis event is only for U17s and Seniors. \nThe order and timing of events can be found here: 2024-Northern-TF-League-Rules-of-Competition.pdf (northernathletics.co.uk)
URL:https://macclesfield-harriers.co.uk/event/2024-northern-tf-league-round-1/
LOCATION:Deeside Stadium\, Kelserton Road\, Connah's Quay\, CH5 4BR\, United Kingdom
CATEGORIES:Track and Field
ATTACH;FMTTYPE=image/png:https://macclesfield-harriers.co.uk/wp-content/uploads/2024/04/cxah22pk.png
END:VEVENT
BEGIN:VEVENT
DTSTART;TZID=Europe/London:20240519T100000
DTEND;TZID=Europe/London:20240519T170000
DTSTAMP:20260423T201432
CREATED:20240121T160443Z
LAST-MODIFIED:20240121T163727Z
UID:10000336-1716112800-1716138000@macclesfield-harriers.co.uk
SUMMARY:2024 Shutlingsloe - Peaks Trail Series
DESCRIPTION:AS 3km 270m \n£6 from nifty entries \n 
URL:https://macclesfield-harriers.co.uk/event/2024-shutlingsloe-peaks-trail-series/
CATEGORIES:Club Championship,Events,Fell,Trail
ATTACH;FMTTYPE=image/jpeg:https://macclesfield-harriers.co.uk/wp-content/uploads/2022/01/2022-Peaks-Trail-Seriesl.jpg
END:VEVENT
BEGIN:VEVENT
DTSTART;TZID=Atlantic/Azores:20240519T111500
DTEND;TZID=Atlantic/Azores:20240519T170000
DTSTAMP:20260423T201432
CREATED:20240407T105647Z
LAST-MODIFIED:20240409T152744Z
UID:10000372-1716117300-1716138000@macclesfield-harriers.co.uk
SUMMARY:2024 Youth Development League (Lower Age Group) Round 2
DESCRIPTION:Round 2 of the Youth Development League will be held at Macclesfield Athletics Track. \nFirst event (U13 Girls 70m Hurdles) starts at 11:15.
URL:https://macclesfield-harriers.co.uk/event/2024-ydl-lower-round-2/
LOCATION:Macclesfield Athletics Track\, Priory Lane\, Macclesfield\, Cheshire\, SK10 4AF\, United Kingdom
CATEGORIES:Track and Field
ATTACH;FMTTYPE=image/jpeg:https://macclesfield-harriers.co.uk/wp-content/uploads/2024/04/YDL-Logo-e1712482011644.jpg
END:VEVENT
END:VCALENDAR