BEGIN:VCALENDAR
VERSION:2.0
PRODID:-//Macclesfield Harriers &amp; Athletic Club - ECPv6.15.20//NONSGML v1.0//EN
CALSCALE:GREGORIAN
METHOD:PUBLISH
X-WR-CALNAME:Macclesfield Harriers &amp; Athletic Club
X-ORIGINAL-URL:https://macclesfield-harriers.co.uk
X-WR-CALDESC:Events for Macclesfield Harriers &amp; Athletic Club
REFRESH-INTERVAL;VALUE=DURATION:PT1H
X-Robots-Tag:noindex
X-PUBLISHED-TTL:PT1H
BEGIN:VTIMEZONE
TZID:UTC
BEGIN:STANDARD
TZOFFSETFROM:+0000
TZOFFSETTO:+0000
TZNAME:UTC
DTSTART:20240101T000000
END:STANDARD
END:VTIMEZONE
BEGIN:VEVENT
DTSTART;TZID=UTC:20250713T113000
DTEND;TZID=UTC:20250713T173000
DTSTAMP:20260422T213804
CREATED:20250310T184613Z
LAST-MODIFIED:20250310T184613Z
UID:10000420-1752406200-1752427800@macclesfield-harriers.co.uk
SUMMARY:2025 Northern Track and Field League Round 3
DESCRIPTION:Round 3 of the 2025 Northern T&F League will be held at Macclesfield Athletics track. \nThis event is only for U17s and Seniors. \nThe order and timing of events can be found here: \n2025-NL-League-Structure-and-venues-V-2.0.pdf \nPlease contact your Team Manager for entry details.
URL:https://macclesfield-harriers.co.uk/event/2025-northern-track-and-field-league-round-3/
LOCATION:Macclesfield Leisure Centre
CATEGORIES:Track and Field
ATTACH;FMTTYPE=image/png:https://macclesfield-harriers.co.uk/wp-content/uploads/2024/04/cxah22pk.png
END:VEVENT
BEGIN:VEVENT
DTSTART;TZID=UTC:20250720T111500
DTEND;TZID=UTC:20250720T170000
DTSTAMP:20260422T213804
CREATED:20250309T221630Z
LAST-MODIFIED:20250309T221630Z
UID:10000413-1753010100-1753030800@macclesfield-harriers.co.uk
SUMMARY:2025 Youth Development League (Lower Age Group) Round 4
DESCRIPTION:Round 4 of the Youth Development League will be held at Macclesfield Athletics Track. \nThis league is for U13s and U15s only. \nFirst event (U13 Girls 70m Hurdles) starts at 11:15. \nPlease speak to your Team Manager if you would like to compete in this event\, as they will register the team.
URL:https://macclesfield-harriers.co.uk/event/2025-youth-development-league-lower-age-group-round-4/
LOCATION:Macclesfield Athletics Track\, Priory Lane\, Macclesfield\, Cheshire\, SK10 4AF\, United Kingdom
CATEGORIES:Track and Field
ATTACH;FMTTYPE=image/jpeg:https://macclesfield-harriers.co.uk/wp-content/uploads/2024/04/YDL-Logo-e1712482011644.jpg
END:VEVENT
BEGIN:VEVENT
DTSTART;TZID=UTC:20250726T090000
DTEND;TZID=UTC:20250726T100000
DTSTAMP:20260422T213804
CREATED:20250117T123257Z
LAST-MODIFIED:20250117T123257Z
UID:10000394-1753520400-1753524000@macclesfield-harriers.co.uk
SUMMARY:Macclesfield parkrun
DESCRIPTION:Register as a Macclesfield Harrier on the parkrun website for your score to count towards the 2025 Club Championship
URL:https://macclesfield-harriers.co.uk/event/macclesfield-parkrun-2/
CATEGORIES:Club Championship,Road
ATTACH;FMTTYPE=image/jpeg:https://macclesfield-harriers.co.uk/wp-content/uploads/2024/07/Round-the-Runway-scaled.jpg
END:VEVENT
BEGIN:VEVENT
DTSTART;VALUE=DATE:20250728
DTEND;VALUE=DATE:20250803
DTSTAMP:20260422T213804
CREATED:20250713T162556Z
LAST-MODIFIED:20250713T162556Z
UID:10000425-1753675200-1754107199@macclesfield-harriers.co.uk
SUMMARY:2025 Startrack
DESCRIPTION:An introduction to athletics provided by Macclesfield Harriers & Everybody Sport and Leisure. \nALL DETAILS HERE
URL:https://macclesfield-harriers.co.uk/event/2025-startrack/
LOCATION:Macclesfield Athletics Track\, Priory Lane\, Macclesfield\, Cheshire\, SK10 4AF\, United Kingdom
CATEGORIES:Track and Field
END:VEVENT
END:VCALENDAR