BEGIN:VCALENDAR
VERSION:2.0
PRODID:-//Macclesfield Harriers &amp; Athletic Club - ECPv6.15.20//NONSGML v1.0//EN
CALSCALE:GREGORIAN
METHOD:PUBLISH
X-WR-CALNAME:Macclesfield Harriers &amp; Athletic Club
X-ORIGINAL-URL:https://macclesfield-harriers.co.uk
X-WR-CALDESC:Events for Macclesfield Harriers &amp; Athletic Club
REFRESH-INTERVAL;VALUE=DURATION:PT1H
X-Robots-Tag:noindex
X-PUBLISHED-TTL:PT1H
BEGIN:VTIMEZONE
TZID:UTC
BEGIN:STANDARD
TZOFFSETFROM:+0000
TZOFFSETTO:+0000
TZNAME:UTC
DTSTART:20240101T000000
END:STANDARD
END:VTIMEZONE
BEGIN:VEVENT
DTSTART;TZID=UTC:20250405T090000
DTEND;TZID=UTC:20250405T100000
DTSTAMP:20260423T043604
CREATED:20250117T123132Z
LAST-MODIFIED:20250117T123547Z
UID:10000393-1743843600-1743847200@macclesfield-harriers.co.uk
SUMMARY:Congleton parkrun
DESCRIPTION:Register as a Macclesfield Harrier on the parkrun website for your score to count towards the 2025 Club Championship.
URL:https://macclesfield-harriers.co.uk/event/congleton-parkrun/
CATEGORIES:Club Championship,Road
ATTACH;FMTTYPE=image/jpeg:https://macclesfield-harriers.co.uk/wp-content/uploads/2024/07/Round-the-Runway-scaled.jpg
END:VEVENT
BEGIN:VEVENT
DTSTART;TZID=UTC:20250420T090000
DTEND;TZID=UTC:20250420T120000
DTSTAMP:20260423T043604
CREATED:20250117T123915Z
LAST-MODIFIED:20250117T123915Z
UID:10000396-1745139600-1745150400@macclesfield-harriers.co.uk
SUMMARY:Crewe 10k
DESCRIPTION:5 bonus points are available as this is a designated race in the Cheshire Grand Prix. Your best 5 races in the series will count towards your standings in the Cheshire Grand Prix.
URL:https://macclesfield-harriers.co.uk/event/crewe-10k/
CATEGORIES:Club Championship,Road
ATTACH;FMTTYPE=image/jpeg:https://macclesfield-harriers.co.uk/wp-content/uploads/2024/07/Round-the-Runway-scaled.jpg
END:VEVENT
BEGIN:VEVENT
DTSTART;TZID=UTC:20250426T110000
DTEND;TZID=UTC:20250426T170000
DTSTAMP:20260423T043604
CREATED:20250310T181655Z
LAST-MODIFIED:20250310T182246Z
UID:10000414-1745665200-1745686800@macclesfield-harriers.co.uk
SUMMARY:2025 Cheshire Track & Field Grand Prix - Round 1
DESCRIPTION:Round 1 of the Cheshire Track & Field Grand Prix series will be held at Ellesmere Port Sports Village. \nThis is an open event for all age groups (U11 to Senior) with entries being made by individual athletes on the Roster Athletics web portal. \nFurther details will be provided once the Roster system has been launched. \nPlease speak to your Team Manager if you need any advice on how to enter.
URL:https://macclesfield-harriers.co.uk/event/cheshire-track-field-grand-prix-r1/
LOCATION:Ellesmere Port Sports Village\, Stanney Lane\, Ellesmere Port\, CH65 9LB\, United Kingdom
CATEGORIES:Track and Field
ATTACH;FMTTYPE=image/jpeg:https://macclesfield-harriers.co.uk/wp-content/uploads/2024/06/IMG_8348-scaled-e1718740387267.jpg
END:VEVENT
END:VCALENDAR