BEGIN:VCALENDAR
VERSION:2.0
PRODID:-//Macclesfield Harriers &amp; Athletic Club - ECPv6.15.20//NONSGML v1.0//EN
CALSCALE:GREGORIAN
METHOD:PUBLISH
X-ORIGINAL-URL:https://macclesfield-harriers.co.uk
X-WR-CALDESC:Events for Macclesfield Harriers &amp; Athletic Club
REFRESH-INTERVAL;VALUE=DURATION:PT1H
X-Robots-Tag:noindex
X-PUBLISHED-TTL:PT1H
BEGIN:VTIMEZONE
TZID:Europe/London
BEGIN:DAYLIGHT
TZOFFSETFROM:+0000
TZOFFSETTO:+0100
TZNAME:BST
DTSTART:20230326T010000
END:DAYLIGHT
BEGIN:STANDARD
TZOFFSETFROM:+0100
TZOFFSETTO:+0000
TZNAME:GMT
DTSTART:20231029T010000
END:STANDARD
BEGIN:DAYLIGHT
TZOFFSETFROM:+0000
TZOFFSETTO:+0100
TZNAME:BST
DTSTART:20240331T010000
END:DAYLIGHT
BEGIN:STANDARD
TZOFFSETFROM:+0100
TZOFFSETTO:+0000
TZNAME:GMT
DTSTART:20241027T010000
END:STANDARD
BEGIN:DAYLIGHT
TZOFFSETFROM:+0000
TZOFFSETTO:+0100
TZNAME:BST
DTSTART:20250330T010000
END:DAYLIGHT
BEGIN:STANDARD
TZOFFSETFROM:+0100
TZOFFSETTO:+0000
TZNAME:GMT
DTSTART:20251026T010000
END:STANDARD
END:VTIMEZONE
BEGIN:VTIMEZONE
TZID:UTC
BEGIN:STANDARD
TZOFFSETFROM:+0000
TZOFFSETTO:+0000
TZNAME:UTC
DTSTART:20230101T000000
END:STANDARD
END:VTIMEZONE
BEGIN:VEVENT
DTSTART;TZID=Europe/London:20240803T143000
DTEND;TZID=Europe/London:20240803T163000
DTSTAMP:20260423T123135
CREATED:20240121T162144Z
LAST-MODIFIED:20240121T163420Z
UID:10000339-1722695400-1722702600@macclesfield-harriers.co.uk
SUMMARY:2024 Teggs Nose - Peaks Trail Series
DESCRIPTION:Tegg’s Nose fell race – Saturday 3rd August 2024\n\nStart at 14.30 for men & women\nOnline entry: £5.00 plus £1 booking fee\nEntry on the day: £7.00\nEntries close at midnight on Thursday 1st August.\nThis race has a Permit and associated UK Athletics insurance from the FRA\nLocation: Trials Field\, Bullocks Lane\, Sutton\, Macclesfield\, SK11 0HE\nStart time: 14:30
URL:https://macclesfield-harriers.co.uk/event/2024-teggs-nose-peaks-trail-series/
LOCATION:Trials Field\, Bullocks Lane\, Sutton\, SK11 0HE
CATEGORIES:Club Championship,Events,Fell,Trail
ATTACH;FMTTYPE=image/jpeg:https://macclesfield-harriers.co.uk/wp-content/uploads/2022/01/2022-Peaks-Trail-Seriesl.jpg
END:VEVENT
BEGIN:VEVENT
DTSTART;TZID=Europe/London:20240807T191500
DTEND;TZID=Europe/London:20240807T203000
DTSTAMP:20260423T123135
CREATED:20240121T170622Z
LAST-MODIFIED:20240121T170622Z
UID:10000347-1723058100-1723062600@macclesfield-harriers.co.uk
SUMMARY:2024 Steel Fell - High Fell Series
DESCRIPTION:Date & time: Wed 7 Aug 2023 at 19:15\nCountry: England\nRegion: Lake District\nCategory: AS\nWebsite: http://www.borrowdalefellrunners.co.uk\nDistance: 5 km / 3.1 miles\nClimb: 400 m / 1312 ft\nVenue: Steel End Farm\, Thirlmere.\nGrid reference: 322128\nSkills: PM\nMinimum age: 16\n\nENTRY INFORMATION\n\nEntry on day: Yes\nEntry on day fee: £0.00\nPre-entry: No\nMaybe a prize or two.\nDonation to charity if you wish.
URL:https://macclesfield-harriers.co.uk/event/2024-steel-fell-high-fell-series/
LOCATION:Steel End Farm\, Thirlmere
CATEGORIES:Club Championship,Events,Fell,Trail
ATTACH;FMTTYPE=image/jpeg:https://macclesfield-harriers.co.uk/wp-content/uploads/2022/01/2022-High-Fell-Series.jpg
END:VEVENT
BEGIN:VEVENT
DTSTART;TZID=Europe/London:20240807T191500
DTEND;TZID=Europe/London:20240807T210000
DTSTAMP:20260423T123135
CREATED:20240121T121033Z
LAST-MODIFIED:20240121T130527Z
UID:10000330-1723058100-1723064400@macclesfield-harriers.co.uk
SUMMARY:2024 Steel Fell - Summer Evening Series
DESCRIPTION:AS 5km 400m \nSteel End Farm\, Thirlmere \n 
URL:https://macclesfield-harriers.co.uk/event/2024-steel-fell-summer-evening-series/
LOCATION:Steel End Farm\, Thirlmere
CATEGORIES:Club Championship,Events,Fell,Trail
ATTACH;FMTTYPE=image/jpeg:https://macclesfield-harriers.co.uk/wp-content/uploads/2022/01/2022-Summer-Series.jpg
END:VEVENT
BEGIN:VEVENT
DTSTART;TZID=Europe/London:20240811T100000
DTEND;TZID=Europe/London:20240811T120000
DTSTAMP:20260423T123135
CREATED:20240218T190019Z
LAST-MODIFIED:20240218T195707Z
UID:10000361-1723370400-1723377600@macclesfield-harriers.co.uk
SUMMARY:Sandbach 10k\, 2024
DESCRIPTION:Part of the Cheshire Grand Prix\nDescribed as ‘a largely flat course navigating the stunning rural Cheshire East countryside where PBs are often found’\nhttps://www.avtiming.com/sandbach10k
URL:https://macclesfield-harriers.co.uk/event/sandbach-10k-2024/
LOCATION:Sandbach Rugby Club
CATEGORIES:Club Championship,Road
ATTACH;FMTTYPE=image/png:https://macclesfield-harriers.co.uk/wp-content/uploads/2024/02/Macclesfield-Harriers-for-calendar.png
END:VEVENT
BEGIN:VEVENT
DTSTART;TZID=Europe/London:20240814T193000
DTEND;TZID=Europe/London:20240814T210000
DTSTAMP:20260423T123135
CREATED:20240121T121554Z
LAST-MODIFIED:20240121T130423Z
UID:10000331-1723663800-1723669200@macclesfield-harriers.co.uk
SUMMARY:2024 Eccles Pike - Summer Event Series
DESCRIPTION:This is one of the oldest fell races in the country with a history going back over 100 years. It is renowned for being short\, tough and demanding. \nDistance of 3.4 miles with 1001 feet of climb. \nThis year we will be using the Bugsworth War Memorial Club as Race HQ\, this is just around the corner from the canal basin and the old venue and is much closer to the start of the race.  Please be aware that if you park at the Navigation Inn you may be charged a fee unless you go in and spend money at the bar.  There is a large car park available at Tesco only 1km away on the canal.  Other parking will be available on the day\, please read the race brief email that will be sent out a few days before the race for details. \nNumbers will be picked up on the day. \nStart time 7.30pm\, this race often sells out which makes it unlikely there will be entries on the day.
URL:https://macclesfield-harriers.co.uk/event/2024-eccles-pike-summer-event-series/
LOCATION:Bugsworth War Memorial Club\, 1 Station Road\, Buxworth\, SK23 7NJ
CATEGORIES:Club Championship,Events,Fell,Trail
ATTACH;FMTTYPE=image/jpeg:https://macclesfield-harriers.co.uk/wp-content/uploads/2022/01/2022-Summer-Series.jpg
END:VEVENT
BEGIN:VEVENT
DTSTART;TZID=Europe/London:20240817T090000
DTEND;TZID=Europe/London:20240817T170000
DTSTAMP:20260423T123135
CREATED:20240218T190405Z
LAST-MODIFIED:20240218T195934Z
UID:10000362-1723885200-1723914000@macclesfield-harriers.co.uk
SUMMARY:Macclesfield parkrun\, 2024
DESCRIPTION:Our local parkrun!\nFree to enter\nBring your friends and family along so we have as many people as possible with connections to the club!\nPlease make sure you update your parkrun profile to show you as  a member of Macclesfield Harriers & A.C. before the event begins\nhttps://www.parkrun.org.uk/macclesfield/
URL:https://macclesfield-harriers.co.uk/event/macclesfield-parkrun-2024/
LOCATION:South Park\, Macclesfield
CATEGORIES:Club Championship,Road
ATTACH;FMTTYPE=image/png:https://macclesfield-harriers.co.uk/wp-content/uploads/2024/02/Macclesfield-Harriers-for-calendar.png
END:VEVENT
BEGIN:VEVENT
DTSTART;TZID=UTC:20240825T113000
DTEND;TZID=UTC:20240825T170000
DTSTAMP:20260423T123135
CREATED:20240406T215836Z
LAST-MODIFIED:20240824T181953Z
UID:10000370-1724585400-1724605200@macclesfield-harriers.co.uk
SUMMARY:2024 Cheshire Track and Field League: Round 4
DESCRIPTION:Round 4 of the T&F League will be held at East Cheshire Harriers & Tameside AC in Ashton-under-Lyne. \nFirst event (Senior Men’s 3000m) starts at 11:45. \nThe full schedule of events can be found here (NB: check the correct round): CL timetables 2024.pdf (cheshireaa.com)
URL:https://macclesfield-harriers.co.uk/event/2024-cheshire-track-and-field-league-round-4-match-1-2/
LOCATION:Tameside Stadium\, Richmond Street\, Ashton-Under-Lyne\, OL7 9HG\, United Kingdom
CATEGORIES:Track and Field
ATTACH;FMTTYPE=image/jpeg:https://macclesfield-harriers.co.uk/wp-content/uploads/2024/04/Cheshire-TF-League-e1712481931441.jpg
END:VEVENT
BEGIN:VEVENT
DTSTART;TZID=Europe/London:20240831T110000
DTEND;TZID=Europe/London:20240831T140000
DTSTAMP:20260423T123135
CREATED:20240121T171101Z
LAST-MODIFIED:20240121T171101Z
UID:10000348-1725102000-1725112800@macclesfield-harriers.co.uk
SUMMARY:2024 Grizedale Horsehoe - High Fell Series
DESCRIPTION:The Grisedale Horseshoe Fell Race \nDistance: 16km / 9.9m   Climb: 1525m / 5003ft \nRegistration: Glenridding Village Hall FROM 9.30am \nFULL FRA KIT REQUIRED. NO GPS ALLOWED \n* Note that there is a 1.30pm cut off at Grisedale Tarn. \n**A misconception often quoted is that we go to Hole in the Wall after St Sunday Crag. This is incorrect. The Hole in the Wall is approx 500 feet (150 metres) higher & 3/4 of a mile (1.2km) in the wrong direction to the finish from where the race route crosses the wall. \nCar parking is at Patterdale Cricket Club (CA11 0PJ) which is a ten minute walk from registration/start. £5 cash per car. FULL FRA KIT IS REQUIRED AND WILL BE CHECKED AT THE VILLAGE HALL BEFORE YOU REGISTER
URL:https://macclesfield-harriers.co.uk/event/2024-grizedale-horsehoe-high-fell-series/
LOCATION:Glenridding Village Hal\, Glenridding\, Penrith
CATEGORIES:Club Championship,Events,Fell,Trail
ATTACH;FMTTYPE=image/jpeg:https://macclesfield-harriers.co.uk/wp-content/uploads/2022/01/2022-High-Fell-Series.jpg
END:VEVENT
END:VCALENDAR