BEGIN:VCALENDAR
VERSION:2.0
PRODID:-//Macclesfield Harriers &amp; Athletic Club - ECPv6.15.20//NONSGML v1.0//EN
CALSCALE:GREGORIAN
METHOD:PUBLISH
X-ORIGINAL-URL:https://macclesfield-harriers.co.uk
X-WR-CALDESC:Events for Macclesfield Harriers &amp; Athletic Club
REFRESH-INTERVAL;VALUE=DURATION:PT1H
X-Robots-Tag:noindex
X-PUBLISHED-TTL:PT1H
BEGIN:VTIMEZONE
TZID:Europe/London
BEGIN:DAYLIGHT
TZOFFSETFROM:+0000
TZOFFSETTO:+0100
TZNAME:BST
DTSTART:20230326T010000
END:DAYLIGHT
BEGIN:STANDARD
TZOFFSETFROM:+0100
TZOFFSETTO:+0000
TZNAME:GMT
DTSTART:20231029T010000
END:STANDARD
BEGIN:DAYLIGHT
TZOFFSETFROM:+0000
TZOFFSETTO:+0100
TZNAME:BST
DTSTART:20240331T010000
END:DAYLIGHT
BEGIN:STANDARD
TZOFFSETFROM:+0100
TZOFFSETTO:+0000
TZNAME:GMT
DTSTART:20241027T010000
END:STANDARD
BEGIN:DAYLIGHT
TZOFFSETFROM:+0000
TZOFFSETTO:+0100
TZNAME:BST
DTSTART:20250330T010000
END:DAYLIGHT
BEGIN:STANDARD
TZOFFSETFROM:+0100
TZOFFSETTO:+0000
TZNAME:GMT
DTSTART:20251026T010000
END:STANDARD
END:VTIMEZONE
BEGIN:VEVENT
DTSTART;TZID=Europe/London:20240317T110000
DTEND;TZID=Europe/London:20240317T120000
DTSTAMP:20260423T201632
CREATED:20240218T180433Z
LAST-MODIFIED:20240218T200036Z
UID:10000352-1710673200-1710676800@macclesfield-harriers.co.uk
SUMMARY:High Legh 10k\, 2024
DESCRIPTION:Part of the Cheshire Grand Prix series\n‘Generally flat leafy Cheshire lanes with only a few rolling sections’\nRace website
URL:https://macclesfield-harriers.co.uk/event/high-legh-10k-2024/
LOCATION:High Legh Primary School
CATEGORIES:Club Championship,Road
ATTACH;FMTTYPE=image/png:https://macclesfield-harriers.co.uk/wp-content/uploads/2024/02/Macclesfield-Harriers-for-calendar.png
END:VEVENT
BEGIN:VEVENT
DTSTART;TZID=Europe/London:20240317T120000
DTEND;TZID=Europe/London:20240317T140000
DTSTAMP:20260423T201632
CREATED:20240121T165042Z
LAST-MODIFIED:20240121T165042Z
UID:10000344-1710676800-1710684000@macclesfield-harriers.co.uk
SUMMARY:2024 Muncaster Luck - High Fell Series
DESCRIPTION:RACE DETAILS\n\nDate & time: Sun 17 Mar 2023 at 12:00\nCountry: England\nRegion: Lake District\nCategory: BM\nWebsite: http://muncaster.fellrace.org.uk\nDistance: 15 km / 9.3 miles\nClimb: 620 m / 2034 ft\nVenue: Muncaster Castle car park\, CA18 1RD\nGrid reference: SD097966\nSkills: ER\, LK\, NS\nMinimum age: 18\n\nENTRY INFORMATION\n\nEntry on day: Yes\nEntry on day fee: £5.00\nPre-entry: No\nEOD only. Cash only.
URL:https://macclesfield-harriers.co.uk/event/2024-muncaster-luck-high-fell-series/
LOCATION:Muncaster Castle Car Park\, CA18 1RD
CATEGORIES:Club Championship,Events,Fell,Trail
ATTACH;FMTTYPE=image/jpeg:https://macclesfield-harriers.co.uk/wp-content/uploads/2022/01/2022-High-Fell-Series.jpg
END:VEVENT
BEGIN:VEVENT
DTSTART;TZID=Europe/London:20240322T190000
DTEND;TZID=Europe/London:20240322T220000
DTSTAMP:20260423T201632
CREATED:20230520T174219Z
LAST-MODIFIED:20230520T174219Z
UID:10000316-1711134000-1711144800@macclesfield-harriers.co.uk
SUMMARY:2023/2024 AGM
DESCRIPTION:
URL:https://macclesfield-harriers.co.uk/event/2023-2024-agm/
LOCATION:Macclesfield Rugby Club\, Priory Park\, Priory Ln\, Macclesfield\, Cheshire\, SK10 4AF\, United Kingdom
CATEGORIES:Events,Social
END:VEVENT
BEGIN:VEVENT
DTSTART;TZID=Europe/London:20240322T190000
DTEND;TZID=Europe/London:20240322T220000
DTSTAMP:20260423T201632
CREATED:20250117T193404Z
LAST-MODIFIED:20250117T193600Z
UID:10000409-1711134000-1711144800@macclesfield-harriers.co.uk
SUMMARY:2024/2025 AGM
DESCRIPTION:
URL:https://macclesfield-harriers.co.uk/event/2024-2025-agm/
LOCATION:Macclesfield Rugby Club\, Priory Park\, Priory Ln\, Macclesfield\, Cheshire\, SK10 4AF\, United Kingdom
CATEGORIES:Cross Country,Events,Fell,Road,Social,Track and Field,Trail
ATTACH;FMTTYPE=image/jpeg:https://macclesfield-harriers.co.uk/wp-content/uploads/2021/07/MHAC-WELCOME-V3.jpg
END:VEVENT
BEGIN:VEVENT
DTSTART;TZID=Europe/London:20240323T110000
DTEND;TZID=Europe/London:20240323T140000
DTSTAMP:20260423T201632
CREATED:20240121T155607Z
LAST-MODIFIED:20240121T155607Z
UID:10000334-1711191600-1711202400@macclesfield-harriers.co.uk
SUMMARY:2024 Chicken Run - Peaks Trail Series
DESCRIPTION:The Chicken Run is back with it’s ‘Fowl’ and ‘Fowler’ options. The Fowl route covers 10.3km and the Fowler route is 13.1km. Both routes go up and over Lantern Pike and take in some truly magnificent scenery\, with hopefully some far reaching views on the day \nIt was amazing to see so many runners at the previous Chicken Run and we hope that you’ll all come back for some more eggsceptional fell running \nIf you have any questions please get in touch \nDistance – 10.3km or 13.1km \nFree parking. \nFurther details here – https://fellrunner.org.uk/races.php
URL:https://macclesfield-harriers.co.uk/event/2024-chicken-run-peaks-trail-series/
LOCATION:Hayfield Primary School\, Swallow House Ln\, Hayfield\, SK22 2HB
CATEGORIES:Club Championship,Events,Fell,Trail
ATTACH;FMTTYPE=image/jpeg:https://macclesfield-harriers.co.uk/wp-content/uploads/2022/01/2022-Peaks-Trail-Seriesl.jpg
END:VEVENT
BEGIN:VEVENT
DTSTART;TZID=Europe/London:20240324T093000
DTEND;TZID=Europe/London:20240324T120000
DTSTAMP:20260423T201632
CREATED:20240218T181522Z
LAST-MODIFIED:20240218T200108Z
UID:10000353-1711272600-1711281600@macclesfield-harriers.co.uk
SUMMARY:Wilmslow Running Festival\, 2024
DESCRIPTION:10k or Half Marathon\nPacers for both distances\nPopular race among club members\nClub members will be marshalling\, so you’re guaranteed to be cheered as you run past!
URL:https://macclesfield-harriers.co.uk/event/wilmslow-running-festival-2024/
LOCATION:Wilmslow RUFC
CATEGORIES:Club Championship,Road
ATTACH;FMTTYPE=image/png:https://macclesfield-harriers.co.uk/wp-content/uploads/2024/02/Macclesfield-Harriers-for-calendar.png
END:VEVENT
END:VCALENDAR