BEGIN:VCALENDAR
VERSION:2.0
PRODID:-//Macclesfield Harriers &amp; Athletic Club - ECPv6.15.20//NONSGML v1.0//EN
CALSCALE:GREGORIAN
METHOD:PUBLISH
X-WR-CALNAME:Macclesfield Harriers &amp; Athletic Club
X-ORIGINAL-URL:https://macclesfield-harriers.co.uk
X-WR-CALDESC:Events for Macclesfield Harriers &amp; Athletic Club
REFRESH-INTERVAL;VALUE=DURATION:PT1H
X-Robots-Tag:noindex
X-PUBLISHED-TTL:PT1H
BEGIN:VTIMEZONE
TZID:Europe/London
BEGIN:DAYLIGHT
TZOFFSETFROM:+0000
TZOFFSETTO:+0100
TZNAME:BST
DTSTART:20210328T010000
END:DAYLIGHT
BEGIN:STANDARD
TZOFFSETFROM:+0100
TZOFFSETTO:+0000
TZNAME:GMT
DTSTART:20211031T010000
END:STANDARD
BEGIN:DAYLIGHT
TZOFFSETFROM:+0000
TZOFFSETTO:+0100
TZNAME:BST
DTSTART:20220327T010000
END:DAYLIGHT
BEGIN:STANDARD
TZOFFSETFROM:+0100
TZOFFSETTO:+0000
TZNAME:GMT
DTSTART:20221030T010000
END:STANDARD
BEGIN:DAYLIGHT
TZOFFSETFROM:+0000
TZOFFSETTO:+0100
TZNAME:BST
DTSTART:20230326T010000
END:DAYLIGHT
BEGIN:STANDARD
TZOFFSETFROM:+0100
TZOFFSETTO:+0000
TZNAME:GMT
DTSTART:20231029T010000
END:STANDARD
END:VTIMEZONE
BEGIN:VEVENT
DTSTART;TZID=Europe/London:20221203T080000
DTEND;TZID=Europe/London:20221203T170000
DTSTAMP:20260426T024704
CREATED:20220104T092857Z
LAST-MODIFIED:20220104T101158Z
UID:10000112-1670054400-1670086800@macclesfield-harriers.co.uk
SUMMARY:Stylbarrow Dodd (High Fell Series)
DESCRIPTION:
URL:https://macclesfield-harriers.co.uk/event/stylbarrow-dodd-2022/
CATEGORIES:Club Championship,Events,Fell,Trail
ATTACH;FMTTYPE=image/jpeg:https://macclesfield-harriers.co.uk/wp-content/uploads/2022/01/2022-High-Fell-Series.jpg
END:VEVENT
BEGIN:VEVENT
DTSTART;TZID=Europe/London:20221203T080000
DTEND;TZID=Europe/London:20221203T170000
DTSTAMP:20260426T024704
CREATED:20220810T141634Z
LAST-MODIFIED:20221115T093251Z
UID:10000196-1670054400-1670086800@macclesfield-harriers.co.uk
SUMMARY:MACCL - Match 3 (Heaton Park)
DESCRIPTION:The Manchester League  – check their website for more details \nMatch 1 – 15th October (note clash with North Staffs) – Wythenshawe Park\nMatch 2 – 12th November – Kenworthy Woods\nMatch 3 – 3rd December – Heaton Park\nMatch 4 – 14th January 2023 – Tatton Park\nMatch 5 – 11th February 2023 – Sherdley Park
URL:https://macclesfield-harriers.co.uk/event/maccl-match-3-tba/
CATEGORIES:Club Championship,Club Races,Cross Country,Events
ATTACH;FMTTYPE=image/jpeg:https://macclesfield-harriers.co.uk/wp-content/uploads/2022/08/MHACXC.jpg
END:VEVENT
BEGIN:VEVENT
DTSTART;TZID=Europe/London:20221210T080000
DTEND;TZID=Europe/London:20221210T170000
DTSTAMP:20260426T024704
CREATED:20220810T141219Z
LAST-MODIFIED:20221115T094800Z
UID:10000246-1670659200-1670691600@macclesfield-harriers.co.uk
SUMMARY:NSCCL - Race 4 (Keele University)
DESCRIPTION:The North Staffs League is now open for on line registration here: http://www.nsccl.org.uk/latest/introduction-of-chip-timing-and-new-individual-entry-system/ \nPlease enter yourselves individually for either the whole season or individual races. The series and race fees are set out on the registration page. \nKey dates (all confirmed) \nRace 1 – 17th September – Betley Court Farm\nRace 2 – 15th October – Stafford Common\nRace 3 – 29th October –  Parkhall Country Park\nRace 4 – 10th December  – Keele University
URL:https://macclesfield-harriers.co.uk/event/nsccl-race-4-keele-university/
CATEGORIES:Club Championship,Club Races,Cross Country,Events
ATTACH;FMTTYPE=image/jpeg:https://macclesfield-harriers.co.uk/wp-content/uploads/2022/08/MHACXC.jpg
END:VEVENT
BEGIN:VEVENT
DTSTART;TZID=Europe/London:20221218T080000
DTEND;TZID=Europe/London:20221218T140000
DTSTAMP:20260426T024704
CREATED:20220914T082447Z
LAST-MODIFIED:20221217T164649Z
UID:10000126-1671350400-1671372000@macclesfield-harriers.co.uk
SUMMARY:2022 Fell Handicap
DESCRIPTION:*** FELL HANDICAP CANCELLED – CONTINGENCY PLAN IN OPERATION ***\n(Updated Sat 17/12/2022 at 5.00pm) \nThe 2022 Fell Handicap is on on Sunday 18th December 2022 – CANCELLED – see contingency plan below. \nNote: Poor Weather Contingency Plan \nNote: Entry Limt of 70 places (restricted by space in St Dunstan) \nThis year all participants need to pre-register and pre-pay to get a start time (last year the event was out of pocket due to ‘no shows’). \nContact FELL HANDICAP ORGANISER \nCLICK HERE TO REGISTER \nRoute & Other Details
URL:https://macclesfield-harriers.co.uk/event/2022-fell-handicap/
LOCATION:St Dunstan’s Inn\, Langley\, Main Street\, Langley\, Cheshire\, SK11 0BU\, United Kingdom
CATEGORIES:Club Championship,Club Races,Fell,Trail
ATTACH;FMTTYPE=image/jpeg:https://macclesfield-harriers.co.uk/wp-content/uploads/2021/08/Fell-Handicap.jpg
ORGANIZER;CN="Phil Cheek":MAILTO:phil.r.cheek@gmail.com
END:VEVENT
BEGIN:VEVENT
DTSTART;TZID=Europe/London:20221226T093000
DTEND;TZID=Europe/London:20221226T130000
DTSTAMP:20260426T024704
CREATED:20221209T150052Z
LAST-MODIFIED:20221213T165322Z
UID:10000265-1672047000-1672059600@macclesfield-harriers.co.uk
SUMMARY:2022 Boxing Day Handicap
DESCRIPTION:CLUB MEMBERS ONLY\nThe Boxing Day Handicap is back again for 2022 – this time with a new organiser (Sally Ann Hales) and a new venue (Langley Cricket Club) \nRegistration 9.30-10.15am (Cricket Club) \nStaggered start –  first (slower) runners setting off at 10.30am from the Methodist Church\, Langley \nSocial in the Cricket Club afterwards….the bar will be open. \nThe event needs helpers at the start\, finish and out on course. Please use THIS LINK to contact the organiser if you can help. \nInfo on route\, previous results etc….. Boxing Day Handicap
URL:https://macclesfield-harriers.co.uk/event/bdh-2022/
LOCATION:Langley Cricket Club\, Cock Hall Lane\, Langley\, Cheshire\, SK11 0DE\, United Kingdom
CATEGORIES:Club Races,Cross Country,Events,Fell,Road,Social,Track and Field,Trail
ATTACH;FMTTYPE=image/jpeg:https://macclesfield-harriers.co.uk/wp-content/uploads/2022/12/BDH-COVER.jpg
END:VEVENT
END:VCALENDAR