BEGIN:VCALENDAR
VERSION:2.0
PRODID:-//Macclesfield Harriers &amp; Athletic Club - ECPv6.15.20//NONSGML v1.0//EN
CALSCALE:GREGORIAN
METHOD:PUBLISH
X-ORIGINAL-URL:https://macclesfield-harriers.co.uk
X-WR-CALDESC:Events for Macclesfield Harriers &amp; Athletic Club
REFRESH-INTERVAL;VALUE=DURATION:PT1H
X-Robots-Tag:noindex
X-PUBLISHED-TTL:PT1H
BEGIN:VTIMEZONE
TZID:Europe/London
BEGIN:DAYLIGHT
TZOFFSETFROM:+0000
TZOFFSETTO:+0100
TZNAME:BST
DTSTART:20230326T010000
END:DAYLIGHT
BEGIN:STANDARD
TZOFFSETFROM:+0100
TZOFFSETTO:+0000
TZNAME:GMT
DTSTART:20231029T010000
END:STANDARD
BEGIN:DAYLIGHT
TZOFFSETFROM:+0000
TZOFFSETTO:+0100
TZNAME:BST
DTSTART:20240331T010000
END:DAYLIGHT
BEGIN:STANDARD
TZOFFSETFROM:+0100
TZOFFSETTO:+0000
TZNAME:GMT
DTSTART:20241027T010000
END:STANDARD
BEGIN:DAYLIGHT
TZOFFSETFROM:+0000
TZOFFSETTO:+0100
TZNAME:BST
DTSTART:20250330T010000
END:DAYLIGHT
BEGIN:STANDARD
TZOFFSETFROM:+0100
TZOFFSETTO:+0000
TZNAME:GMT
DTSTART:20251026T010000
END:STANDARD
END:VTIMEZONE
BEGIN:VEVENT
DTSTART;TZID=Europe/London:20241124T100000
DTEND;TZID=Europe/London:20241124T140000
DTSTAMP:20260423T083254
CREATED:20240121T172111Z
LAST-MODIFIED:20240121T172111Z
UID:10000350-1732442400-1732456800@macclesfield-harriers.co.uk
SUMMARY:2024 Lee Mill Relays  - High Fell Series
DESCRIPTION:A relay event set in the Lee Mill Quarry site\, for teams of four runners. All four runners will run individual over a 10.7k flagged course. \nBased in Rossendale\, Lancashire\, running from Stubbylee Hall OL13 0DE – Sunday 24th November 10am start. \nTeams of four\, men\, ladies or mix. \nClubs can enter teams\, but not have to declare the individual runners till nearer race date. \nPlease note\, team captains\, this is a hard and demanding route\, possibly run in wintery conditions\, please ensure your runners are aware the risk involved. \nFull kit including full waterproof bodycover\, hat\, gloves\, compass and whistle must be carried. Stringent kit check will be made to all competitors. A map of the course will be provided on registering. \nEntry £28 team \n120 team limit with wait list \nEntries on the Day will be taken if limit is not reached.
URL:https://macclesfield-harriers.co.uk/event/2024-lee-mill-relays-high-fell-series/
LOCATION:Stubbylee Hall\, Stubbylee Ln\, Bacup\, OL13 0DE
CATEGORIES:Club Championship,Events,Fell,Trail
ATTACH;FMTTYPE=image/jpeg:https://macclesfield-harriers.co.uk/wp-content/uploads/2022/01/2022-High-Fell-Series.jpg
END:VEVENT
END:VCALENDAR