BEGIN:VCALENDAR
VERSION:2.0
PRODID:-//Macclesfield Harriers &amp; Athletic Club - ECPv6.15.20//NONSGML v1.0//EN
CALSCALE:GREGORIAN
METHOD:PUBLISH
X-ORIGINAL-URL:https://macclesfield-harriers.co.uk
X-WR-CALDESC:Events for Macclesfield Harriers &amp; Athletic Club
REFRESH-INTERVAL;VALUE=DURATION:PT1H
X-Robots-Tag:noindex
X-PUBLISHED-TTL:PT1H
BEGIN:VTIMEZONE
TZID:Europe/London
BEGIN:DAYLIGHT
TZOFFSETFROM:+0000
TZOFFSETTO:+0100
TZNAME:BST
DTSTART:20230326T010000
END:DAYLIGHT
BEGIN:STANDARD
TZOFFSETFROM:+0100
TZOFFSETTO:+0000
TZNAME:GMT
DTSTART:20231029T010000
END:STANDARD
BEGIN:DAYLIGHT
TZOFFSETFROM:+0000
TZOFFSETTO:+0100
TZNAME:BST
DTSTART:20240331T010000
END:DAYLIGHT
BEGIN:STANDARD
TZOFFSETFROM:+0100
TZOFFSETTO:+0000
TZNAME:GMT
DTSTART:20241027T010000
END:STANDARD
BEGIN:DAYLIGHT
TZOFFSETFROM:+0000
TZOFFSETTO:+0100
TZNAME:BST
DTSTART:20250330T010000
END:DAYLIGHT
BEGIN:STANDARD
TZOFFSETFROM:+0100
TZOFFSETTO:+0000
TZNAME:GMT
DTSTART:20251026T010000
END:STANDARD
END:VTIMEZONE
BEGIN:VEVENT
DTSTART;TZID=Europe/London:20240803T143000
DTEND;TZID=Europe/London:20240803T163000
DTSTAMP:20260423T110926
CREATED:20240121T162144Z
LAST-MODIFIED:20240121T163420Z
UID:10000339-1722695400-1722702600@macclesfield-harriers.co.uk
SUMMARY:2024 Teggs Nose - Peaks Trail Series
DESCRIPTION:Tegg’s Nose fell race – Saturday 3rd August 2024\n\nStart at 14.30 for men & women\nOnline entry: £5.00 plus £1 booking fee\nEntry on the day: £7.00\nEntries close at midnight on Thursday 1st August.\nThis race has a Permit and associated UK Athletics insurance from the FRA\nLocation: Trials Field\, Bullocks Lane\, Sutton\, Macclesfield\, SK11 0HE\nStart time: 14:30
URL:https://macclesfield-harriers.co.uk/event/2024-teggs-nose-peaks-trail-series/
LOCATION:Trials Field\, Bullocks Lane\, Sutton\, SK11 0HE
CATEGORIES:Club Championship,Events,Fell,Trail
ATTACH;FMTTYPE=image/jpeg:https://macclesfield-harriers.co.uk/wp-content/uploads/2022/01/2022-Peaks-Trail-Seriesl.jpg
END:VEVENT
END:VCALENDAR