BEGIN:VCALENDAR
VERSION:2.0
PRODID:-//Macclesfield Harriers &amp; Athletic Club - ECPv6.15.20//NONSGML v1.0//EN
CALSCALE:GREGORIAN
METHOD:PUBLISH
X-WR-CALNAME:Macclesfield Harriers &amp; Athletic Club
X-ORIGINAL-URL:https://macclesfield-harriers.co.uk
X-WR-CALDESC:Events for Macclesfield Harriers &amp; Athletic Club
REFRESH-INTERVAL;VALUE=DURATION:PT1H
X-Robots-Tag:noindex
X-PUBLISHED-TTL:PT1H
BEGIN:VTIMEZONE
TZID:Europe/London
BEGIN:DAYLIGHT
TZOFFSETFROM:+0000
TZOFFSETTO:+0100
TZNAME:BST
DTSTART:20230326T010000
END:DAYLIGHT
BEGIN:STANDARD
TZOFFSETFROM:+0100
TZOFFSETTO:+0000
TZNAME:GMT
DTSTART:20231029T010000
END:STANDARD
BEGIN:DAYLIGHT
TZOFFSETFROM:+0000
TZOFFSETTO:+0100
TZNAME:BST
DTSTART:20240331T010000
END:DAYLIGHT
BEGIN:STANDARD
TZOFFSETFROM:+0100
TZOFFSETTO:+0000
TZNAME:GMT
DTSTART:20241027T010000
END:STANDARD
BEGIN:DAYLIGHT
TZOFFSETFROM:+0000
TZOFFSETTO:+0100
TZNAME:BST
DTSTART:20250330T010000
END:DAYLIGHT
BEGIN:STANDARD
TZOFFSETFROM:+0100
TZOFFSETTO:+0000
TZNAME:GMT
DTSTART:20251026T010000
END:STANDARD
END:VTIMEZONE
BEGIN:VEVENT
DTSTART;TZID=Europe/London:20240522T191500
DTEND;TZID=Europe/London:20240522T210000
DTSTAMP:20260423T190616
CREATED:20240120T191546Z
LAST-MODIFIED:20240121T131022Z
UID:10000325-1716405300-1716411600@macclesfield-harriers.co.uk
SUMMARY:2024 Gun Run - Summer Evening Series
DESCRIPTION:The 2024 Gun Run will be held on 22nd May 2024 (to be confirmed) at 19:15 start\, from Swythamley & Heaton Community Centre\, Gun End\, Swythamley\, near Leek SK11 0SJ\, Grid reference: 965 682 \nDistance: 9.9 km / 6.2 miles\, Climb: 250 m / 820 ft. Minimum age: 16 \nMale record: Allen Bunyan – 43:00 – 2022 \nFemale record: Kristy Gill – 52:13 – 2022 \nPre-entry fee: £7.00: Pre-entry strongly preferred. Entry on day fee: £10.00 \nSecond running\, on a new route\, after a few years’ absence\,. \nTrail\, fell\, road: nothing too technical and something for all ! \nAll proceeds to Staffordshire Wildlife Trust for restoration of Gun Hill and the Staffordshire Moorlands. \nFree post-race tea and coffee: cakes and other refreshments available ! \nNo guns (or gnus) please. \nJulian Brown\n01538 306837 / 07763 845606\njulianbrown10@hotmail.co.uk
URL:https://macclesfield-harriers.co.uk/event/2024-gun-run-summer-evening-series/
LOCATION:Swythamley & Heaton Community Centre (near Leek)\, Gun End\, Swythamley\, Staffordshire\, SK11 0SJ\, United Kingdom
CATEGORIES:Club Championship,Club Races,Events,Fell,Trail
ATTACH;FMTTYPE=image/png:https://macclesfield-harriers.co.uk/wp-content/uploads/2021/08/Gun-Run-Route.jpg
ORGANIZER;CN="Julian Brown":MAILTO:julianbrown10@hotmail.co.uk
END:VEVENT
END:VCALENDAR