BEGIN:VCALENDAR
VERSION:2.0
PRODID:-//Macclesfield Harriers &amp; Athletic Club - ECPv6.15.20//NONSGML v1.0//EN
CALSCALE:GREGORIAN
METHOD:PUBLISH
X-WR-CALNAME:Macclesfield Harriers &amp; Athletic Club
X-ORIGINAL-URL:https://macclesfield-harriers.co.uk
X-WR-CALDESC:Events for Macclesfield Harriers &amp; Athletic Club
REFRESH-INTERVAL;VALUE=DURATION:PT1H
X-Robots-Tag:noindex
X-PUBLISHED-TTL:PT1H
BEGIN:VTIMEZONE
TZID:UTC
BEGIN:STANDARD
TZOFFSETFROM:+0000
TZOFFSETTO:+0000
TZNAME:UTC
DTSTART:20240101T000000
END:STANDARD
END:VTIMEZONE
BEGIN:VTIMEZONE
TZID:Europe/London
BEGIN:DAYLIGHT
TZOFFSETFROM:+0000
TZOFFSETTO:+0100
TZNAME:BST
DTSTART:20240331T010000
END:DAYLIGHT
BEGIN:STANDARD
TZOFFSETFROM:+0100
TZOFFSETTO:+0000
TZNAME:GMT
DTSTART:20241027T010000
END:STANDARD
BEGIN:DAYLIGHT
TZOFFSETFROM:+0000
TZOFFSETTO:+0100
TZNAME:BST
DTSTART:20250330T010000
END:DAYLIGHT
BEGIN:STANDARD
TZOFFSETFROM:+0100
TZOFFSETTO:+0000
TZNAME:GMT
DTSTART:20251026T010000
END:STANDARD
BEGIN:DAYLIGHT
TZOFFSETFROM:+0000
TZOFFSETTO:+0100
TZNAME:BST
DTSTART:20260329T010000
END:DAYLIGHT
BEGIN:STANDARD
TZOFFSETFROM:+0100
TZOFFSETTO:+0000
TZNAME:GMT
DTSTART:20261025T010000
END:STANDARD
END:VTIMEZONE
BEGIN:VEVENT
DTSTART;TZID=UTC:20250503T111500
DTEND;TZID=UTC:20250503T170000
DTSTAMP:20260424T104320
CREATED:20250309T215614Z
LAST-MODIFIED:20250309T215614Z
UID:10000410-1746270900-1746291600@macclesfield-harriers.co.uk
SUMMARY:2025 Youth Development League (Lower Age Group) Round 1
DESCRIPTION:Round 1 of the Youth Development League will be held at Victoria Park\, Warrington. \nThis league is for U13s and U15s only. \nFirst event (U13 Girls 70m Hurdles) starts at 11:15. \nPlease speak to your Team Manager if you would like to compete in this event\, as they will register the team.
URL:https://macclesfield-harriers.co.uk/event/2025-youth-development-league-lower-age-group-round-1/
LOCATION:Victoria Park (Warrington)\, Victoria Park\, Knutsford Road\, Warrington\, Cheshire\, wa4 1dj\, United Kingdom
CATEGORIES:Track and Field
ATTACH;FMTTYPE=image/jpeg:https://macclesfield-harriers.co.uk/wp-content/uploads/2024/04/YDL-Logo-e1712482011644.jpg
END:VEVENT
BEGIN:VEVENT
DTSTART;VALUE=DATE:20250510
DTEND;VALUE=DATE:20250513
DTSTAMP:20260424T104320
CREATED:20250310T190504Z
LAST-MODIFIED:20250421T175834Z
UID:10000422-1746849600-1747022399@macclesfield-harriers.co.uk
SUMMARY:2025 Cheshire Track and Field Championships
DESCRIPTION:The 2025 Cheshire T&F Championships will will be held over the weekend of 10th & 11th May at Ellesmere Port Sports Village. \nThe event is open to all abilities and age groups from U11 to Seniors.  \nWe look forward to a great turnout of Macclesfield Harriers at this event\, following last year’s success on home turf. The first event starts at 10:15 on both days. \nThe schedule of events and entry details can be found here. (Please register your own entries): \nRoster Athletics · Cheshire County Track & Field Championships
URL:https://macclesfield-harriers.co.uk/event/2025-cheshire-track-and-field-championships/
LOCATION:Ellesmere Port Sports Village\, Stanney Lane\, Ellesmere Port\, CH65 9LB\, United Kingdom
CATEGORIES:Track and Field
ATTACH;FMTTYPE=image/jpeg:https://macclesfield-harriers.co.uk/wp-content/uploads/2024/06/IMG_8348-scaled-e1718740387267.jpg
END:VEVENT
BEGIN:VEVENT
DTSTART;TZID=UTC:20250517T113000
DTEND;TZID=UTC:20250517T173000
DTSTAMP:20260424T104320
CREATED:20250310T184135Z
LAST-MODIFIED:20250310T184135Z
UID:10000418-1747481400-1747503000@macclesfield-harriers.co.uk
SUMMARY:2025 Northern Track and Field League Round 1
DESCRIPTION:Round 1 of the 2025 Northern T&F League will be held at Sheepmount Athletics Stadium\, Carlisle. \nThis event is only for U17s and Seniors. \nThe order and timing of events can be found here: \n2025-NL-League-Structure-and-venues-V-2.0.pdf \nPlease contact your Team Manager for entry details.
URL:https://macclesfield-harriers.co.uk/event/2025-northern-track-and-field-league-round-1/
LOCATION:Sheepmount Athletics Stadium\, Carlisle\, Mayors Drive\, Carlisle\, Cumbria\, CA3 8XL\, United Kingdom
CATEGORIES:Track and Field
ATTACH;FMTTYPE=image/png:https://macclesfield-harriers.co.uk/wp-content/uploads/2024/04/cxah22pk.png
END:VEVENT
BEGIN:VEVENT
DTSTART;TZID=UTC:20250524T110000
DTEND;TZID=UTC:20250524T170000
DTSTAMP:20260424T104320
CREATED:20250310T182026Z
LAST-MODIFIED:20250310T182026Z
UID:10000415-1748084400-1748106000@macclesfield-harriers.co.uk
SUMMARY:2025 Cheshire Track & Field Grand Prix - Round 2
DESCRIPTION:Round 2 of the Cheshire Track & Field Grand Prix series will be held at Macclesfield Athletics Track. \nThis is an open event for all age groups (U11 to Senior) with entries being made by individual athletes on the Roster Athletics web portal. \nFurther details will be provided once the Roster system has been launched. \nPlease speak to your Team Manager if you need any advice on how to enter.
URL:https://macclesfield-harriers.co.uk/event/2025-cheshire-track-field-grand-prix-round-2/
LOCATION:Macclesfield Leisure Centre
CATEGORIES:Track and Field
ATTACH;FMTTYPE=image/jpeg:https://macclesfield-harriers.co.uk/wp-content/uploads/2024/06/IMG_8348-scaled-e1718740387267.jpg
END:VEVENT
END:VCALENDAR