BEGIN:VCALENDAR
VERSION:2.0
PRODID:-//Macclesfield Harriers &amp; Athletic Club - ECPv6.15.20//NONSGML v1.0//EN
CALSCALE:GREGORIAN
METHOD:PUBLISH
X-WR-CALNAME:Macclesfield Harriers &amp; Athletic Club
X-ORIGINAL-URL:https://macclesfield-harriers.co.uk
X-WR-CALDESC:Events for Macclesfield Harriers &amp; Athletic Club
REFRESH-INTERVAL;VALUE=DURATION:PT1H
X-Robots-Tag:noindex
X-PUBLISHED-TTL:PT1H
BEGIN:VTIMEZONE
TZID:Europe/London
BEGIN:DAYLIGHT
TZOFFSETFROM:+0000
TZOFFSETTO:+0100
TZNAME:BST
DTSTART:20190331T010000
END:DAYLIGHT
BEGIN:STANDARD
TZOFFSETFROM:+0100
TZOFFSETTO:+0000
TZNAME:GMT
DTSTART:20191027T010000
END:STANDARD
BEGIN:DAYLIGHT
TZOFFSETFROM:+0000
TZOFFSETTO:+0100
TZNAME:BST
DTSTART:20200329T010000
END:DAYLIGHT
BEGIN:STANDARD
TZOFFSETFROM:+0100
TZOFFSETTO:+0000
TZNAME:GMT
DTSTART:20201025T010000
END:STANDARD
BEGIN:DAYLIGHT
TZOFFSETFROM:+0000
TZOFFSETTO:+0100
TZNAME:BST
DTSTART:20210328T010000
END:DAYLIGHT
BEGIN:STANDARD
TZOFFSETFROM:+0100
TZOFFSETTO:+0000
TZNAME:GMT
DTSTART:20211031T010000
END:STANDARD
BEGIN:DAYLIGHT
TZOFFSETFROM:+0000
TZOFFSETTO:+0100
TZNAME:BST
DTSTART:20220327T010000
END:DAYLIGHT
BEGIN:STANDARD
TZOFFSETFROM:+0100
TZOFFSETTO:+0000
TZNAME:GMT
DTSTART:20221030T010000
END:STANDARD
BEGIN:DAYLIGHT
TZOFFSETFROM:+0000
TZOFFSETTO:+0100
TZNAME:BST
DTSTART:20230326T010000
END:DAYLIGHT
BEGIN:STANDARD
TZOFFSETFROM:+0100
TZOFFSETTO:+0000
TZNAME:GMT
DTSTART:20231029T010000
END:STANDARD
END:VTIMEZONE
BEGIN:VEVENT
DTSTART;TZID=Europe/London:20220116T103000
DTEND;TZID=Europe/London:20220116T140000
DTSTAMP:20260422T145413
CREATED:20211013T171506Z
LAST-MODIFIED:20220102T124558Z
UID:10000140-1642329000-1642341600@macclesfield-harriers.co.uk
SUMMARY:Essar Four Villages Half Marathon
DESCRIPTION:
URL:https://macclesfield-harriers.co.uk/event/essar-four-villages-half-marathon/
CATEGORIES:Club Championship,Events,Road
ATTACH;FMTTYPE=image/png:https://macclesfield-harriers.co.uk/wp-content/uploads/2021/10/4-villages.png
END:VEVENT
BEGIN:VEVENT
DTSTART;VALUE=DATE:20220108
DTEND;VALUE=DATE:20220109
DTSTAMP:20260422T145413
CREATED:20211123T181101Z
LAST-MODIFIED:20211123T181802Z
UID:10000224-1641600000-1641686399@macclesfield-harriers.co.uk
SUMMARY:Cheshire Cross Country Championship
DESCRIPTION:The county XC champs are open for all registered athletes from U11 upwards. \nEntries close 1st January 2022 \nThis year’s event is a new venue at the The Farm Club\, Pickmere\, near Knutsford. \nEntries available here – Cheshire XC entry form 2022 v1 (2) \nhttps://www.race-results.co.uk/results/2022/cheshirexc22e.php \nFurther information will appear here – http://www.cheshireaa.com/
URL:https://macclesfield-harriers.co.uk/event/cheshire-cross-country-championship/
CATEGORIES:Club Championship,Cross Country,Fell,Road,Track and Field,Trail,Training
ATTACH;FMTTYPE=image/jpeg:https://macclesfield-harriers.co.uk/wp-content/uploads/2021/11/Screenshot-2021-11-23-180921.jpg
END:VEVENT
BEGIN:VEVENT
DTSTART;TZID=Europe/London:20211215T190000
DTEND;TZID=Europe/London:20211215T210000
DTSTAMP:20260422T145413
CREATED:20211115T090154Z
LAST-MODIFIED:20211210T085621Z
UID:10000250-1639594800-1639602000@macclesfield-harriers.co.uk
SUMMARY:Bolly Street-O 2021
DESCRIPTION:The annual ‘Bolly-Street-O’ organised  by Andy Skelhorn is on again for 2021. Please go to the Fell or Trail section Facebook pages and mark yourself as ‘Going’ so Andy has an idea of numbers (for maps). \nFormat: 60 Minutes of Street Orienteering\nTerrain: Streets and a few tracks\nVenue: The Vale Inn\, Adlington Rd\, Bollington\nPairing up is permitted.\nArrive 6.45pm for a 7.00pm start. \nBring a pencil and a plastic bag in case it rains. Maps will be provided on the night. \n \n 
URL:https://macclesfield-harriers.co.uk/event/bolly-street-o-2021/
LOCATION:The Vale Inn\,\, Adlington Road\, Bollington\, Cheshire\, SK10 5JT\, United Kingdom
CATEGORIES:Events,Fell,Road,Trail
ATTACH;FMTTYPE=image/jpeg:https://macclesfield-harriers.co.uk/wp-content/uploads/2021/11/Bolly-Street-O.jpg
END:VEVENT
BEGIN:VEVENT
DTSTART;TZID=Europe/London:20211212T100000
DTEND;TZID=Europe/London:20211212T140000
DTSTAMP:20260422T145413
CREATED:20200309T172425Z
LAST-MODIFIED:20210818T075208Z
UID:10000024-1639303200-1639317600@macclesfield-harriers.co.uk
SUMMARY:Stockport 10M
DESCRIPTION:Sunday 12 December? Date to be confirmed.
URL:https://macclesfield-harriers.co.uk/event/stockport-10m/
CATEGORIES:Events,Road
ATTACH;FMTTYPE=image/png:https://macclesfield-harriers.co.uk/wp-content/uploads/2020/03/Stockport-10.png
END:VEVENT
BEGIN:VEVENT
DTSTART;TZID=Europe/London:20211109T180000
DTEND;TZID=Europe/London:20211109T203000
DTSTAMP:20260422T145413
CREATED:20211016T164103Z
LAST-MODIFIED:20211016T164103Z
UID:10000210-1636480800-1636489800@macclesfield-harriers.co.uk
SUMMARY:MDOC Night Street League (Street-O)
DESCRIPTION:This is the second in the annual Night Street League Series organised by MDOC. \nThe Weaver pub\, 11 Thornton Square\, Macclesfield SK11 7XZ
URL:https://macclesfield-harriers.co.uk/event/mdoc-night-street-league-street-o/
CATEGORIES:Events,Road,Trail
ATTACH;FMTTYPE=image/jpeg:https://macclesfield-harriers.co.uk/wp-content/uploads/2021/10/NSL.jpg
END:VEVENT
BEGIN:VEVENT
DTSTART;TZID=Europe/London:20211030T110000
DTEND;TZID=Europe/London:20211030T170000
DTSTAMP:20260422T145413
CREATED:20210925T182552Z
LAST-MODIFIED:20210925T182552Z
UID:10000143-1635591600-1635613200@macclesfield-harriers.co.uk
SUMMARY:MDOC - East Cheshire Urban Weekend - Day 1: Macclesfield West
DESCRIPTION:East Cheshire Urban Weekend – Day 1: Macclesfield West\nIncorporating the NW Sprint Championship\nThis event is the North West Sprint Championship. It will comprise a 2-part sprint covering two separate parts of the area. \nSee also Day 2 – Knutsford \nSat 30th Oct 2021\nType of event: Regional\, Sprint\, Urban\nType of terrain: Urban
URL:https://macclesfield-harriers.co.uk/event/mdoc-east-cheshire-urban-weekend-day-1-macclesfield-west/
CATEGORIES:Events,Road,Trail
ATTACH;FMTTYPE=image/jpeg:https://macclesfield-harriers.co.uk/wp-content/uploads/2021/09/MDOC-OCT-21.jpg
END:VEVENT
BEGIN:VEVENT
DTSTART;TZID=Europe/London:20211009T100000
DTEND;TZID=Europe/London:20211009T170000
DTSTAMP:20260422T145413
CREATED:20210613T112439Z
LAST-MODIFIED:20210823T144433Z
UID:10000044-1633773600-1633798800@macclesfield-harriers.co.uk
SUMMARY:ERRA Autumn Road Relays – venue TBC
DESCRIPTION:
URL:https://macclesfield-harriers.co.uk/event/erra-autumn-road-relays-venue-tbc/
CATEGORIES:Road,Track and Field
ATTACH;FMTTYPE=image/jpeg:https://macclesfield-harriers.co.uk/wp-content/uploads/2021/06/ERRA.jpg
END:VEVENT
BEGIN:VEVENT
DTSTART;TZID=Europe/London:20210928T181500
DTEND;TZID=Europe/London:20210928T200000
DTSTAMP:20260422T145413
CREATED:20210921T182401Z
LAST-MODIFIED:20210925T085537Z
UID:10000091-1632852900-1632859200@macclesfield-harriers.co.uk
SUMMARY:2021 Mixed Ability Track Relay - CLUB MEMBERS ONLY
DESCRIPTION:You are invited to take part in a mixed ability relay at the track during our normal training session on Tuesday 28th September. \nIt will be run along the same lines as previous mixed ability relays. \nTeams of 5  run as many laps as possible in 60mins (viz run one lap rest 4 then repeat) \nOpen to ALL paid up club members  mid teens upwards who are fit and healthy and can run reps of 400m \n6.15pm – Register promptly by signing in the column with which you normally train (at the desk in front of the clubhouse ) \nWarm up \n6.45pm prompt split into assigned groups\, wearing team number\, decide on start sequence and provide a lap counter \n7.00pm  Event starts and continues for 60mins. \nEach team runs as many laps as possible. \nObjective to have fun \,meet new members have a good time and not get injured. \nPlease come along and please spread the word in the meantime \nRegards\, Bob Lynch  07964 956 567 / 01625 829229
URL:https://macclesfield-harriers.co.uk/event/2021-mixed-ability-track-relay-club-members-only/
LOCATION:Macclesfield Athletics Track\, Priory Lane\, Macclesfield\, Cheshire\, SK10 4AF\, United Kingdom
CATEGORIES:Cross Country,Events,Fell,Road,Social,Track and Field,Trail,Training
ATTACH;FMTTYPE=image/jpeg:https://macclesfield-harriers.co.uk/wp-content/uploads/2019/07/65454807_2133652556744594_3950367484132982784_o-e1625500782627.jpg
END:VEVENT
BEGIN:VEVENT
DTSTART;TZID=Europe/London:20210918T100000
DTEND;TZID=Europe/London:20210918T170000
DTSTAMP:20260422T145413
CREATED:20210613T112338Z
LAST-MODIFIED:20210823T144608Z
UID:10000043-1631959200-1631984400@macclesfield-harriers.co.uk
SUMMARY:Northern Athletics Autumn Road Relays – Redcar
DESCRIPTION:U13–Senior
URL:https://macclesfield-harriers.co.uk/event/northern-athletics-autumn-road-relays-redcar/
CATEGORIES:Events,Road,Track and Field
ATTACH;FMTTYPE=image/jpeg:https://macclesfield-harriers.co.uk/wp-content/uploads/2021/06/Northern-Athletics.jpg
END:VEVENT
BEGIN:VEVENT
DTSTART;TZID=Europe/London:20210911T103000
DTEND;TZID=Europe/London:20210911T150000
DTSTAMP:20260422T145413
CREATED:20210613T112054Z
LAST-MODIFIED:20210818T071247Z
UID:10000042-1631356200-1631372400@macclesfield-harriers.co.uk
SUMMARY:North West Road Relays\, Birchwood
DESCRIPTION:U11–Senior
URL:https://macclesfield-harriers.co.uk/event/north-west-road-relays-birchwood/
CATEGORIES:Road,Track and Field
ATTACH;FMTTYPE=image/jpeg:https://macclesfield-harriers.co.uk/wp-content/uploads/2019/07/65454807_2133652556744594_3950367484132982784_o-e1625500782627.jpg
END:VEVENT
BEGIN:VEVENT
DTSTART;TZID=Europe/London:20210710T090000
DTEND;TZID=Europe/London:20210710T120000
DTSTAMP:20260422T145413
CREATED:20210703T114508Z
LAST-MODIFIED:20210706T205640Z
UID:10000066-1625907600-1625918400@macclesfield-harriers.co.uk
SUMMARY:Wilmslow 10k
DESCRIPTION:Lorum Ipsum \nAlannah at Wincle Trout June 2019
URL:https://macclesfield-harriers.co.uk/event/wilmslow-10k/
CATEGORIES:Events,Road
ATTACH;FMTTYPE=image/jpeg:https://macclesfield-harriers.co.uk/wp-content/uploads/2021/06/MDOC-2.jpg
END:VEVENT
BEGIN:VEVENT
DTSTART;TZID=Europe/London:20201004T093000
DTEND;TZID=Europe/London:20201004T140000
DTSTAMP:20260422T145413
CREATED:20200309T172103Z
LAST-MODIFIED:20210706T103343Z
UID:10000023-1601803800-1601820000@macclesfield-harriers.co.uk
SUMMARY:Congleton Half Marathon
DESCRIPTION:
URL:https://macclesfield-harriers.co.uk/event/congleton-half-marathon/
CATEGORIES:Club Championship,Road
END:VEVENT
BEGIN:VEVENT
DTSTART;VALUE=DATE:20200920
DTEND;VALUE=DATE:20200921
DTSTAMP:20260422T145413
CREATED:20200309T163629Z
LAST-MODIFIED:20210706T103343Z
UID:10000011-1600560000-1600646399@macclesfield-harriers.co.uk
SUMMARY:Run Macc Fest (Half Marathon\, 10K\, 5K and Fun Run; Club Road Race 5K series #6)
DESCRIPTION:RunMaccFest\, organised by Macclesfield Harriers\, is Macclesfield’s Festival of Running incorporating Macclesfield Half Marathon\, 10K\, 5K and Fun Run and Community Challenges. Race proceeds donated to local charities. If you are not racing\, consider volunteering (see Mandy or Ray). \nStart: Half Marathon 10:00am (long in club championships)\n10K (medium) 5K 10:15am \nEntries now open! ​Early bird entries held at 2019 prices.
URL:https://macclesfield-harriers.co.uk/event/run-macc-fest/
LOCATION:Leisure Centre
CATEGORIES:Club Championship,Club Races,Road
END:VEVENT
BEGIN:VEVENT
DTSTART;TZID=Europe/London:20200905T130000
DTEND;TZID=Europe/London:20200905T143000
DTSTAMP:20260422T145413
CREATED:20200309T171741Z
LAST-MODIFIED:20210706T103343Z
UID:10000022-1599310800-1599316200@macclesfield-harriers.co.uk
SUMMARY:NW Road Relays
DESCRIPTION:Saturday 5th September? Date not confirmed yet. \n1:00pm F & 1:30pm M
URL:https://macclesfield-harriers.co.uk/event/nw-road-relays/
CATEGORIES:Club Championship,Road
END:VEVENT
BEGIN:VEVENT
DTSTART;TZID=Europe/London:20200905T090000
DTEND;TZID=Europe/London:20200905T103000
DTSTAMP:20260422T145413
CREATED:20200309T173741Z
LAST-MODIFIED:20210706T103343Z
UID:10000080-1599296400-1599301800@macclesfield-harriers.co.uk
SUMMARY:Bramhall Parkrun (Club Road Race 5K series #5)
DESCRIPTION:
URL:https://macclesfield-harriers.co.uk/event/bramhall-parkrun-club-road-race-5k-series-5/
CATEGORIES:Club Championship,Road
END:VEVENT
BEGIN:VEVENT
DTSTART;TZID=Europe/London:20200816T100000
DTEND;TZID=Europe/London:20200816T140000
DTSTAMP:20260422T145413
CREATED:20200309T171513Z
LAST-MODIFIED:20210706T103343Z
UID:10000021-1597572000-1597586400@macclesfield-harriers.co.uk
SUMMARY:Leek Half Marathon
DESCRIPTION:
URL:https://macclesfield-harriers.co.uk/event/leek-half-marathon/
CATEGORIES:Club Championship,Road
END:VEVENT
BEGIN:VEVENT
DTSTART;TZID=Europe/London:20200802T100000
DTEND;TZID=Europe/London:20200802T130000
DTSTAMP:20260422T145413
CREATED:20200309T171147Z
LAST-MODIFIED:20210706T103343Z
UID:10000020-1596362400-1596373200@macclesfield-harriers.co.uk
SUMMARY:Bollington 10K
DESCRIPTION:
URL:https://macclesfield-harriers.co.uk/event/bollington-10k/
LOCATION:Bollington Health & Leisure\, Heath Road\, Bollington\, Macclesfield\, Cheshire\, SK10 5EX
CATEGORIES:Club Championship,Road
END:VEVENT
BEGIN:VEVENT
DTSTART;TZID=Europe/London:20200725T090000
DTEND;TZID=Europe/London:20200725T113000
DTSTAMP:20260422T145413
CREATED:20200309T173558Z
LAST-MODIFIED:20210706T103344Z
UID:10000078-1595667600-1595676600@macclesfield-harriers.co.uk
SUMMARY:Macclesfield Parkrun (Club Road Race 5K series #4)
DESCRIPTION:
URL:https://macclesfield-harriers.co.uk/event/macclesfield-parkrun-club-road-race-5k-series-4/
LOCATION:South Park\, Macclesfield
CATEGORIES:Club Championship,Road
END:VEVENT
BEGIN:VEVENT
DTSTART;TZID=Europe/London:20200720T080000
DTEND;TZID=Europe/London:20200720T170000
DTSTAMP:20260422T145413
CREATED:20200309T170939Z
LAST-MODIFIED:20210706T103344Z
UID:10000019-1595232000-1595264400@macclesfield-harriers.co.uk
SUMMARY:Road Handicap 5M
DESCRIPTION:Details will be ion the club website nearer the time
URL:https://macclesfield-harriers.co.uk/event/road-handicap-5m/
CATEGORIES:Club Championship,Road
END:VEVENT
BEGIN:VEVENT
DTSTART;TZID=Europe/London:20200714T193000
DTEND;TZID=Europe/London:20200714T193000
DTSTAMP:20260422T145413
CREATED:20200309T170823Z
LAST-MODIFIED:20210706T103344Z
UID:10000018-1594755000-1594755000@macclesfield-harriers.co.uk
SUMMARY:Wizard 5 Mile
DESCRIPTION:Sold out 🙁
URL:https://macclesfield-harriers.co.uk/event/wizard-5-mile/
CATEGORIES:Club Championship,Road
END:VEVENT
BEGIN:VEVENT
DTSTART;TZID=Europe/London:20200628T093000
DTEND;TZID=Europe/London:20200628T120000
DTSTAMP:20260422T145413
CREATED:20200309T170636Z
LAST-MODIFIED:20210706T103344Z
UID:10000017-1593336600-1593345600@macclesfield-harriers.co.uk
SUMMARY:Wilmslow Summer 10K
DESCRIPTION:
URL:https://macclesfield-harriers.co.uk/event/wilmslow-summer-10k/
CATEGORIES:Club Championship,Road
END:VEVENT
BEGIN:VEVENT
DTSTART;TZID=Europe/London:20200620T100000
DTEND;TZID=Europe/London:20200620T133000
DTSTAMP:20260422T145413
CREATED:20200309T165958Z
LAST-MODIFIED:20210706T103344Z
UID:10000016-1592647200-1592659800@macclesfield-harriers.co.uk
SUMMARY:Meerbrook 15K
DESCRIPTION:
URL:https://macclesfield-harriers.co.uk/event/meerbrook-15k/
LOCATION:Meerbrook Village Hall\, Meerbrook\, Leek\, ST13 8SL
CATEGORIES:Club Championship,Road
END:VEVENT
BEGIN:VEVENT
DTSTART;TZID=Europe/London:20200613T090000
DTEND;TZID=Europe/London:20200613T103000
DTSTAMP:20260422T145413
CREATED:20200309T173402Z
LAST-MODIFIED:20210706T103345Z
UID:10000103-1592038800-1592044200@macclesfield-harriers.co.uk
SUMMARY:Lyme Park Parkrun (Club Road Race 5K series #3)
DESCRIPTION:Yes\, we know it’s not a road race\, but it’s in the Club Road Race 5K series …
URL:https://macclesfield-harriers.co.uk/event/lyme-park-parkrun-club-road-race-5k-series-3/
CATEGORIES:Club Championship,Road
END:VEVENT
BEGIN:VEVENT
DTSTART;TZID=Europe/London:20200523T090000
DTEND;TZID=Europe/London:20200523T103000
DTSTAMP:20260422T145413
CREATED:20200309T172818Z
LAST-MODIFIED:20210706T103345Z
UID:10000102-1590224400-1590229800@macclesfield-harriers.co.uk
SUMMARY:Wilmslow Parkrun (Club Road Race 5K series #2)
DESCRIPTION:
URL:https://macclesfield-harriers.co.uk/event/wilmslow-parkrun-club-road-race-5k-series-2/
LOCATION:The Carrs Park\, Wilmslow\, SK9 4AA
CATEGORIES:Club Championship,Events,Road
END:VEVENT
BEGIN:VEVENT
DTSTART;TZID=Europe/London:20200521T190000
DTEND;TZID=Europe/London:20200521T200000
DTSTAMP:20260422T145413
CREATED:20200309T165604Z
LAST-MODIFIED:20210706T103345Z
UID:10000015-1590087600-1590091200@macclesfield-harriers.co.uk
SUMMARY:Dunham Massey 5K
DESCRIPTION:This is also Race 1 in North Cheshire Grand Prix 5k series \nRace starts @ 7:15pm \nVenue: Coach House\, (left of Dunham Massey House)\, Dunham Town\, Altrincham\, Cheshire\, WA14 4SJ
URL:https://macclesfield-harriers.co.uk/event/dunham-massey-5k-1/
CATEGORIES:Club Championship,Road
END:VEVENT
BEGIN:VEVENT
DTSTART;TZID=Europe/London:20200512T193000
DTEND;TZID=Europe/London:20200512T210000
DTSTAMP:20260422T145413
CREATED:20200309T165222Z
LAST-MODIFIED:20210706T103345Z
UID:10000014-1589311800-1589317200@macclesfield-harriers.co.uk
SUMMARY:Round the Runway 5M
DESCRIPTION:Sold out 🙁
URL:https://macclesfield-harriers.co.uk/event/round-the-runway-5m/
CATEGORIES:Club Championship,Road
END:VEVENT
BEGIN:VEVENT
DTSTART;TZID=Europe/London:20200501T190000
DTEND;TZID=Europe/London:20200501T203000
DTSTAMP:20260422T145413
CREATED:20200309T164736Z
LAST-MODIFIED:20210706T103346Z
UID:10000013-1588359600-1588365000@macclesfield-harriers.co.uk
SUMMARY:Mid-Cheshire 5K - cancelled/postponed
DESCRIPTION:
URL:https://macclesfield-harriers.co.uk/event/mid-cheshire-5k/
CATEGORIES:Club Championship,Road
END:VEVENT
BEGIN:VEVENT
DTSTART;TZID=Europe/London:20200425T090000
DTEND;TZID=Europe/London:20200425T103000
DTSTAMP:20260422T145413
CREATED:20200309T172603Z
LAST-MODIFIED:20210706T103346Z
UID:10000101-1587805200-1587810600@macclesfield-harriers.co.uk
SUMMARY:Congleton Parkrun (Club Road Race 5K series #1)
DESCRIPTION:
URL:https://macclesfield-harriers.co.uk/event/congleton-parkrun-club-road-race-5k-series-1/
LOCATION:Nobanno Lakeside Indian Restaurant\, Congleton\, Newcastle Rd\, Congleton\, Cheshire\, CW12 4HL
CATEGORIES:Club Championship,Events,Road
END:VEVENT
BEGIN:VEVENT
DTSTART;TZID=Europe/London:20200329T093000
DTEND;TZID=Europe/London:20200329T170000
DTSTAMP:20260422T145413
CREATED:20200309T164542Z
LAST-MODIFIED:20210706T103346Z
UID:10000012-1585474200-1585501200@macclesfield-harriers.co.uk
SUMMARY:Poynton Village 10K cancelled
DESCRIPTION:Sold out \nRace starts 9.15
URL:https://macclesfield-harriers.co.uk/event/poynton-village-10k/
CATEGORIES:Club Championship,Road
END:VEVENT
BEGIN:VEVENT
DTSTART;TZID=Europe/London:20200119T103000
DTEND;TZID=Europe/London:20200119T120000
DTSTAMP:20260422T145413
CREATED:20200311T113323Z
LAST-MODIFIED:20210706T103347Z
UID:10000032-1579429800-1579435200@macclesfield-harriers.co.uk
SUMMARY:Four Villages Half Marathon
DESCRIPTION:
URL:https://macclesfield-harriers.co.uk/event/four-villages-half-marathon/
CATEGORIES:Club Championship,Road
END:VEVENT
END:VCALENDAR