BEGIN:VCALENDAR
VERSION:2.0
PRODID:-//Macclesfield Harriers &amp; Athletic Club - ECPv6.15.20//NONSGML v1.0//EN
CALSCALE:GREGORIAN
METHOD:PUBLISH
X-WR-CALNAME:Macclesfield Harriers &amp; Athletic Club
X-ORIGINAL-URL:https://macclesfield-harriers.co.uk
X-WR-CALDESC:Events for Macclesfield Harriers &amp; Athletic Club
REFRESH-INTERVAL;VALUE=DURATION:PT1H
X-Robots-Tag:noindex
X-PUBLISHED-TTL:PT1H
BEGIN:VTIMEZONE
TZID:Europe/London
BEGIN:DAYLIGHT
TZOFFSETFROM:+0000
TZOFFSETTO:+0100
TZNAME:BST
DTSTART:20200329T010000
END:DAYLIGHT
BEGIN:STANDARD
TZOFFSETFROM:+0100
TZOFFSETTO:+0000
TZNAME:GMT
DTSTART:20201025T010000
END:STANDARD
BEGIN:DAYLIGHT
TZOFFSETFROM:+0000
TZOFFSETTO:+0100
TZNAME:BST
DTSTART:20210328T010000
END:DAYLIGHT
BEGIN:STANDARD
TZOFFSETFROM:+0100
TZOFFSETTO:+0000
TZNAME:GMT
DTSTART:20211031T010000
END:STANDARD
BEGIN:DAYLIGHT
TZOFFSETFROM:+0000
TZOFFSETTO:+0100
TZNAME:BST
DTSTART:20220327T010000
END:DAYLIGHT
BEGIN:STANDARD
TZOFFSETFROM:+0100
TZOFFSETTO:+0000
TZNAME:GMT
DTSTART:20221030T010000
END:STANDARD
BEGIN:DAYLIGHT
TZOFFSETFROM:+0000
TZOFFSETTO:+0100
TZNAME:BST
DTSTART:20230326T010000
END:DAYLIGHT
BEGIN:STANDARD
TZOFFSETFROM:+0100
TZOFFSETTO:+0000
TZNAME:GMT
DTSTART:20231029T010000
END:STANDARD
BEGIN:DAYLIGHT
TZOFFSETFROM:+0000
TZOFFSETTO:+0100
TZNAME:BST
DTSTART:20240331T010000
END:DAYLIGHT
BEGIN:STANDARD
TZOFFSETFROM:+0100
TZOFFSETTO:+0000
TZNAME:GMT
DTSTART:20241027T010000
END:STANDARD
END:VTIMEZONE
BEGIN:VEVENT
DTSTART;TZID=Europe/London:20230326T103000
DTEND;TZID=Europe/London:20230326T123000
DTSTAMP:20260422T115519
CREATED:20230101T213358Z
LAST-MODIFIED:20230101T213358Z
UID:10000273-1679826600-1679833800@macclesfield-harriers.co.uk
SUMMARY:Wilmslow Running Festival Half Marathon and 10K 2023
DESCRIPTION:
URL:https://macclesfield-harriers.co.uk/event/wilmslow-running-festival-half-marathon-and-10k-2023/
CATEGORIES:Club Championship,Road
ATTACH;FMTTYPE=image/png:https://macclesfield-harriers.co.uk/wp-content/uploads/2021/10/wilsmlow-running-festival.png
END:VEVENT
BEGIN:VEVENT
DTSTART;TZID=Europe/London:20230324T190000
DTEND;TZID=Europe/London:20230324T220000
DTSTAMP:20260422T115519
CREATED:20230203T140216Z
LAST-MODIFIED:20230203T140216Z
UID:10000314-1679684400-1679695200@macclesfield-harriers.co.uk
SUMMARY:AGM & Awards Presentation (2023)
DESCRIPTION:
URL:https://macclesfield-harriers.co.uk/event/agm-awards-presentation-2023/
LOCATION:Bollington Arts Centre\, Wellington Road\, Bollington\, Cheshire\, SK10 5JR\, United Kingdom
CATEGORIES:Cross Country,Events,Fell,Road,Social,Track and Field,Trail
ATTACH;FMTTYPE=image/jpeg:https://macclesfield-harriers.co.uk/wp-content/uploads/2022/02/medal-1512895.jpg
END:VEVENT
BEGIN:VEVENT
DTSTART;TZID=Europe/London:20230205T110000
DTEND;TZID=Europe/London:20230205T120000
DTSTAMP:20260422T115519
CREATED:20230101T212730Z
LAST-MODIFIED:20230101T212824Z
UID:10000272-1675594800-1675598400@macclesfield-harriers.co.uk
SUMMARY:Alsager 5M 2023
DESCRIPTION:
URL:https://macclesfield-harriers.co.uk/event/alsager-5m-2023/
CATEGORIES:Club Championship,Road
ATTACH;FMTTYPE=image/png:https://macclesfield-harriers.co.uk/wp-content/uploads/2023/01/alsager23_orig.png
END:VEVENT
BEGIN:VEVENT
DTSTART;TZID=Europe/London:20230115T103000
DTEND;TZID=Europe/London:20230115T123000
DTSTAMP:20260422T115519
CREATED:20230101T212221Z
LAST-MODIFIED:20230101T212404Z
UID:10000271-1673778600-1673785800@macclesfield-harriers.co.uk
SUMMARY:Four Villages Half Marathon 2023
DESCRIPTION:
URL:https://macclesfield-harriers.co.uk/event/four-villages-half-marathon-2023/
CATEGORIES:Club Championship,Road
ATTACH;FMTTYPE=image/png:https://macclesfield-harriers.co.uk/wp-content/uploads/2021/10/4-villages.png
END:VEVENT
BEGIN:VEVENT
DTSTART;TZID=Europe/London:20230101T100000
DTEND;TZID=Europe/London:20230101T120000
DTSTAMP:20260422T115519
CREATED:20230101T235221Z
LAST-MODIFIED:20230101T235221Z
UID:10000288-1672567200-1672574400@macclesfield-harriers.co.uk
SUMMARY:Stockport 10 mile
DESCRIPTION:
URL:https://macclesfield-harriers.co.uk/event/stockport-10-mile/
CATEGORIES:Club Championship,Road
ATTACH;FMTTYPE=image/jpeg:https://macclesfield-harriers.co.uk/wp-content/uploads/2022/01/stk10-logo-landscape3-e1641058614521.jpg
END:VEVENT
BEGIN:VEVENT
DTSTART;TZID=Europe/London:20221226T093000
DTEND;TZID=Europe/London:20221226T130000
DTSTAMP:20260422T115519
CREATED:20221209T150052Z
LAST-MODIFIED:20221213T165322Z
UID:10000265-1672047000-1672059600@macclesfield-harriers.co.uk
SUMMARY:2022 Boxing Day Handicap
DESCRIPTION:CLUB MEMBERS ONLY\nThe Boxing Day Handicap is back again for 2022 – this time with a new organiser (Sally Ann Hales) and a new venue (Langley Cricket Club) \nRegistration 9.30-10.15am (Cricket Club) \nStaggered start –  first (slower) runners setting off at 10.30am from the Methodist Church\, Langley \nSocial in the Cricket Club afterwards….the bar will be open. \nThe event needs helpers at the start\, finish and out on course. Please use THIS LINK to contact the organiser if you can help. \nInfo on route\, previous results etc….. Boxing Day Handicap
URL:https://macclesfield-harriers.co.uk/event/bdh-2022/
LOCATION:Langley Cricket Club\, Cock Hall Lane\, Langley\, Cheshire\, SK11 0DE\, United Kingdom
CATEGORIES:Club Races,Cross Country,Events,Fell,Road,Social,Track and Field,Trail
ATTACH;FMTTYPE=image/jpeg:https://macclesfield-harriers.co.uk/wp-content/uploads/2022/12/BDH-COVER.jpg
END:VEVENT
BEGIN:VEVENT
DTSTART;TZID=Europe/London:20221127T090000
DTEND;TZID=Europe/London:20221127T120000
DTSTAMP:20260422T115519
CREATED:20220101T173151Z
LAST-MODIFIED:20221126T120029Z
UID:10000133-1669539600-1669550400@macclesfield-harriers.co.uk
SUMMARY:2022 Wilmslow Festive 10K
DESCRIPTION:
URL:https://macclesfield-harriers.co.uk/event/wilmslow-festive-10k/
CATEGORIES:Club Championship,Events,Road
ATTACH;FMTTYPE=image/png:https://macclesfield-harriers.co.uk/wp-content/uploads/2022/01/festive-10K.png
END:VEVENT
BEGIN:VEVENT
DTSTART;TZID=Europe/London:20221120T090000
DTEND;TZID=Europe/London:20221120T120000
DTSTAMP:20260422T115519
CREATED:20220101T174011Z
LAST-MODIFIED:20221126T120054Z
UID:10000132-1668934800-1668945600@macclesfield-harriers.co.uk
SUMMARY:2022 Stockport 10
DESCRIPTION: 
URL:https://macclesfield-harriers.co.uk/event/stockport-10-date-not-confirmed/
CATEGORIES:Club Championship,Events,Road
ATTACH;FMTTYPE=image/jpeg:https://macclesfield-harriers.co.uk/wp-content/uploads/2022/01/stk10-logo-landscape3-e1641058614521.jpg
END:VEVENT
BEGIN:VEVENT
DTSTART;TZID=Europe/London:20221119T100000
DTEND;TZID=Europe/London:20221119T120000
DTSTAMP:20260422T115519
CREATED:20220101T172540Z
LAST-MODIFIED:20221126T154945Z
UID:10000134-1668852000-1668859200@macclesfield-harriers.co.uk
SUMMARY:2022 Meerbrook 15K
DESCRIPTION:
URL:https://macclesfield-harriers.co.uk/event/meerbrook-15k-2/
CATEGORIES:Club Championship,Events,Road
ATTACH;FMTTYPE=image/jpeg:https://macclesfield-harriers.co.uk/wp-content/uploads/2022/01/meerbrook.jpg
END:VEVENT
BEGIN:VEVENT
DTSTART;TZID=Europe/London:20221002T093000
DTEND;TZID=Europe/London:20221002T120000
DTSTAMP:20260422T115519
CREATED:20220101T172313Z
LAST-MODIFIED:20221126T155904Z
UID:10000135-1664703000-1664712000@macclesfield-harriers.co.uk
SUMMARY:2022 Congleton Half Marathon
DESCRIPTION:
URL:https://macclesfield-harriers.co.uk/event/congleton-half-marathon-2/
CATEGORIES:Club Championship,Events,Road
ATTACH;FMTTYPE=image/png:https://macclesfield-harriers.co.uk/wp-content/uploads/2022/01/Harriers-Logo-Yellow-1.png
END:VEVENT
BEGIN:VEVENT
DTSTART;TZID=Europe/London:20220910T090000
DTEND;TZID=Europe/London:20220910T100000
DTSTAMP:20260422T115519
CREATED:20220614T082631Z
LAST-MODIFIED:20220614T082631Z
UID:10000146-1662800400-1662804000@macclesfield-harriers.co.uk
SUMMARY:Macclesfield Parkrun
DESCRIPTION:
URL:https://macclesfield-harriers.co.uk/event/macclesfield-parkrun/
CATEGORIES:Club Championship,Road
END:VEVENT
BEGIN:VEVENT
DTSTART;TZID=Europe/London:20220826T190000
DTEND;TZID=Europe/London:20220826T200000
DTSTAMP:20260422T115519
CREATED:20220101T171822Z
LAST-MODIFIED:20220102T130335Z
UID:10000136-1661540400-1661544000@macclesfield-harriers.co.uk
SUMMARY:Mid Cheshire 5K Summer
DESCRIPTION:
URL:https://macclesfield-harriers.co.uk/event/mid-cheshire-5k-summer/
CATEGORIES:Club Championship,Events,Road
ATTACH;FMTTYPE=image/jpeg:https://macclesfield-harriers.co.uk/wp-content/uploads/2021/10/mid-cheshire-jpg.jpg
END:VEVENT
BEGIN:VEVENT
DTSTART;TZID=Europe/London:20220731T093000
DTEND;TZID=Europe/London:20220731T113000
DTSTAMP:20260422T115519
CREATED:20220101T170326Z
LAST-MODIFIED:20220614T082843Z
UID:10000252-1659259800-1659267000@macclesfield-harriers.co.uk
SUMMARY:Colshaw 10K
DESCRIPTION:
URL:https://macclesfield-harriers.co.uk/event/colshaw-10k/
CATEGORIES:Club Championship,Events,Road
ATTACH;FMTTYPE=image/jpeg:https://macclesfield-harriers.co.uk/wp-content/uploads/2022/01/colshaw-1.jpg
END:VEVENT
BEGIN:VEVENT
DTSTART;TZID=Europe/London:20220718T190000
DTEND;TZID=Europe/London:20220718T200000
DTSTAMP:20260422T115519
CREATED:20220101T171124Z
LAST-MODIFIED:20221126T160008Z
UID:10000137-1658170800-1658174400@macclesfield-harriers.co.uk
SUMMARY:2022 Road Handicap
DESCRIPTION:
URL:https://macclesfield-harriers.co.uk/event/road-handicap/
LOCATION:Macclesfield Athletics Track\, Priory Lane\, Macclesfield\, Cheshire\, SK10 4AF\, United Kingdom
CATEGORIES:Club Championship,Events,Road
ATTACH;FMTTYPE=image/jpeg:https://macclesfield-harriers.co.uk/wp-content/uploads/2019/07/65454807_2133652556744594_3950367484132982784_o-e1625500782627.jpg
END:VEVENT
BEGIN:VEVENT
DTSTART;TZID=Europe/London:20220712T190000
DTEND;TZID=Europe/London:20220712T203000
DTSTAMP:20260422T115519
CREATED:20220614T082958Z
LAST-MODIFIED:20220614T082958Z
UID:10000138-1657652400-1657657800@macclesfield-harriers.co.uk
SUMMARY:Round the Runway 5M
DESCRIPTION:
URL:https://macclesfield-harriers.co.uk/event/round-the-runway-5m-2/
CATEGORIES:Club Championship,Road
END:VEVENT
BEGIN:VEVENT
DTSTART;TZID=Europe/London:20220429T190000
DTEND;TZID=Europe/London:20220429T200000
DTSTAMP:20260422T115519
CREATED:20211013T175922Z
LAST-MODIFIED:20220102T124737Z
UID:10000139-1651258800-1651262400@macclesfield-harriers.co.uk
SUMMARY:Mid Cheshire 5K Spring
DESCRIPTION:
URL:https://macclesfield-harriers.co.uk/event/mid-cheshire-5k-2/
CATEGORIES:Club Championship,Events,Road
ATTACH;FMTTYPE=image/jpeg:https://macclesfield-harriers.co.uk/wp-content/uploads/2021/10/mid-cheshire-jpg.jpg
END:VEVENT
BEGIN:VEVENT
DTSTART;TZID=Europe/London:20220320T100000
DTEND;TZID=Europe/London:20220320T140000
DTSTAMP:20260422T115519
CREATED:20211013T175128Z
LAST-MODIFIED:20220102T124706Z
UID:10000157-1647770400-1647784800@macclesfield-harriers.co.uk
SUMMARY:Wilmslow Running Festival
DESCRIPTION:
URL:https://macclesfield-harriers.co.uk/event/wilmslow-running-festival/
CATEGORIES:Club Championship,Events,Road
ATTACH;FMTTYPE=image/png:https://macclesfield-harriers.co.uk/wp-content/uploads/2021/10/wilsmlow-running-festival.png
END:VEVENT
BEGIN:VEVENT
DTSTART;VALUE=DATE:20220226
DTEND;VALUE=DATE:20220227
DTSTAMP:20260422T115519
CREATED:20211123T182716Z
LAST-MODIFIED:20211123T182733Z
UID:10000155-1645833600-1645919999@macclesfield-harriers.co.uk
SUMMARY:National Cross Country Championships
DESCRIPTION:The big event of the year\, held at Parliament Hill – London. \nFull race details are available here. \nhttps://www.race-results.co.uk/onlineentries/uploads/infonatxc22.pdf \nRace entries are below \nhttps://www.race-results.co.uk/results/2022/cheshirexc22e.php
URL:https://macclesfield-harriers.co.uk/event/national-cross-country-championships/
CATEGORIES:Club Championship,Cross Country,Events,Fell,Road,Track and Field,Trail,Training
ATTACH;FMTTYPE=image/jpeg:https://macclesfield-harriers.co.uk/wp-content/uploads/2021/11/Screenshot-2021-11-23-180921-1.jpg
END:VEVENT
BEGIN:VEVENT
DTSTART;TZID=Europe/London:20220206T110000
DTEND;TZID=Europe/London:20220206T130000
DTSTAMP:20260422T115519
CREATED:20211013T174527Z
LAST-MODIFIED:20220102T124636Z
UID:10000159-1644145200-1644152400@macclesfield-harriers.co.uk
SUMMARY:VeloRunner Alsager 5
DESCRIPTION:
URL:https://macclesfield-harriers.co.uk/event/velorunner-alsager-5/
CATEGORIES:Club Championship,Events,Road
ATTACH;FMTTYPE=image/jpeg:https://macclesfield-harriers.co.uk/wp-content/uploads/2021/10/alsager-5-medal-2022-navy-trim-with-ribbon-2_orig.jpg
END:VEVENT
BEGIN:VEVENT
DTSTART;VALUE=DATE:20220129
DTEND;VALUE=DATE:20220130
DTSTAMP:20260422T115519
CREATED:20211123T182137Z
LAST-MODIFIED:20211130T180722Z
UID:10000198-1643414400-1643500799@macclesfield-harriers.co.uk
SUMMARY:Northern XC Championships
DESCRIPTION:Pontefract Park on 29th January \nEnter as an individual below \nhttps://www.race-results.co.uk/results/2022/naxc22e.php \n“Northern Cross Country Championships 2022 \n\n\nCross Country
URL:https://macclesfield-harriers.co.uk/event/northern-xc-championships/
CATEGORIES:Cross Country,Events,Road,Track and Field
ATTACH;FMTTYPE=image/jpeg:https://macclesfield-harriers.co.uk/wp-content/uploads/2021/11/Screenshot-2021-11-23-180921.jpg
END:VEVENT
BEGIN:VEVENT
DTSTART;TZID=Europe/London:20220116T103000
DTEND;TZID=Europe/London:20220116T140000
DTSTAMP:20260422T115519
CREATED:20211013T171506Z
LAST-MODIFIED:20220102T124558Z
UID:10000140-1642329000-1642341600@macclesfield-harriers.co.uk
SUMMARY:Essar Four Villages Half Marathon
DESCRIPTION:
URL:https://macclesfield-harriers.co.uk/event/essar-four-villages-half-marathon/
CATEGORIES:Club Championship,Events,Road
ATTACH;FMTTYPE=image/png:https://macclesfield-harriers.co.uk/wp-content/uploads/2021/10/4-villages.png
END:VEVENT
BEGIN:VEVENT
DTSTART;VALUE=DATE:20220108
DTEND;VALUE=DATE:20220109
DTSTAMP:20260422T115519
CREATED:20211123T181101Z
LAST-MODIFIED:20211123T181802Z
UID:10000224-1641600000-1641686399@macclesfield-harriers.co.uk
SUMMARY:Cheshire Cross Country Championship
DESCRIPTION:The county XC champs are open for all registered athletes from U11 upwards. \nEntries close 1st January 2022 \nThis year’s event is a new venue at the The Farm Club\, Pickmere\, near Knutsford. \nEntries available here – Cheshire XC entry form 2022 v1 (2) \nhttps://www.race-results.co.uk/results/2022/cheshirexc22e.php \nFurther information will appear here – http://www.cheshireaa.com/
URL:https://macclesfield-harriers.co.uk/event/cheshire-cross-country-championship/
CATEGORIES:Club Championship,Cross Country,Fell,Road,Track and Field,Trail,Training
ATTACH;FMTTYPE=image/jpeg:https://macclesfield-harriers.co.uk/wp-content/uploads/2021/11/Screenshot-2021-11-23-180921.jpg
END:VEVENT
BEGIN:VEVENT
DTSTART;TZID=Europe/London:20211215T190000
DTEND;TZID=Europe/London:20211215T210000
DTSTAMP:20260422T115519
CREATED:20211115T090154Z
LAST-MODIFIED:20211210T085621Z
UID:10000250-1639594800-1639602000@macclesfield-harriers.co.uk
SUMMARY:Bolly Street-O 2021
DESCRIPTION:The annual ‘Bolly-Street-O’ organised  by Andy Skelhorn is on again for 2021. Please go to the Fell or Trail section Facebook pages and mark yourself as ‘Going’ so Andy has an idea of numbers (for maps). \nFormat: 60 Minutes of Street Orienteering\nTerrain: Streets and a few tracks\nVenue: The Vale Inn\, Adlington Rd\, Bollington\nPairing up is permitted.\nArrive 6.45pm for a 7.00pm start. \nBring a pencil and a plastic bag in case it rains. Maps will be provided on the night. \n \n 
URL:https://macclesfield-harriers.co.uk/event/bolly-street-o-2021/
LOCATION:The Vale Inn\,\, Adlington Road\, Bollington\, Cheshire\, SK10 5JT\, United Kingdom
CATEGORIES:Events,Fell,Road,Trail
ATTACH;FMTTYPE=image/jpeg:https://macclesfield-harriers.co.uk/wp-content/uploads/2021/11/Bolly-Street-O.jpg
END:VEVENT
BEGIN:VEVENT
DTSTART;TZID=Europe/London:20211212T100000
DTEND;TZID=Europe/London:20211212T140000
DTSTAMP:20260422T115519
CREATED:20200309T172425Z
LAST-MODIFIED:20210818T075208Z
UID:10000024-1639303200-1639317600@macclesfield-harriers.co.uk
SUMMARY:Stockport 10M
DESCRIPTION:Sunday 12 December? Date to be confirmed.
URL:https://macclesfield-harriers.co.uk/event/stockport-10m/
CATEGORIES:Events,Road
ATTACH;FMTTYPE=image/png:https://macclesfield-harriers.co.uk/wp-content/uploads/2020/03/Stockport-10.png
END:VEVENT
BEGIN:VEVENT
DTSTART;TZID=Europe/London:20211109T180000
DTEND;TZID=Europe/London:20211109T203000
DTSTAMP:20260422T115519
CREATED:20211016T164103Z
LAST-MODIFIED:20211016T164103Z
UID:10000210-1636480800-1636489800@macclesfield-harriers.co.uk
SUMMARY:MDOC Night Street League (Street-O)
DESCRIPTION:This is the second in the annual Night Street League Series organised by MDOC. \nThe Weaver pub\, 11 Thornton Square\, Macclesfield SK11 7XZ
URL:https://macclesfield-harriers.co.uk/event/mdoc-night-street-league-street-o/
CATEGORIES:Events,Road,Trail
ATTACH;FMTTYPE=image/jpeg:https://macclesfield-harriers.co.uk/wp-content/uploads/2021/10/NSL.jpg
END:VEVENT
BEGIN:VEVENT
DTSTART;TZID=Europe/London:20211030T110000
DTEND;TZID=Europe/London:20211030T170000
DTSTAMP:20260422T115519
CREATED:20210925T182552Z
LAST-MODIFIED:20210925T182552Z
UID:10000143-1635591600-1635613200@macclesfield-harriers.co.uk
SUMMARY:MDOC - East Cheshire Urban Weekend - Day 1: Macclesfield West
DESCRIPTION:East Cheshire Urban Weekend – Day 1: Macclesfield West\nIncorporating the NW Sprint Championship\nThis event is the North West Sprint Championship. It will comprise a 2-part sprint covering two separate parts of the area. \nSee also Day 2 – Knutsford \nSat 30th Oct 2021\nType of event: Regional\, Sprint\, Urban\nType of terrain: Urban
URL:https://macclesfield-harriers.co.uk/event/mdoc-east-cheshire-urban-weekend-day-1-macclesfield-west/
CATEGORIES:Events,Road,Trail
ATTACH;FMTTYPE=image/jpeg:https://macclesfield-harriers.co.uk/wp-content/uploads/2021/09/MDOC-OCT-21.jpg
END:VEVENT
BEGIN:VEVENT
DTSTART;TZID=Europe/London:20211009T100000
DTEND;TZID=Europe/London:20211009T170000
DTSTAMP:20260422T115519
CREATED:20210613T112439Z
LAST-MODIFIED:20210823T144433Z
UID:10000044-1633773600-1633798800@macclesfield-harriers.co.uk
SUMMARY:ERRA Autumn Road Relays – venue TBC
DESCRIPTION:
URL:https://macclesfield-harriers.co.uk/event/erra-autumn-road-relays-venue-tbc/
CATEGORIES:Road,Track and Field
ATTACH;FMTTYPE=image/jpeg:https://macclesfield-harriers.co.uk/wp-content/uploads/2021/06/ERRA.jpg
END:VEVENT
BEGIN:VEVENT
DTSTART;TZID=Europe/London:20210928T181500
DTEND;TZID=Europe/London:20210928T200000
DTSTAMP:20260422T115519
CREATED:20210921T182401Z
LAST-MODIFIED:20210925T085537Z
UID:10000091-1632852900-1632859200@macclesfield-harriers.co.uk
SUMMARY:2021 Mixed Ability Track Relay - CLUB MEMBERS ONLY
DESCRIPTION:You are invited to take part in a mixed ability relay at the track during our normal training session on Tuesday 28th September. \nIt will be run along the same lines as previous mixed ability relays. \nTeams of 5  run as many laps as possible in 60mins (viz run one lap rest 4 then repeat) \nOpen to ALL paid up club members  mid teens upwards who are fit and healthy and can run reps of 400m \n6.15pm – Register promptly by signing in the column with which you normally train (at the desk in front of the clubhouse ) \nWarm up \n6.45pm prompt split into assigned groups\, wearing team number\, decide on start sequence and provide a lap counter \n7.00pm  Event starts and continues for 60mins. \nEach team runs as many laps as possible. \nObjective to have fun \,meet new members have a good time and not get injured. \nPlease come along and please spread the word in the meantime \nRegards\, Bob Lynch  07964 956 567 / 01625 829229
URL:https://macclesfield-harriers.co.uk/event/2021-mixed-ability-track-relay-club-members-only/
LOCATION:Macclesfield Athletics Track\, Priory Lane\, Macclesfield\, Cheshire\, SK10 4AF\, United Kingdom
CATEGORIES:Cross Country,Events,Fell,Road,Social,Track and Field,Trail,Training
ATTACH;FMTTYPE=image/jpeg:https://macclesfield-harriers.co.uk/wp-content/uploads/2019/07/65454807_2133652556744594_3950367484132982784_o-e1625500782627.jpg
END:VEVENT
BEGIN:VEVENT
DTSTART;TZID=Europe/London:20210918T100000
DTEND;TZID=Europe/London:20210918T170000
DTSTAMP:20260422T115519
CREATED:20210613T112338Z
LAST-MODIFIED:20210823T144608Z
UID:10000043-1631959200-1631984400@macclesfield-harriers.co.uk
SUMMARY:Northern Athletics Autumn Road Relays – Redcar
DESCRIPTION:U13–Senior
URL:https://macclesfield-harriers.co.uk/event/northern-athletics-autumn-road-relays-redcar/
CATEGORIES:Events,Road,Track and Field
ATTACH;FMTTYPE=image/jpeg:https://macclesfield-harriers.co.uk/wp-content/uploads/2021/06/Northern-Athletics.jpg
END:VEVENT
BEGIN:VEVENT
DTSTART;TZID=Europe/London:20210911T103000
DTEND;TZID=Europe/London:20210911T150000
DTSTAMP:20260422T115519
CREATED:20210613T112054Z
LAST-MODIFIED:20210818T071247Z
UID:10000042-1631356200-1631372400@macclesfield-harriers.co.uk
SUMMARY:North West Road Relays\, Birchwood
DESCRIPTION:U11–Senior
URL:https://macclesfield-harriers.co.uk/event/north-west-road-relays-birchwood/
CATEGORIES:Road,Track and Field
ATTACH;FMTTYPE=image/jpeg:https://macclesfield-harriers.co.uk/wp-content/uploads/2019/07/65454807_2133652556744594_3950367484132982784_o-e1625500782627.jpg
END:VEVENT
END:VCALENDAR