BEGIN:VCALENDAR
VERSION:2.0
PRODID:-//Macclesfield Harriers &amp; Athletic Club - ECPv6.15.20//NONSGML v1.0//EN
CALSCALE:GREGORIAN
METHOD:PUBLISH
X-WR-CALNAME:Macclesfield Harriers &amp; Athletic Club
X-ORIGINAL-URL:https://macclesfield-harriers.co.uk
X-WR-CALDESC:Events for Macclesfield Harriers &amp; Athletic Club
REFRESH-INTERVAL;VALUE=DURATION:PT1H
X-Robots-Tag:noindex
X-PUBLISHED-TTL:PT1H
BEGIN:VTIMEZONE
TZID:UTC
BEGIN:STANDARD
TZOFFSETFROM:+0000
TZOFFSETTO:+0000
TZNAME:UTC
DTSTART:20240101T000000
END:STANDARD
END:VTIMEZONE
BEGIN:VTIMEZONE
TZID:Europe/London
BEGIN:DAYLIGHT
TZOFFSETFROM:+0000
TZOFFSETTO:+0100
TZNAME:BST
DTSTART:20250330T010000
END:DAYLIGHT
BEGIN:STANDARD
TZOFFSETFROM:+0100
TZOFFSETTO:+0000
TZNAME:GMT
DTSTART:20251026T010000
END:STANDARD
BEGIN:DAYLIGHT
TZOFFSETFROM:+0000
TZOFFSETTO:+0100
TZNAME:BST
DTSTART:20260329T010000
END:DAYLIGHT
BEGIN:STANDARD
TZOFFSETFROM:+0100
TZOFFSETTO:+0000
TZNAME:GMT
DTSTART:20261025T010000
END:STANDARD
BEGIN:DAYLIGHT
TZOFFSETFROM:+0000
TZOFFSETTO:+0100
TZNAME:BST
DTSTART:20270328T010000
END:DAYLIGHT
BEGIN:STANDARD
TZOFFSETFROM:+0100
TZOFFSETTO:+0000
TZNAME:GMT
DTSTART:20271031T010000
END:STANDARD
END:VTIMEZONE
BEGIN:VEVENT
DTSTART;TZID=UTC:20251011T090000
DTEND;TZID=UTC:20251011T100000
DTSTAMP:20260423T102220
CREATED:20250117T123402Z
LAST-MODIFIED:20250117T123402Z
UID:10000395-1760173200-1760176800@macclesfield-harriers.co.uk
SUMMARY:Wilmslow parkrun
DESCRIPTION:Register as a Macclesfield Harrier on the parkrun website for your score to count towards the 2025 Club Championship
URL:https://macclesfield-harriers.co.uk/event/wilmslow-parkrun/
CATEGORIES:Club Championship,Road
ATTACH;FMTTYPE=image/jpeg:https://macclesfield-harriers.co.uk/wp-content/uploads/2024/07/Round-the-Runway-scaled.jpg
END:VEVENT
BEGIN:VEVENT
DTSTART;TZID=UTC:20251026T090000
DTEND;TZID=UTC:20251026T130000
DTSTAMP:20260423T102220
CREATED:20250117T125040Z
LAST-MODIFIED:20250117T125040Z
UID:10000401-1761469200-1761483600@macclesfield-harriers.co.uk
SUMMARY:Macclesfield Running Festival
DESCRIPTION:Organised by RunThrough on behalf of the club. Please contact the club chairman if you’re interested in volunteering at this race. \n5 bonus points are available for the 5k\, 10k\, and Half Marathon option. The Half Marathon is a designated race in the Cheshire Grand Prix. Your best 5 races in the series will count towards your standings in the Cheshire Grand Prix. Click here to sign up.
URL:https://macclesfield-harriers.co.uk/event/macclesfield-running-festival-2/
CATEGORIES:Club Championship,Road
ATTACH;FMTTYPE=image/jpeg:https://macclesfield-harriers.co.uk/wp-content/uploads/2024/07/Round-the-Runway-scaled.jpg
END:VEVENT
BEGIN:VEVENT
DTSTART;TZID=UTC:20251030T190000
DTEND;TZID=UTC:20251030T203000
DTSTAMP:20260423T102220
CREATED:20250730T062507Z
LAST-MODIFIED:20250813T205602Z
UID:10000427-1761850800-1761856200@macclesfield-harriers.co.uk
SUMMARY:Club Committee Meeting (October 2025)
DESCRIPTION:Committee Meeting … club members are welcome to attend. Any questions to be submitted to the club secretary.
URL:https://macclesfield-harriers.co.uk/event/club-committee-meeting-october-2025/
LOCATION:Macclesfield Athletics Track\, Priory Lane\, Macclesfield\, Cheshire\, SK10 4AF\, United Kingdom
CATEGORIES:Cross Country,Events,Fell,Road,Social,Track and Field,Trail
ATTACH;FMTTYPE=image/png:https://macclesfield-harriers.co.uk/wp-content/uploads/2019/08/email-header.png
ORGANIZER;CN="Rachel Gilliland":MAILTO:secretary@macclesfield-harriers.co.uk
END:VEVENT
BEGIN:VEVENT
DTSTART;TZID=UTC:20251226T090000
DTEND;TZID=UTC:20251226T113000
DTSTAMP:20260423T102220
CREATED:20251008T125809Z
LAST-MODIFIED:20251128T123247Z
UID:10000429-1766739600-1766748600@macclesfield-harriers.co.uk
SUMMARY:2025 Boxing Day Run
DESCRIPTION:Details of the 2025 Boxing Day run will be available on the website by early December. \n2025 Boxing Day Run Details \nRegistration 9.00-9.45am (Cricket Club).\nPre-Registration Link \nRun Start 10.00am (Langley Methodist Church\, Cock Hall Lane).
URL:https://macclesfield-harriers.co.uk/event/2025-boxing-day-run/
LOCATION:Langley Cricket Club\, Cock Hall Lane\, Langley\, Cheshire\, SK11 0DE\, United Kingdom
CATEGORIES:Events,Road,Social,Trail
ATTACH;FMTTYPE=image/jpeg:https://macclesfield-harriers.co.uk/wp-content/uploads/2022/12/BDH-COVER.jpg
END:VEVENT
BEGIN:VEVENT
DTSTART;TZID=UTC:20260115T190000
DTEND;TZID=UTC:20260115T203000
DTSTAMP:20260423T102220
CREATED:20260101T082345Z
LAST-MODIFIED:20260108T161016Z
UID:10000431-1768503600-1768509000@macclesfield-harriers.co.uk
SUMMARY:Club Committee Meeting (January 2026)
DESCRIPTION:Committee Meeting … club members are welcome to attend. Any questions to be submitted to the club secretary. \nNote: Meeting date changed due to weather conditions.
URL:https://macclesfield-harriers.co.uk/event/club-committee-meeting-january-2026/
LOCATION:Macclesfield Athletics Track\, Priory Lane\, Macclesfield\, Cheshire\, SK10 4AF\, United Kingdom
CATEGORIES:Cross Country,Events,Fell,Road,Social,Track and Field,Trail
ATTACH;FMTTYPE=image/png:https://macclesfield-harriers.co.uk/wp-content/uploads/2019/08/email-header.png
ORGANIZER;CN="Rachel Gilliland":MAILTO:secretary@macclesfield-harriers.co.uk
END:VEVENT
BEGIN:VEVENT
DTSTART;TZID=Europe/London:20260327T190000
DTEND;TZID=Europe/London:20260327T220000
DTSTAMP:20260423T102220
CREATED:20250801T165541Z
LAST-MODIFIED:20250813T155050Z
UID:10000428-1774638000-1774648800@macclesfield-harriers.co.uk
SUMMARY:2025/2026 AGM
DESCRIPTION:Details TBA
URL:https://macclesfield-harriers.co.uk/event/2025-2026-agm/
CATEGORIES:Cross Country,Events,Fell,Road,Social,Track and Field,Trail
ATTACH;FMTTYPE=image/jpeg:https://macclesfield-harriers.co.uk/wp-content/uploads/2021/07/MHAC-WELCOME-V3.jpg
END:VEVENT
END:VCALENDAR