BEGIN:VCALENDAR
VERSION:2.0
PRODID:-//Macclesfield Harriers &amp; Athletic Club - ECPv6.15.20//NONSGML v1.0//EN
CALSCALE:GREGORIAN
METHOD:PUBLISH
X-WR-CALNAME:Macclesfield Harriers &amp; Athletic Club
X-ORIGINAL-URL:https://macclesfield-harriers.co.uk
X-WR-CALDESC:Events for Macclesfield Harriers &amp; Athletic Club
REFRESH-INTERVAL;VALUE=DURATION:PT1H
X-Robots-Tag:noindex
X-PUBLISHED-TTL:PT1H
BEGIN:VTIMEZONE
TZID:UTC
BEGIN:STANDARD
TZOFFSETFROM:+0000
TZOFFSETTO:+0000
TZNAME:UTC
DTSTART:20230101T000000
END:STANDARD
END:VTIMEZONE
BEGIN:VTIMEZONE
TZID:Europe/London
BEGIN:DAYLIGHT
TZOFFSETFROM:+0000
TZOFFSETTO:+0100
TZNAME:BST
DTSTART:20230326T010000
END:DAYLIGHT
BEGIN:STANDARD
TZOFFSETFROM:+0100
TZOFFSETTO:+0000
TZNAME:GMT
DTSTART:20231029T010000
END:STANDARD
BEGIN:DAYLIGHT
TZOFFSETFROM:+0000
TZOFFSETTO:+0100
TZNAME:BST
DTSTART:20240331T010000
END:DAYLIGHT
BEGIN:STANDARD
TZOFFSETFROM:+0100
TZOFFSETTO:+0000
TZNAME:GMT
DTSTART:20241027T010000
END:STANDARD
BEGIN:DAYLIGHT
TZOFFSETFROM:+0000
TZOFFSETTO:+0100
TZNAME:BST
DTSTART:20250330T010000
END:DAYLIGHT
BEGIN:STANDARD
TZOFFSETFROM:+0100
TZOFFSETTO:+0000
TZNAME:GMT
DTSTART:20251026T010000
END:STANDARD
END:VTIMEZONE
BEGIN:VEVENT
DTSTART;TZID=UTC:20250817T090000
DTEND;TZID=UTC:20250817T120000
DTSTAMP:20260422T042126
CREATED:20250117T124512Z
LAST-MODIFIED:20250117T125254Z
UID:10000399-1755421200-1755432000@macclesfield-harriers.co.uk
SUMMARY:Birchwood 10k
DESCRIPTION:5 bonus points are available as this is a designated race in the Cheshire Grand Prix. Your best 5 races in the series will count towards your standings in the Cheshire Grand Prix.
URL:https://macclesfield-harriers.co.uk/event/birchwood-10k-2/
CATEGORIES:Club Championship,Road
ATTACH;FMTTYPE=image/jpeg:https://macclesfield-harriers.co.uk/wp-content/uploads/2024/07/Round-the-Runway-scaled.jpg
END:VEVENT
BEGIN:VEVENT
DTSTART;TZID=UTC:20250806T190000
DTEND;TZID=UTC:20250806T213000
DTSTAMP:20260422T042126
CREATED:20250117T124317Z
LAST-MODIFIED:20250117T124317Z
UID:10000398-1754506800-1754515800@macclesfield-harriers.co.uk
SUMMARY:Pie and Peas 5
DESCRIPTION:5 bonus points are available as this is a designated race in the Cheshire Grand Prix. Your best 5 races in the series will count towards your standings in the Cheshire Grand Prix.
URL:https://macclesfield-harriers.co.uk/event/pie-and-peas-5/
CATEGORIES:Club Championship,Road
ATTACH;FMTTYPE=image/jpeg:https://macclesfield-harriers.co.uk/wp-content/uploads/2024/07/Round-the-Runway-scaled.jpg
END:VEVENT
BEGIN:VEVENT
DTSTART;TZID=UTC:20250726T090000
DTEND;TZID=UTC:20250726T100000
DTSTAMP:20260422T042126
CREATED:20250117T123257Z
LAST-MODIFIED:20250117T123257Z
UID:10000394-1753520400-1753524000@macclesfield-harriers.co.uk
SUMMARY:Macclesfield parkrun
DESCRIPTION:Register as a Macclesfield Harrier on the parkrun website for your score to count towards the 2025 Club Championship
URL:https://macclesfield-harriers.co.uk/event/macclesfield-parkrun-2/
CATEGORIES:Club Championship,Road
ATTACH;FMTTYPE=image/jpeg:https://macclesfield-harriers.co.uk/wp-content/uploads/2024/07/Round-the-Runway-scaled.jpg
END:VEVENT
BEGIN:VEVENT
DTSTART;TZID=UTC:20250615T093000
DTEND;TZID=UTC:20250615T120000
DTSTAMP:20260422T042126
CREATED:20250117T160312Z
LAST-MODIFIED:20250117T160312Z
UID:10000406-1749979800-1749988800@macclesfield-harriers.co.uk
SUMMARY:Colshaw Hall 10k
DESCRIPTION:Click here to enter.
URL:https://macclesfield-harriers.co.uk/event/colshaw-hall-10k/
CATEGORIES:Club Championship,Road
ATTACH;FMTTYPE=image/jpeg:https://macclesfield-harriers.co.uk/wp-content/uploads/2024/07/Round-the-Runway-scaled.jpg
END:VEVENT
BEGIN:VEVENT
DTSTART;TZID=UTC:20250608T080000
DTEND;TZID=UTC:20250608T170000
DTSTAMP:20260422T042126
CREATED:20250117T160118Z
LAST-MODIFIED:20250117T160118Z
UID:10000405-1749369600-1749402000@macclesfield-harriers.co.uk
SUMMARY:Meerbrook 15k
DESCRIPTION:Click here to enter.
URL:https://macclesfield-harriers.co.uk/event/meerbrook-15k-4/
CATEGORIES:Club Championship,Road
ATTACH;FMTTYPE=image/jpeg:https://macclesfield-harriers.co.uk/wp-content/uploads/2024/07/Round-the-Runway-scaled.jpg
END:VEVENT
BEGIN:VEVENT
DTSTART;TZID=UTC:20250605T191500
DTEND;TZID=UTC:20250605T203000
DTSTAMP:20260422T042126
CREATED:20250117T124154Z
LAST-MODIFIED:20250117T124154Z
UID:10000397-1749150900-1749155400@macclesfield-harriers.co.uk
SUMMARY:Dave Telford Dunham Massey 5k
DESCRIPTION:5 bonus points are available as this is a designated race in the Cheshire Grand Prix. Your best 5 races in the series will count towards your standings in the Cheshire Grand Prix. Click here to sign up.
URL:https://macclesfield-harriers.co.uk/event/dave-telford-dunham-massey-5k/
CATEGORIES:Club Championship,Road
ATTACH;FMTTYPE=image/jpeg:https://macclesfield-harriers.co.uk/wp-content/uploads/2024/07/Round-the-Runway-scaled.jpg
END:VEVENT
BEGIN:VEVENT
DTSTART;TZID=UTC:20250525T100000
DTEND;TZID=UTC:20250525T130000
DTSTAMP:20260422T042126
CREATED:20250117T154429Z
LAST-MODIFIED:20250117T154534Z
UID:10000404-1748167200-1748178000@macclesfield-harriers.co.uk
SUMMARY:Buxton Half Marathon
DESCRIPTION:A hilly half marathon with stunning views of the Peak District. Click here to enter.
URL:https://macclesfield-harriers.co.uk/event/buxton-half-marathon/
CATEGORIES:Club Championship,Road
ATTACH;FMTTYPE=image/jpeg:https://macclesfield-harriers.co.uk/wp-content/uploads/2024/07/Round-the-Runway-scaled.jpg
END:VEVENT
BEGIN:VEVENT
DTSTART;TZID=UTC:20250516T190000
DTEND;TZID=UTC:20250516T210000
DTSTAMP:20260422T042126
CREATED:20250117T125440Z
LAST-MODIFIED:20250117T125440Z
UID:10000402-1747422000-1747429200@macclesfield-harriers.co.uk
SUMMARY:Christleton 5k
DESCRIPTION:A flat\, fast evening 5k. 5 bonus points are available as this is a designated race in the Cheshire Grand Prix. Your best 5 races in the series will count towards your standings in the Cheshire Grand Prix.
URL:https://macclesfield-harriers.co.uk/event/christleton-5k-2/
CATEGORIES:Club Championship,Road
ATTACH;FMTTYPE=image/jpeg:https://macclesfield-harriers.co.uk/wp-content/uploads/2024/07/Round-the-Runway-scaled.jpg
END:VEVENT
BEGIN:VEVENT
DTSTART;TZID=UTC:20250501T193000
DTEND;TZID=UTC:20250501T210000
DTSTAMP:20260422T042126
CREATED:20250117T130140Z
LAST-MODIFIED:20250117T130140Z
UID:10000403-1746127800-1746133200@macclesfield-harriers.co.uk
SUMMARY:Buxworth 5
DESCRIPTION:A hilly 5 miler. Click here to enter.
URL:https://macclesfield-harriers.co.uk/event/buxworth-5/
CATEGORIES:Club Championship,Road
ATTACH;FMTTYPE=image/jpeg:https://macclesfield-harriers.co.uk/wp-content/uploads/2024/07/Round-the-Runway-scaled.jpg
END:VEVENT
BEGIN:VEVENT
DTSTART;TZID=UTC:20250420T090000
DTEND;TZID=UTC:20250420T120000
DTSTAMP:20260422T042126
CREATED:20250117T123915Z
LAST-MODIFIED:20250117T123915Z
UID:10000396-1745139600-1745150400@macclesfield-harriers.co.uk
SUMMARY:Crewe 10k
DESCRIPTION:5 bonus points are available as this is a designated race in the Cheshire Grand Prix. Your best 5 races in the series will count towards your standings in the Cheshire Grand Prix.
URL:https://macclesfield-harriers.co.uk/event/crewe-10k/
CATEGORIES:Club Championship,Road
ATTACH;FMTTYPE=image/jpeg:https://macclesfield-harriers.co.uk/wp-content/uploads/2024/07/Round-the-Runway-scaled.jpg
END:VEVENT
BEGIN:VEVENT
DTSTART;TZID=UTC:20250405T090000
DTEND;TZID=UTC:20250405T100000
DTSTAMP:20260422T042126
CREATED:20250117T123132Z
LAST-MODIFIED:20250117T123547Z
UID:10000393-1743843600-1743847200@macclesfield-harriers.co.uk
SUMMARY:Congleton parkrun
DESCRIPTION:Register as a Macclesfield Harrier on the parkrun website for your score to count towards the 2025 Club Championship.
URL:https://macclesfield-harriers.co.uk/event/congleton-parkrun/
CATEGORIES:Club Championship,Road
ATTACH;FMTTYPE=image/jpeg:https://macclesfield-harriers.co.uk/wp-content/uploads/2024/07/Round-the-Runway-scaled.jpg
END:VEVENT
BEGIN:VEVENT
DTSTART;TZID=UTC:20250323T093000
DTEND;TZID=UTC:20250323T130000
DTSTAMP:20260422T042126
CREATED:20250117T122829Z
LAST-MODIFIED:20250117T122953Z
UID:10000392-1742722200-1742734800@macclesfield-harriers.co.uk
SUMMARY:Wilmslow Running Festival
DESCRIPTION:10k and Half Marathon option. 5 bonus points are available for those competing in the Half Marathon due to it being a designated race in the Cheshire Grand Prix. \nSign up here.
URL:https://macclesfield-harriers.co.uk/event/wilmslow-running-festival-2/
CATEGORIES:Club Championship,Road
ATTACH;FMTTYPE=image/jpeg:https://macclesfield-harriers.co.uk/wp-content/uploads/2024/07/Round-the-Runway-scaled.jpg
END:VEVENT
BEGIN:VEVENT
DTSTART;TZID=UTC:20250308T090000
DTEND;TZID=UTC:20250308T100000
DTSTAMP:20260422T042126
CREATED:20250117T122437Z
LAST-MODIFIED:20250117T122437Z
UID:10000391-1741424400-1741428000@macclesfield-harriers.co.uk
SUMMARY:Pavilion Gardens parkrun
DESCRIPTION:Buxton. Register as a Macclesfield Harrier on the parkrun website for your score to count towards the 2025 Club Championship.
URL:https://macclesfield-harriers.co.uk/event/pavilion-gardens-parkrun/
CATEGORIES:Club Championship,Road
ATTACH;FMTTYPE=image/jpeg:https://macclesfield-harriers.co.uk/wp-content/uploads/2024/07/Round-the-Runway-scaled.jpg
END:VEVENT
BEGIN:VEVENT
DTSTART;TZID=UTC:20250202T110000
DTEND;TZID=UTC:20250202T130000
DTSTAMP:20260422T042126
CREATED:20250117T122107Z
LAST-MODIFIED:20250117T122107Z
UID:10000390-1738494000-1738501200@macclesfield-harriers.co.uk
SUMMARY:Alsager 5
DESCRIPTION:Alsager. Click here for entries.
URL:https://macclesfield-harriers.co.uk/event/alsager-5/
CATEGORIES:Club Championship,Road
ATTACH;FMTTYPE=image/jpeg:https://macclesfield-harriers.co.uk/wp-content/uploads/2024/07/Round-the-Runway-scaled.jpg
END:VEVENT
BEGIN:VEVENT
DTSTART;TZID=UTC:20250119T103000
DTEND;TZID=UTC:20250119T140000
DTSTAMP:20260422T042126
CREATED:20250117T121908Z
LAST-MODIFIED:20250117T121908Z
UID:10000389-1737282600-1737295200@macclesfield-harriers.co.uk
SUMMARY:Four Villages Half Marathon
DESCRIPTION:Helsby. Click here for entries.
URL:https://macclesfield-harriers.co.uk/event/four-villages-half-marathon-2/
CATEGORIES:Club Championship,Road
ATTACH;FMTTYPE=image/jpeg:https://macclesfield-harriers.co.uk/wp-content/uploads/2024/07/Round-the-Runway-scaled.jpg
END:VEVENT
BEGIN:VEVENT
DTSTART;TZID=UTC:20250115T190000
DTEND;TZID=UTC:20250115T203000
DTSTAMP:20260422T042126
CREATED:20241217T185346Z
LAST-MODIFIED:20241217T185346Z
UID:10000387-1736967600-1736973000@macclesfield-harriers.co.uk
SUMMARY:Club Committee Meeting (January 2025)
DESCRIPTION:Committee Meeting … club members are welcome to attend. Any questions to be submitted to the club secretary.
URL:https://macclesfield-harriers.co.uk/event/club-committee-meeting-january-2025/
LOCATION:Macclesfield Athletics Track\, Priory Lane\, Macclesfield\, Cheshire\, SK10 4AF\, United Kingdom
CATEGORIES:Cross Country,Events,Fell,Road,Social,Track and Field,Trail
ATTACH;FMTTYPE=image/png:https://macclesfield-harriers.co.uk/wp-content/uploads/2019/08/cropped-email-header.png
ORGANIZER;CN="Rachel Gilliland":MAILTO:secretary@macclesfield-harriers.co.uk
END:VEVENT
BEGIN:VEVENT
DTSTART;TZID=UTC:20241226T093000
DTEND;TZID=UTC:20241226T113000
DTSTAMP:20260422T042126
CREATED:20241109T173452Z
LAST-MODIFIED:20241112T171156Z
UID:10000385-1735205400-1735212600@macclesfield-harriers.co.uk
SUMMARY:2024 Boxing Day Run
DESCRIPTION:Details of the 2024 Boxing Day run will be available on the website by early December. \nRegistration 9.00-9.45am (Cricket Club).\nPre-Registration Link \nRun Start 10.00am (Langley Methodist Church\, Cock Hall Lane).
URL:https://macclesfield-harriers.co.uk/event/2024-boxing-day-run/
LOCATION:Langley Cricket Club\, Cock Hall Lane\, Langley\, Cheshire\, SK11 0DE\, United Kingdom
CATEGORIES:Events,Road,Social
ATTACH;FMTTYPE=image/jpeg:https://macclesfield-harriers.co.uk/wp-content/uploads/2022/12/BDH-COVER.jpg
END:VEVENT
BEGIN:VEVENT
DTSTART;TZID=Europe/London:20241124T091500
DTEND;TZID=Europe/London:20241124T110000
DTSTAMP:20260422T042126
CREATED:20240218T191307Z
LAST-MODIFIED:20240218T194414Z
UID:10000365-1732439700-1732446000@macclesfield-harriers.co.uk
SUMMARY:Wilmslow Festive 10k\, 2024
DESCRIPTION:Starts in Wilmslow town centre\nAn opportunity to race in festive outfits\nFast\, flat course which is net downhill for the first 5k\nhttps://www.runnorthwest.co.uk/pages/wilmslow-festive-10k-2024
URL:https://macclesfield-harriers.co.uk/event/wilmslow-festive-10k-2024/
LOCATION:Wilmslow town centre
CATEGORIES:Club Championship,Road
ATTACH;FMTTYPE=image/png:https://macclesfield-harriers.co.uk/wp-content/uploads/2024/02/Macclesfield-Harriers-for-calendar.png
END:VEVENT
BEGIN:VEVENT
DTSTART;TZID=Europe/London:20241027T093000
DTEND;TZID=Europe/London:20241027T120000
DTSTAMP:20260422T042126
CREATED:20240218T191701Z
LAST-MODIFIED:20240218T194559Z
UID:10000366-1730021400-1730030400@macclesfield-harriers.co.uk
SUMMARY:Macclesfield Running Festival\, 2024
DESCRIPTION:Hosted by Run Through in collaboration with Macclesfield Harriers & A.C.\nRun a 5k\, 10k or Half Marathon\nStarts and ends at Macclesfield Track\nPlenty of Macclesfield Harriers will be racing and marshalling\, so you’ll have great company all the way around!\nhttps://www.runthrough.co.uk/event/macclesfield-running-festival-october-2024/
URL:https://macclesfield-harriers.co.uk/event/macclesfield-running-festival-2024/
LOCATION:Macclesfield Leisure Centre
CATEGORIES:Club Championship,Road
ATTACH;FMTTYPE=image/png:https://macclesfield-harriers.co.uk/wp-content/uploads/2024/02/Macclesfield-Harriers-for-calendar.png
END:VEVENT
BEGIN:VEVENT
DTSTART;TZID=Europe/London:20241006T093000
DTEND;TZID=Europe/London:20241006T120000
DTSTAMP:20260422T042126
CREATED:20240218T190908Z
LAST-MODIFIED:20240218T195814Z
UID:10000364-1728207000-1728216000@macclesfield-harriers.co.uk
SUMMARY:Congleton Half Marathon\, 2024
DESCRIPTION:Large event HQ at Congleton High School\n40th anniversary event\nUndulating course\nhttps://congleton-harriers.co.uk/index.php/races/congleton-half-marathon-2
URL:https://macclesfield-harriers.co.uk/event/congleton-half-marathon-2024/
LOCATION:Congleton High School
CATEGORIES:Club Championship,Road
ATTACH;FMTTYPE=image/png:https://macclesfield-harriers.co.uk/wp-content/uploads/2024/02/Macclesfield-Harriers-for-calendar.png
END:VEVENT
BEGIN:VEVENT
DTSTART;TZID=Europe/London:20240914T090000
DTEND;TZID=Europe/London:20240914T100000
DTSTAMP:20260422T042126
CREATED:20240218T190608Z
LAST-MODIFIED:20240218T195847Z
UID:10000363-1726304400-1726308000@macclesfield-harriers.co.uk
SUMMARY:Crewe parkrun\, 2024
DESCRIPTION:Part of the Cheshire Grand Prix series\nFree to enter\nPlease make sure you update your parkrun profile to show you as  a member of Macclesfield Harriers & A.C. before the event begins\nhttps://www.parkrun.org.uk/crewe/
URL:https://macclesfield-harriers.co.uk/event/crewe-parkrun-2024/
LOCATION:Queens Park\, Crewe
CATEGORIES:Club Championship,Road
ATTACH;FMTTYPE=image/png:https://macclesfield-harriers.co.uk/wp-content/uploads/2024/02/Macclesfield-Harriers-for-calendar.png
END:VEVENT
BEGIN:VEVENT
DTSTART;TZID=Europe/London:20240817T090000
DTEND;TZID=Europe/London:20240817T170000
DTSTAMP:20260422T042126
CREATED:20240218T190405Z
LAST-MODIFIED:20240218T195934Z
UID:10000362-1723885200-1723914000@macclesfield-harriers.co.uk
SUMMARY:Macclesfield parkrun\, 2024
DESCRIPTION:Our local parkrun!\nFree to enter\nBring your friends and family along so we have as many people as possible with connections to the club!\nPlease make sure you update your parkrun profile to show you as  a member of Macclesfield Harriers & A.C. before the event begins\nhttps://www.parkrun.org.uk/macclesfield/
URL:https://macclesfield-harriers.co.uk/event/macclesfield-parkrun-2024/
LOCATION:South Park\, Macclesfield
CATEGORIES:Club Championship,Road
ATTACH;FMTTYPE=image/png:https://macclesfield-harriers.co.uk/wp-content/uploads/2024/02/Macclesfield-Harriers-for-calendar.png
END:VEVENT
BEGIN:VEVENT
DTSTART;TZID=Europe/London:20240811T100000
DTEND;TZID=Europe/London:20240811T120000
DTSTAMP:20260422T042126
CREATED:20240218T190019Z
LAST-MODIFIED:20240218T195707Z
UID:10000361-1723370400-1723377600@macclesfield-harriers.co.uk
SUMMARY:Sandbach 10k\, 2024
DESCRIPTION:Part of the Cheshire Grand Prix\nDescribed as ‘a largely flat course navigating the stunning rural Cheshire East countryside where PBs are often found’\nhttps://www.avtiming.com/sandbach10k
URL:https://macclesfield-harriers.co.uk/event/sandbach-10k-2024/
LOCATION:Sandbach Rugby Club
CATEGORIES:Club Championship,Road
ATTACH;FMTTYPE=image/png:https://macclesfield-harriers.co.uk/wp-content/uploads/2024/02/Macclesfield-Harriers-for-calendar.png
END:VEVENT
BEGIN:VEVENT
DTSTART;TZID=Europe/London:20240722T190000
DTEND;TZID=Europe/London:20240722T190000
DTSTAMP:20260422T042126
CREATED:20240218T185728Z
LAST-MODIFIED:20240218T195611Z
UID:10000360-1721674800-1721674800@macclesfield-harriers.co.uk
SUMMARY:Road Handicap 2024
DESCRIPTION:Free to enter\nStarts and ends at the club house next to Macclesfield Track.\nPredict your time and try to get as close to it as you can without using a watch or any other timing device\nYou don’t have to be the fastest person to win!\nOpen to club members only\nPrize ceremony afterwards
URL:https://macclesfield-harriers.co.uk/event/road-handicap-2024/
CATEGORIES:Club Championship,Road
ATTACH;FMTTYPE=image/png:https://macclesfield-harriers.co.uk/wp-content/uploads/2024/02/Macclesfield-Harriers-for-calendar.png
END:VEVENT
BEGIN:VEVENT
DTSTART;TZID=Europe/London:20240720T090000
DTEND;TZID=Europe/London:20240720T100000
DTSTAMP:20260422T042126
CREATED:20240218T185330Z
LAST-MODIFIED:20240218T195508Z
UID:10000359-1721466000-1721469600@macclesfield-harriers.co.uk
SUMMARY:Warrington parkrun\, 2024
DESCRIPTION:Part of the Cheshire Grand Prix\nFree to enter\nPlease make sure you update your parkrun profile so Macclesfield Harriers & A.C. shows as your club on your profile\nhttps://www.parkrun.org.uk/warrington/
URL:https://macclesfield-harriers.co.uk/event/warrington-parkrun/
CATEGORIES:Club Championship,Road
ATTACH;FMTTYPE=image/png:https://macclesfield-harriers.co.uk/wp-content/uploads/2024/02/Macclesfield-Harriers-for-calendar.png
END:VEVENT
BEGIN:VEVENT
DTSTART;TZID=Europe/London:20240714T091500
DTEND;TZID=Europe/London:20240714T103000
DTSTAMP:20260422T042126
CREATED:20240218T185136Z
LAST-MODIFIED:20240218T200359Z
UID:10000358-1720948500-1720953000@macclesfield-harriers.co.uk
SUMMARY:Wilmslow Summer 10k
DESCRIPTION:Pacers every 2m30s\nStarts in Wilmslow town centre\nhttps://www.runnorthwest.co.uk/pages/wilmslow-summer-10k-2024
URL:https://macclesfield-harriers.co.uk/event/wilmslow-summer-10k-2/
LOCATION:Wilmslow town centre
CATEGORIES:Club Championship,Road
ATTACH;FMTTYPE=image/png:https://macclesfield-harriers.co.uk/wp-content/uploads/2024/02/Macclesfield-Harriers-for-calendar.png
END:VEVENT
BEGIN:VEVENT
DTSTART;TZID=Europe/London:20240616T093000
DTEND;TZID=Europe/London:20240616T110000
DTSTAMP:20260422T042126
CREATED:20240218T184848Z
LAST-MODIFIED:20240218T200323Z
UID:10000357-1718530200-1718535600@macclesfield-harriers.co.uk
SUMMARY:Colshaw Hall 10k\, 2024
DESCRIPTION:Starts and ends at the Grade II listed Colshaw Hall\nhttps://runcheshire.niftyentries.com/Colshaw-Hall-10k-Knutsford-2024
URL:https://macclesfield-harriers.co.uk/event/colshaw-hall-10k-2024/
LOCATION:Colshaw Hall
CATEGORIES:Club Championship,Road
ATTACH;FMTTYPE=image/png:https://macclesfield-harriers.co.uk/wp-content/uploads/2024/02/Macclesfield-Harriers-for-calendar.png
END:VEVENT
BEGIN:VEVENT
DTSTART;TZID=Europe/London:20240606T191500
DTEND;TZID=Europe/London:20240606T200000
DTSTAMP:20260422T042126
CREATED:20240218T184615Z
LAST-MODIFIED:20240218T200251Z
UID:10000356-1717701300-1717704000@macclesfield-harriers.co.uk
SUMMARY:Dave Telford Memorial Dunham Massey 5k\, 2024
DESCRIPTION:Part of the Cheshire Grand Prix and the Spectrum Striders Summer Series\nTakes place in the grounds of Dunham Massey National Trust\nhttps://bookitzone.com/julian_spencer/SvjFFX
URL:https://macclesfield-harriers.co.uk/event/dave-telford-memorial-dunham-massey-10k-2024/
LOCATION:Dunham Massey
CATEGORIES:Club Championship,Road
ATTACH;FMTTYPE=image/png:https://macclesfield-harriers.co.uk/wp-content/uploads/2024/02/Macclesfield-Harriers-for-calendar.png
END:VEVENT
BEGIN:VEVENT
DTSTART;TZID=Europe/London:20240517T191500
DTEND;TZID=Europe/London:20240517T200000
DTSTAMP:20260422T042126
CREATED:20240218T183436Z
LAST-MODIFIED:20240218T195132Z
UID:10000355-1715973300-1715976000@macclesfield-harriers.co.uk
SUMMARY:Christleton 5k\, 2024
DESCRIPTION:Flat 5k with PB potential\, organisers claim that ‘most local runners can claim to have set their 5K PB at Christleton\nPart of the Cheshire Grand Prix series\nhttps://www.chestertri.org.uk/our-races/christleton-5k/
URL:https://macclesfield-harriers.co.uk/event/christleton-5k/
LOCATION:Christleton Sports Centre
CATEGORIES:Club Championship,Road
ATTACH;FMTTYPE=image/png:https://macclesfield-harriers.co.uk/wp-content/uploads/2024/02/Macclesfield-Harriers-for-calendar.png
END:VEVENT
BEGIN:VEVENT
DTSTART;TZID=Europe/London:20240410T190000
DTEND;TZID=Europe/London:20240410T200000
DTSTAMP:20260422T042126
CREATED:20240218T183058Z
LAST-MODIFIED:20240218T200205Z
UID:10000354-1712775600-1712779200@macclesfield-harriers.co.uk
SUMMARY:Chester Spring 5\, 2024
DESCRIPTION:5 Mile Road Race\nPart of the Cheshire Grand Prix series\nMidweek race taking place in Upton\, on the outskirts of Chester\nhttps://wcac.niftyentries.com/Chester-Spring-5-2024
URL:https://macclesfield-harriers.co.uk/event/chester-spring-5-2024/
LOCATION:Cheshire County Sports Club
CATEGORIES:Club Championship,Road
ATTACH;FMTTYPE=image/png:https://macclesfield-harriers.co.uk/wp-content/uploads/2024/02/Macclesfield-Harriers-for-calendar.png
END:VEVENT
END:VCALENDAR