BEGIN:VCALENDAR
VERSION:2.0
PRODID:-//Macclesfield Harriers &amp; Athletic Club - ECPv6.15.20//NONSGML v1.0//EN
CALSCALE:GREGORIAN
METHOD:PUBLISH
X-ORIGINAL-URL:https://macclesfield-harriers.co.uk
X-WR-CALDESC:Events for Macclesfield Harriers &amp; Athletic Club
REFRESH-INTERVAL;VALUE=DURATION:PT1H
X-Robots-Tag:noindex
X-PUBLISHED-TTL:PT1H
BEGIN:VTIMEZONE
TZID:Europe/London
BEGIN:DAYLIGHT
TZOFFSETFROM:+0000
TZOFFSETTO:+0100
TZNAME:BST
DTSTART:20230326T010000
END:DAYLIGHT
BEGIN:STANDARD
TZOFFSETFROM:+0100
TZOFFSETTO:+0000
TZNAME:GMT
DTSTART:20231029T010000
END:STANDARD
BEGIN:DAYLIGHT
TZOFFSETFROM:+0000
TZOFFSETTO:+0100
TZNAME:BST
DTSTART:20240331T010000
END:DAYLIGHT
BEGIN:STANDARD
TZOFFSETFROM:+0100
TZOFFSETTO:+0000
TZNAME:GMT
DTSTART:20241027T010000
END:STANDARD
BEGIN:DAYLIGHT
TZOFFSETFROM:+0000
TZOFFSETTO:+0100
TZNAME:BST
DTSTART:20250330T010000
END:DAYLIGHT
BEGIN:STANDARD
TZOFFSETFROM:+0100
TZOFFSETTO:+0000
TZNAME:GMT
DTSTART:20251026T010000
END:STANDARD
END:VTIMEZONE
BEGIN:VEVENT
DTSTART;TZID=Europe/London:20240714T091500
DTEND;TZID=Europe/London:20240714T103000
DTSTAMP:20260423T224322
CREATED:20240218T185136Z
LAST-MODIFIED:20240218T200359Z
UID:10000358-1720948500-1720953000@macclesfield-harriers.co.uk
SUMMARY:Wilmslow Summer 10k
DESCRIPTION:Pacers every 2m30s\nStarts in Wilmslow town centre\nhttps://www.runnorthwest.co.uk/pages/wilmslow-summer-10k-2024
URL:https://macclesfield-harriers.co.uk/event/wilmslow-summer-10k-2/
LOCATION:Wilmslow town centre
CATEGORIES:Club Championship,Road
ATTACH;FMTTYPE=image/png:https://macclesfield-harriers.co.uk/wp-content/uploads/2024/02/Macclesfield-Harriers-for-calendar.png
END:VEVENT
BEGIN:VEVENT
DTSTART;TZID=Europe/London:20240720T090000
DTEND;TZID=Europe/London:20240720T100000
DTSTAMP:20260423T224322
CREATED:20240218T185330Z
LAST-MODIFIED:20240218T195508Z
UID:10000359-1721466000-1721469600@macclesfield-harriers.co.uk
SUMMARY:Warrington parkrun\, 2024
DESCRIPTION:Part of the Cheshire Grand Prix\nFree to enter\nPlease make sure you update your parkrun profile so Macclesfield Harriers & A.C. shows as your club on your profile\nhttps://www.parkrun.org.uk/warrington/
URL:https://macclesfield-harriers.co.uk/event/warrington-parkrun/
LOCATION:Cheshire
CATEGORIES:Club Championship,Road
ATTACH;FMTTYPE=image/png:https://macclesfield-harriers.co.uk/wp-content/uploads/2024/02/Macclesfield-Harriers-for-calendar.png
END:VEVENT
BEGIN:VEVENT
DTSTART;TZID=Europe/London:20240722T190000
DTEND;TZID=Europe/London:20240722T190000
DTSTAMP:20260423T224322
CREATED:20240218T185728Z
LAST-MODIFIED:20240218T195611Z
UID:10000360-1721674800-1721674800@macclesfield-harriers.co.uk
SUMMARY:Road Handicap 2024
DESCRIPTION:Free to enter\nStarts and ends at the club house next to Macclesfield Track.\nPredict your time and try to get as close to it as you can without using a watch or any other timing device\nYou don’t have to be the fastest person to win!\nOpen to club members only\nPrize ceremony afterwards
URL:https://macclesfield-harriers.co.uk/event/road-handicap-2024/
LOCATION:Cheshire
CATEGORIES:Club Championship,Road
ATTACH;FMTTYPE=image/png:https://macclesfield-harriers.co.uk/wp-content/uploads/2024/02/Macclesfield-Harriers-for-calendar.png
END:VEVENT
END:VCALENDAR