BEGIN:VCALENDAR
VERSION:2.0
PRODID:-//Macclesfield Harriers &amp; Athletic Club - ECPv6.15.20//NONSGML v1.0//EN
CALSCALE:GREGORIAN
METHOD:PUBLISH
X-ORIGINAL-URL:https://macclesfield-harriers.co.uk
X-WR-CALDESC:Events for Macclesfield Harriers &amp; Athletic Club
REFRESH-INTERVAL;VALUE=DURATION:PT1H
X-Robots-Tag:noindex
X-PUBLISHED-TTL:PT1H
BEGIN:VTIMEZONE
TZID:UTC
BEGIN:STANDARD
TZOFFSETFROM:+0000
TZOFFSETTO:+0000
TZNAME:UTC
DTSTART:20240101T000000
END:STANDARD
END:VTIMEZONE
BEGIN:VEVENT
DTSTART;TZID=UTC:20251026T090000
DTEND;TZID=UTC:20251026T130000
DTSTAMP:20260422T223300
CREATED:20250117T125040Z
LAST-MODIFIED:20250117T125040Z
UID:10000401-1761469200-1761483600@macclesfield-harriers.co.uk
SUMMARY:Macclesfield Running Festival
DESCRIPTION:Organised by RunThrough on behalf of the club. Please contact the club chairman if you’re interested in volunteering at this race. \n5 bonus points are available for the 5k\, 10k\, and Half Marathon option. The Half Marathon is a designated race in the Cheshire Grand Prix. Your best 5 races in the series will count towards your standings in the Cheshire Grand Prix. Click here to sign up.
URL:https://macclesfield-harriers.co.uk/event/macclesfield-running-festival-2/
LOCATION:Cheshire
CATEGORIES:Club Championship,Road
ATTACH;FMTTYPE=image/jpeg:https://macclesfield-harriers.co.uk/wp-content/uploads/2024/07/Round-the-Runway-scaled.jpg
END:VEVENT
END:VCALENDAR