BEGIN:VCALENDAR
VERSION:2.0
PRODID:-//Macclesfield Harriers &amp; Athletic Club - ECPv6.15.20//NONSGML v1.0//EN
CALSCALE:GREGORIAN
METHOD:PUBLISH
X-WR-CALNAME:Macclesfield Harriers &amp; Athletic Club
X-ORIGINAL-URL:https://macclesfield-harriers.co.uk
X-WR-CALDESC:Events for Macclesfield Harriers &amp; Athletic Club
REFRESH-INTERVAL;VALUE=DURATION:PT1H
X-Robots-Tag:noindex
X-PUBLISHED-TTL:PT1H
BEGIN:VTIMEZONE
TZID:Europe/London
BEGIN:DAYLIGHT
TZOFFSETFROM:+0000
TZOFFSETTO:+0100
TZNAME:BST
DTSTART:20210328T010000
END:DAYLIGHT
BEGIN:STANDARD
TZOFFSETFROM:+0100
TZOFFSETTO:+0000
TZNAME:GMT
DTSTART:20211031T010000
END:STANDARD
BEGIN:DAYLIGHT
TZOFFSETFROM:+0000
TZOFFSETTO:+0100
TZNAME:BST
DTSTART:20220327T010000
END:DAYLIGHT
BEGIN:STANDARD
TZOFFSETFROM:+0100
TZOFFSETTO:+0000
TZNAME:GMT
DTSTART:20221030T010000
END:STANDARD
BEGIN:DAYLIGHT
TZOFFSETFROM:+0000
TZOFFSETTO:+0100
TZNAME:BST
DTSTART:20230326T010000
END:DAYLIGHT
BEGIN:STANDARD
TZOFFSETFROM:+0100
TZOFFSETTO:+0000
TZNAME:GMT
DTSTART:20231029T010000
END:STANDARD
END:VTIMEZONE
BEGIN:VEVENT
DTSTART;TZID=Europe/London:20220803T190000
DTEND;TZID=Europe/London:20220803T210000
DTSTAMP:20260426T040215
CREATED:20220104T100331Z
LAST-MODIFIED:20220104T101612Z
UID:10000257-1659553200-1659560400@macclesfield-harriers.co.uk
SUMMARY:Cracken Edge - Summer Series - TBC
DESCRIPTION:£6 EOD or £5 pre-entry \nThis is TBC – if may be replaced by Terry’s High 5 if the dates clash.
URL:https://macclesfield-harriers.co.uk/event/cracken-edge-2022/
LOCATION:Cheshire
CATEGORIES:Club Championship,Events,Fell,Trail
ATTACH;FMTTYPE=image/jpeg:https://macclesfield-harriers.co.uk/wp-content/uploads/2022/01/2022-Summer-Series.jpg
END:VEVENT
BEGIN:VEVENT
DTSTART;TZID=Europe/London:20220803T191500
DTEND;TZID=Europe/London:20220803T210000
DTSTAMP:20260426T040215
CREATED:20220509T182614Z
LAST-MODIFIED:20220509T184900Z
UID:10000123-1659554100-1659560400@macclesfield-harriers.co.uk
SUMMARY:Gun Run (Summer Evening Series 2022)
DESCRIPTION:Event Description\n\nReturn of the ‘Gun Run’ after a few years’ absence\, with a new route. \n\nWebsite: http://www.macclesfield-harriers.co.uk\nDistance: 9 km / 5.6 miles\nClimb: 250 m / 820 ft\nVenue: Swythamley & Heaton Community Centre\, Gun End\, Swythamley\, SK11 0SJ\nGrid reference: 965 682\nSkills: PM\nMinimum age: 16\nEntry page (2022): https://bookitzone.com/julian_brown/SpjFFX\n\nMostly tracks and trails\, small amount of road\, with a few ups and downs\, a couple of proper fell sections\, and some great views if you have time to take them in.. something for everyone. Route marked and marshalled. \nLimited parking\, car share would be much appreciated. \nAll proceeds to Staffordshire Wildlife Trust for restoration of Gun Hill and the Staffordshire Moorlands. \nPost-race refreshments available in the community centre !
URL:https://macclesfield-harriers.co.uk/event/gun-run-2022/
LOCATION:Swythamley & Heaton Community Centre (near Leek)\, Gun End\, Swythamley\, Staffordshire\, SK11 0SJ\, United Kingdom
CATEGORIES:Club Championship,Events,Fell,Trail
ATTACH;FMTTYPE=image/jpeg:https://macclesfield-harriers.co.uk/wp-content/uploads/2021/08/Gun-Trig.jpg
ORGANIZER;CN="Julian Brown":MAILTO:julianbrown10@hotmail.co.uk
END:VEVENT
BEGIN:VEVENT
DTSTART;TZID=Europe/London:20220806T080000
DTEND;TZID=Europe/London:20220806T170000
DTSTAMP:20260426T040215
CREATED:20211228T113346Z
LAST-MODIFIED:20220104T085912Z
UID:10000153-1659772800-1659805200@macclesfield-harriers.co.uk
SUMMARY:CYBI Coastal Marathon - 2022 Peak Trail Series
DESCRIPTION:EVENT WEBSITE \nNote: The event is already full with over 20 Harriers taking part – get on the waiting list as there is a fair chance of a place. The waiting list and a place to find and swap entries is on Facebook … Link to CYBI WAITING LIST FACEBOOK GROUP
URL:https://macclesfield-harriers.co.uk/event/cybi-coastal-marathon-2022-peak-trail-series/
LOCATION:Cheshire
CATEGORIES:Club Championship,Events,Fell,Trail
ATTACH;FMTTYPE=image/jpeg:https://macclesfield-harriers.co.uk/wp-content/uploads/2021/12/CYBI.jpg
END:VEVENT
END:VCALENDAR