BEGIN:VCALENDAR
VERSION:2.0
PRODID:-//Macclesfield Harriers &amp; Athletic Club - ECPv6.15.20//NONSGML v1.0//EN
CALSCALE:GREGORIAN
METHOD:PUBLISH
X-ORIGINAL-URL:https://macclesfield-harriers.co.uk
X-WR-CALDESC:Events for Macclesfield Harriers &amp; Athletic Club
REFRESH-INTERVAL;VALUE=DURATION:PT1H
X-Robots-Tag:noindex
X-PUBLISHED-TTL:PT1H
BEGIN:VTIMEZONE
TZID:Europe/London
BEGIN:DAYLIGHT
TZOFFSETFROM:+0000
TZOFFSETTO:+0100
TZNAME:BST
DTSTART:20220327T010000
END:DAYLIGHT
BEGIN:STANDARD
TZOFFSETFROM:+0100
TZOFFSETTO:+0000
TZNAME:GMT
DTSTART:20221030T010000
END:STANDARD
BEGIN:DAYLIGHT
TZOFFSETFROM:+0000
TZOFFSETTO:+0100
TZNAME:BST
DTSTART:20230326T010000
END:DAYLIGHT
BEGIN:STANDARD
TZOFFSETFROM:+0100
TZOFFSETTO:+0000
TZNAME:GMT
DTSTART:20231029T010000
END:STANDARD
BEGIN:DAYLIGHT
TZOFFSETFROM:+0000
TZOFFSETTO:+0100
TZNAME:BST
DTSTART:20240331T010000
END:DAYLIGHT
BEGIN:STANDARD
TZOFFSETFROM:+0100
TZOFFSETTO:+0000
TZNAME:GMT
DTSTART:20241027T010000
END:STANDARD
END:VTIMEZONE
BEGIN:VEVENT
DTSTART;TZID=Europe/London:20230205T110000
DTEND;TZID=Europe/London:20230205T120000
DTSTAMP:20260425T124348
CREATED:20230101T212730Z
LAST-MODIFIED:20230101T212824Z
UID:10000272-1675594800-1675598400@macclesfield-harriers.co.uk
SUMMARY:Alsager 5M 2023
DESCRIPTION:
URL:https://macclesfield-harriers.co.uk/event/alsager-5m-2023/
LOCATION:Cheshire
CATEGORIES:Club Championship,Road
ATTACH;FMTTYPE=image/png:https://macclesfield-harriers.co.uk/wp-content/uploads/2023/01/alsager23_orig.png
END:VEVENT
BEGIN:VEVENT
DTSTART;TZID=Europe/London:20230211T080000
DTEND;TZID=Europe/London:20230211T170000
DTSTAMP:20260425T124348
CREATED:20220810T141839Z
LAST-MODIFIED:20221115T093649Z
UID:10000125-1676102400-1676134800@macclesfield-harriers.co.uk
SUMMARY:MACCL - Match 5 (Sherdley Park)
DESCRIPTION:The Manchester League – check their website for more details \nMatch 1 – 15th October (note clash with North Staffs) – Wythenshawe Park\nMatch 2 – 12th November – Kenworthy Woods\nMatch 3 – 3rd December – Heaton Park\nMatch 4 – 14th January 2023 – Tatton Park\nMatch 5 – 11th February 2023 – Sherdley Park
URL:https://macclesfield-harriers.co.uk/event/maccl-match-5-2022/
LOCATION:Cheshire
CATEGORIES:Club Championship,Club Races,Cross Country,Events
ATTACH;FMTTYPE=image/jpeg:https://macclesfield-harriers.co.uk/wp-content/uploads/2022/08/MHACXC.jpg
END:VEVENT
BEGIN:VEVENT
DTSTART;TZID=Europe/London:20230218T080000
DTEND;TZID=Europe/London:20230218T170000
DTSTAMP:20260425T124348
CREATED:20230201T140648Z
LAST-MODIFIED:20230201T140648Z
UID:10000299-1676707200-1676739600@macclesfield-harriers.co.uk
SUMMARY:HIGH FELL SERIES - Two Riggs (2023)
DESCRIPTION:
URL:https://macclesfield-harriers.co.uk/event/high-fell-series-two-riggs-2023/
LOCATION:Cheshire
CATEGORIES:Club Championship,Fell,Trail
ATTACH;FMTTYPE=image/jpeg:https://macclesfield-harriers.co.uk/wp-content/uploads/2022/01/2022-High-Fell-Series.jpg
END:VEVENT
BEGIN:VEVENT
DTSTART;VALUE=DATE:20230225
DTEND;VALUE=DATE:20230226
DTSTAMP:20260425T124348
CREATED:20230126T230531Z
LAST-MODIFIED:20230126T230531Z
UID:10000268-1677283200-1677369599@macclesfield-harriers.co.uk
SUMMARY:National XC Championship\, Bolesworth Castle\, 25th Feb
DESCRIPTION:National Championship\, Bolesworth Castle\, 25th Feb\n\n\nThe National is the biggest event and is an amazing spectacle with 1000’s of runners from all over the country. Spine tingling on the start line. This year it is fairly local so we really hope to have a good Macc turnout to experience it. Entries must be completed by 27th January 2023\n\n\nhttps://www.race-results.co.uk/results/2023/natxc23e.php
URL:https://macclesfield-harriers.co.uk/event/national-xc-championship-bolesworth-castle-25th-feb/
LOCATION:Cheshire
CATEGORIES:Club Championship,Club Races,Cross Country,Events
END:VEVENT
END:VCALENDAR