BEGIN:VCALENDAR
VERSION:2.0
PRODID:-//Macclesfield Harriers &amp; Athletic Club - ECPv6.15.20//NONSGML v1.0//EN
CALSCALE:GREGORIAN
METHOD:PUBLISH
X-ORIGINAL-URL:https://macclesfield-harriers.co.uk
X-WR-CALDESC:Events for Macclesfield Harriers &amp; Athletic Club
REFRESH-INTERVAL;VALUE=DURATION:PT1H
X-Robots-Tag:noindex
X-PUBLISHED-TTL:PT1H
BEGIN:VTIMEZONE
TZID:Europe/London
BEGIN:DAYLIGHT
TZOFFSETFROM:+0000
TZOFFSETTO:+0100
TZNAME:BST
DTSTART:20210328T010000
END:DAYLIGHT
BEGIN:STANDARD
TZOFFSETFROM:+0100
TZOFFSETTO:+0000
TZNAME:GMT
DTSTART:20211031T010000
END:STANDARD
BEGIN:DAYLIGHT
TZOFFSETFROM:+0000
TZOFFSETTO:+0100
TZNAME:BST
DTSTART:20220327T010000
END:DAYLIGHT
BEGIN:STANDARD
TZOFFSETFROM:+0100
TZOFFSETTO:+0000
TZNAME:GMT
DTSTART:20221030T010000
END:STANDARD
BEGIN:DAYLIGHT
TZOFFSETFROM:+0000
TZOFFSETTO:+0100
TZNAME:BST
DTSTART:20230326T010000
END:DAYLIGHT
BEGIN:STANDARD
TZOFFSETFROM:+0100
TZOFFSETTO:+0000
TZNAME:GMT
DTSTART:20231029T010000
END:STANDARD
END:VTIMEZONE
BEGIN:VEVENT
DTSTART;TZID=Europe/London:20221112T080000
DTEND;TZID=Europe/London:20221112T170000
DTSTAMP:20260425T174419
CREATED:20220810T141521Z
LAST-MODIFIED:20221115T094852Z
UID:10000251-1668240000-1668272400@macclesfield-harriers.co.uk
SUMMARY:MACCL - Match 2 (Kenworthy Woods)
DESCRIPTION:The Manchester League – check their website for more details \nMatch 1 – 15th October (note clash with North Staffs) – Wythenshawe Park\nMatch 2 – 12th November – Kenworthy Woods\nMatch 3 – 3rd December – Heaton Park\nMatch 4 – 14th January 2023 – Tatton Park\nMatch 5 – 11th February 2023 – Sherdley Park
URL:https://macclesfield-harriers.co.uk/event/maccl-match-2-2022/
LOCATION:Cheshire
CATEGORIES:Club Championship,Club Races,Cross Country,Events
ATTACH;FMTTYPE=image/jpeg:https://macclesfield-harriers.co.uk/wp-content/uploads/2022/08/MHACXC.jpg
END:VEVENT
BEGIN:VEVENT
DTSTART;TZID=Europe/London:20221113T080000
DTEND;TZID=Europe/London:20221113T170000
DTSTAMP:20260425T174419
CREATED:20220104T090657Z
LAST-MODIFIED:20220104T090718Z
UID:10000104-1668326400-1668358800@macclesfield-harriers.co.uk
SUMMARY:The Roaches (Peaks Trail Series)
DESCRIPTION:EOD
URL:https://macclesfield-harriers.co.uk/event/the-roaches-2022/
LOCATION:Cheshire
CATEGORIES:Club Championship,Events,Fell,Trail
ATTACH;FMTTYPE=image/jpeg:https://macclesfield-harriers.co.uk/wp-content/uploads/2022/01/2022-Peaks-Trail-Seriesl.jpg
END:VEVENT
BEGIN:VEVENT
DTSTART;TZID=Europe/London:20221119T100000
DTEND;TZID=Europe/London:20221119T120000
DTSTAMP:20260425T174419
CREATED:20220101T172540Z
LAST-MODIFIED:20221126T154945Z
UID:10000134-1668852000-1668859200@macclesfield-harriers.co.uk
SUMMARY:2022 Meerbrook 15K
DESCRIPTION:
URL:https://macclesfield-harriers.co.uk/event/meerbrook-15k-2/
LOCATION:Cheshire
CATEGORIES:Club Championship,Events,Road
ATTACH;FMTTYPE=image/jpeg:https://macclesfield-harriers.co.uk/wp-content/uploads/2022/01/meerbrook.jpg
END:VEVENT
BEGIN:VEVENT
DTSTART;TZID=Europe/London:20221120T090000
DTEND;TZID=Europe/London:20221120T120000
DTSTAMP:20260425T174419
CREATED:20220101T174011Z
LAST-MODIFIED:20221126T120054Z
UID:10000132-1668934800-1668945600@macclesfield-harriers.co.uk
SUMMARY:2022 Stockport 10
DESCRIPTION: 
URL:https://macclesfield-harriers.co.uk/event/stockport-10-date-not-confirmed/
LOCATION:Cheshire
CATEGORIES:Club Championship,Events,Road
ATTACH;FMTTYPE=image/jpeg:https://macclesfield-harriers.co.uk/wp-content/uploads/2022/01/stk10-logo-landscape3-e1641058614521.jpg
END:VEVENT
BEGIN:VEVENT
DTSTART;TZID=Europe/London:20221127T090000
DTEND;TZID=Europe/London:20221127T120000
DTSTAMP:20260425T174419
CREATED:20220101T173151Z
LAST-MODIFIED:20221126T120029Z
UID:10000133-1669539600-1669550400@macclesfield-harriers.co.uk
SUMMARY:2022 Wilmslow Festive 10K
DESCRIPTION:
URL:https://macclesfield-harriers.co.uk/event/wilmslow-festive-10k/
LOCATION:Cheshire
CATEGORIES:Club Championship,Events,Road
ATTACH;FMTTYPE=image/png:https://macclesfield-harriers.co.uk/wp-content/uploads/2022/01/festive-10K.png
END:VEVENT
END:VCALENDAR