BEGIN:VCALENDAR
VERSION:2.0
PRODID:-//Macclesfield Harriers &amp; Athletic Club - ECPv6.15.20//NONSGML v1.0//EN
CALSCALE:GREGORIAN
METHOD:PUBLISH
X-ORIGINAL-URL:https://macclesfield-harriers.co.uk
X-WR-CALDESC:Events for Macclesfield Harriers &amp; Athletic Club
REFRESH-INTERVAL;VALUE=DURATION:PT1H
X-Robots-Tag:noindex
X-PUBLISHED-TTL:PT1H
BEGIN:VTIMEZONE
TZID:Europe/London
BEGIN:DAYLIGHT
TZOFFSETFROM:+0000
TZOFFSETTO:+0100
TZNAME:BST
DTSTART:20210328T010000
END:DAYLIGHT
BEGIN:STANDARD
TZOFFSETFROM:+0100
TZOFFSETTO:+0000
TZNAME:GMT
DTSTART:20211031T010000
END:STANDARD
BEGIN:DAYLIGHT
TZOFFSETFROM:+0000
TZOFFSETTO:+0100
TZNAME:BST
DTSTART:20220327T010000
END:DAYLIGHT
BEGIN:STANDARD
TZOFFSETFROM:+0100
TZOFFSETTO:+0000
TZNAME:GMT
DTSTART:20221030T010000
END:STANDARD
BEGIN:DAYLIGHT
TZOFFSETFROM:+0000
TZOFFSETTO:+0100
TZNAME:BST
DTSTART:20230326T010000
END:DAYLIGHT
BEGIN:STANDARD
TZOFFSETFROM:+0100
TZOFFSETTO:+0000
TZNAME:GMT
DTSTART:20231029T010000
END:STANDARD
END:VTIMEZONE
BEGIN:VEVENT
DTSTART;TZID=Europe/London:20221002T093000
DTEND;TZID=Europe/London:20221002T120000
DTSTAMP:20260425T202239
CREATED:20220101T172313Z
LAST-MODIFIED:20221126T155904Z
UID:10000135-1664703000-1664712000@macclesfield-harriers.co.uk
SUMMARY:2022 Congleton Half Marathon
DESCRIPTION:
URL:https://macclesfield-harriers.co.uk/event/congleton-half-marathon-2/
LOCATION:Cheshire
CATEGORIES:Club Championship,Events,Road
ATTACH;FMTTYPE=image/png:https://macclesfield-harriers.co.uk/wp-content/uploads/2022/01/Harriers-Logo-Yellow-1.png
END:VEVENT
BEGIN:VEVENT
DTSTART;TZID=Europe/London:20221015T080000
DTEND;TZID=Europe/London:20221015T170000
DTSTAMP:20260425T202239
CREATED:20220810T141422Z
LAST-MODIFIED:20220902T091219Z
UID:10000208-1665820800-1665853200@macclesfield-harriers.co.uk
SUMMARY:MACCL - Match 1 (Wythenshawe Park)
DESCRIPTION:Match 1 – 15th October (note clash with North Staffs) – Wythenshawe Park\nMatch 2 – 12th November – Kenworthy Woods\nMatch 3 – 3rd December – Heaton Park\nMatch 4 – 14th January 2023 – Tatton Park\nMatch 5 – 11th February 2023 – Sherdley Park
URL:https://macclesfield-harriers.co.uk/event/maccl-match-1-tba/
LOCATION:Cheshire
CATEGORIES:Club Championship,Club Races,Cross Country,Events
ATTACH;FMTTYPE=image/jpeg:https://macclesfield-harriers.co.uk/wp-content/uploads/2022/08/MHACXC.jpg
END:VEVENT
BEGIN:VEVENT
DTSTART;TZID=Europe/London:20221023T110000
DTEND;TZID=Europe/London:20221023T140000
DTSTAMP:20260425T202239
CREATED:20220203T181147Z
LAST-MODIFIED:20221126T115640Z
UID:10000119-1666522800-1666533600@macclesfield-harriers.co.uk
SUMMARY:2022 Windgather Fell Race (Andrew Heywood Memorial)
DESCRIPTION:Race details\n\nDate & time: Sun 23 Oct 2022 at 11:00\nCountry: England\nRegion: Peak District\nCategory: BL\nEvent Info: https://macclesfield-harriers.co.uk/andrew-heywood-windgather-fell-race/\nDistance: 21.7 km / 13.5 miles\nClimb: 762 m / 2500 ft\nVenue: Burbage Institute\, Bishops Lane\, Buxton\, SK17 6UL.\nGrid reference: 044730\nSkills: ER\, PM\, LK\, NS\nMinimum age: 18\n\nEntry information\n\nEntry Link: https://bookitzone.com/julian_brown/6UjFFX\nEntry on day: Yes\nEntry on day fee: £15.00\nPre-entry: Yes\nPre-entry fee: £12.00\nPlus online fee\, at bookitzone.com.\nDiscount for entries before 1/4/22 !\nPre registration preferred\, no guaranteed entry on day.\n\nContact for Race Information\n\nJulian Brown\nFox’s Reach\, Lake Road\, Rudyard\, Leek\, ST13 8RN\n01538 306837\n07763845606\njulianbrown10@hotmail.co.uk\nRace Organiser: Julian Brown
URL:https://macclesfield-harriers.co.uk/event/windgather-2022/
LOCATION:Cheshire
CATEGORIES:Club Championship,Fell,Trail
ATTACH;FMTTYPE=image/jpeg:https://macclesfield-harriers.co.uk/wp-content/uploads/2021/08/Windgather-Rocks.jpg
END:VEVENT
BEGIN:VEVENT
DTSTART;TZID=Europe/London:20221029T080000
DTEND;TZID=Europe/London:20221029T170000
DTSTAMP:20260425T202239
CREATED:20220810T141039Z
LAST-MODIFIED:20221115T135155Z
UID:10000247-1667030400-1667062800@macclesfield-harriers.co.uk
SUMMARY:NSCCL - Race 3 (Parkhall Country Park)
DESCRIPTION:The North Staffs League is now open for on line registration here: http://www.nsccl.org.uk/latest/introduction-of-chip-timing-and-new-individual-entry-system/ \nPlease enter yourselves individually for either the whole season or individual races. The series and race fees are set out on the registration page. \nKey dates (all confirmed) \nRace 1 – 17th September – Betley Court Farm\nRace 2 – 15th October – Stafford Common\nRace 3 – 29th October –  Parkhall Country Park\nRace 4 – 10th December  – Keele University
URL:https://macclesfield-harriers.co.uk/event/nsccl-race-3-parkhall-country-park/
LOCATION:Cheshire
CATEGORIES:Club Championship,Club Races,Cross Country,Events
ATTACH;FMTTYPE=image/jpeg:https://macclesfield-harriers.co.uk/wp-content/uploads/2022/08/MHACXC.jpg
END:VEVENT
END:VCALENDAR