BEGIN:VCALENDAR
VERSION:2.0
PRODID:-//Macclesfield Harriers &amp; Athletic Club - ECPv6.15.20//NONSGML v1.0//EN
CALSCALE:GREGORIAN
METHOD:PUBLISH
X-WR-CALNAME:Macclesfield Harriers &amp; Athletic Club
X-ORIGINAL-URL:https://macclesfield-harriers.co.uk
X-WR-CALDESC:Events for Macclesfield Harriers &amp; Athletic Club
REFRESH-INTERVAL;VALUE=DURATION:PT1H
X-Robots-Tag:noindex
X-PUBLISHED-TTL:PT1H
BEGIN:VTIMEZONE
TZID:Europe/London
BEGIN:DAYLIGHT
TZOFFSETFROM:+0000
TZOFFSETTO:+0100
TZNAME:BST
DTSTART:20210328T010000
END:DAYLIGHT
BEGIN:STANDARD
TZOFFSETFROM:+0100
TZOFFSETTO:+0000
TZNAME:GMT
DTSTART:20211031T010000
END:STANDARD
BEGIN:DAYLIGHT
TZOFFSETFROM:+0000
TZOFFSETTO:+0100
TZNAME:BST
DTSTART:20220327T010000
END:DAYLIGHT
BEGIN:STANDARD
TZOFFSETFROM:+0100
TZOFFSETTO:+0000
TZNAME:GMT
DTSTART:20221030T010000
END:STANDARD
BEGIN:DAYLIGHT
TZOFFSETFROM:+0000
TZOFFSETTO:+0100
TZNAME:BST
DTSTART:20230326T010000
END:DAYLIGHT
BEGIN:STANDARD
TZOFFSETFROM:+0100
TZOFFSETTO:+0000
TZNAME:GMT
DTSTART:20231029T010000
END:STANDARD
END:VTIMEZONE
BEGIN:VEVENT
DTSTART;TZID=Europe/London:20220910T090000
DTEND;TZID=Europe/London:20220910T100000
DTSTAMP:20260425T202029
CREATED:20220614T082631Z
LAST-MODIFIED:20220614T082631Z
UID:10000146-1662800400-1662804000@macclesfield-harriers.co.uk
SUMMARY:Macclesfield Parkrun
DESCRIPTION:
URL:https://macclesfield-harriers.co.uk/event/macclesfield-parkrun/
LOCATION:Cheshire
CATEGORIES:Club Championship,Road
END:VEVENT
BEGIN:VEVENT
DTSTART;TZID=Europe/London:20220917T080000
DTEND;TZID=Europe/London:20220917T170000
DTSTAMP:20260425T202029
CREATED:20220104T092711Z
LAST-MODIFIED:20220104T101128Z
UID:10000111-1663401600-1663434000@macclesfield-harriers.co.uk
SUMMARY:Three Shires (Lakes) - High Fell Series
DESCRIPTION:Entries open 1st July
URL:https://macclesfield-harriers.co.uk/event/three-shires-lakes-2022/
LOCATION:Cheshire
CATEGORIES:Club Championship,Events,Fell,Trail
ATTACH;FMTTYPE=image/jpeg:https://macclesfield-harriers.co.uk/wp-content/uploads/2022/01/2022-High-Fell-Series.jpg
END:VEVENT
BEGIN:VEVENT
DTSTART;TZID=Europe/London:20220917T080000
DTEND;TZID=Europe/London:20220917T170000
DTSTAMP:20260425T202030
CREATED:20220810T140536Z
LAST-MODIFIED:20220810T141257Z
UID:10000128-1663401600-1663434000@macclesfield-harriers.co.uk
SUMMARY:NSCCL - Race 1 (Betley Court Farm)
DESCRIPTION:The North Staffs League is now open for on line registration here: http://www.nsccl.org.uk/latest/introduction-of-chip-timing-and-new-individual-entry-system/ \nPlease enter yourselves individually for either the whole season or individual races. The series and race fees are set out on the registration page. \nKey dates (all confirmed) \nRace 1 – 17th September – Betley Court Farm\nRace 2 – 15th October – Stafford Common\nRace 3 – 29th October –  Parkhall Country Park\nRace 4 – 10th December  – Keele University
URL:https://macclesfield-harriers.co.uk/event/nsccl-race-1/
LOCATION:Cheshire
CATEGORIES:Club Championship,Club Races,Cross Country
ATTACH;FMTTYPE=image/jpeg:https://macclesfield-harriers.co.uk/wp-content/uploads/2022/08/MHACXC.jpg
END:VEVENT
BEGIN:VEVENT
DTSTART;TZID=Europe/London:20220924T080000
DTEND;TZID=Europe/London:20220924T170000
DTSTAMP:20260425T202030
CREATED:20211228T112631Z
LAST-MODIFIED:20221126T155130Z
UID:10000152-1664006400-1664038800@macclesfield-harriers.co.uk
SUMMARY:Lakeland Trails - Cartmel - Peak Trail Series 2022
DESCRIPTION:EVENT WEBSITE
URL:https://macclesfield-harriers.co.uk/event/lakeland-trails-cartmel-peak-trail-series-2022/
LOCATION:Cheshire
CATEGORIES:Club Championship,Events,Fell,Trail
ATTACH;FMTTYPE=image/jpeg:https://macclesfield-harriers.co.uk/wp-content/uploads/2021/12/Cartmel.jpg
END:VEVENT
BEGIN:VEVENT
DTSTART;TZID=Europe/London:20220924T080000
DTEND;TZID=Europe/London:20220924T170000
DTSTAMP:20260425T202030
CREATED:20220104T090452Z
LAST-MODIFIED:20221126T155615Z
UID:10000147-1664006400-1664038800@macclesfield-harriers.co.uk
SUMMARY:2022 Lakeland Trails Cartmel (10km or 18km) - Peaks Trail Series
DESCRIPTION:Note: Either race distance will count for the club championship
URL:https://macclesfield-harriers.co.uk/event/lt-cartmel-2022/
LOCATION:Cheshire
CATEGORIES:Club Championship,Events,Fell,Trail
ATTACH;FMTTYPE=image/jpeg:https://macclesfield-harriers.co.uk/wp-content/uploads/2022/01/2022-Peaks-Trail-Seriesl.jpg
END:VEVENT
END:VCALENDAR