BEGIN:VCALENDAR
VERSION:2.0
PRODID:-//Macclesfield Harriers &amp; Athletic Club - ECPv6.15.20//NONSGML v1.0//EN
CALSCALE:GREGORIAN
METHOD:PUBLISH
X-ORIGINAL-URL:https://macclesfield-harriers.co.uk
X-WR-CALDESC:Events for Macclesfield Harriers &amp; Athletic Club
REFRESH-INTERVAL;VALUE=DURATION:PT1H
X-Robots-Tag:noindex
X-PUBLISHED-TTL:PT1H
BEGIN:VTIMEZONE
TZID:Europe/London
BEGIN:DAYLIGHT
TZOFFSETFROM:+0000
TZOFFSETTO:+0100
TZNAME:BST
DTSTART:20210328T010000
END:DAYLIGHT
BEGIN:STANDARD
TZOFFSETFROM:+0100
TZOFFSETTO:+0000
TZNAME:GMT
DTSTART:20211031T010000
END:STANDARD
BEGIN:DAYLIGHT
TZOFFSETFROM:+0000
TZOFFSETTO:+0100
TZNAME:BST
DTSTART:20220327T010000
END:DAYLIGHT
BEGIN:STANDARD
TZOFFSETFROM:+0100
TZOFFSETTO:+0000
TZNAME:GMT
DTSTART:20221030T010000
END:STANDARD
BEGIN:DAYLIGHT
TZOFFSETFROM:+0000
TZOFFSETTO:+0100
TZNAME:BST
DTSTART:20230326T010000
END:DAYLIGHT
BEGIN:STANDARD
TZOFFSETFROM:+0100
TZOFFSETTO:+0000
TZNAME:GMT
DTSTART:20231029T010000
END:STANDARD
END:VTIMEZONE
BEGIN:VEVENT
DTSTART;TZID=Europe/London:20220705T190000
DTEND;TZID=Europe/London:20220705T210000
DTSTAMP:20260426T025033
CREATED:20220104T094520Z
LAST-MODIFIED:20220408T144925Z
UID:10000148-1657047600-1657054800@macclesfield-harriers.co.uk
SUMMARY:Wizard 5 (Summer Series)
DESCRIPTION:
URL:https://macclesfield-harriers.co.uk/event/wizard-5-2022/
LOCATION:Cheshire
CATEGORIES:Club Championship,Events,Fell,Trail
ATTACH;FMTTYPE=image/jpeg:https://macclesfield-harriers.co.uk/wp-content/uploads/2022/01/2022-Summer-Series.jpg
END:VEVENT
BEGIN:VEVENT
DTSTART;TZID=Europe/London:20220710T100000
DTEND;TZID=Europe/London:20220710T130000
DTSTAMP:20260426T025033
CREATED:20220104T085638Z
LAST-MODIFIED:20220420T161301Z
UID:10000129-1657447200-1657458000@macclesfield-harriers.co.uk
SUMMARY:Bollington Nostalgia 2022 - Peaks Trail Series -  CANCELLED
DESCRIPTION:Sadly due to the high level of traffic management needed and associated cost the Bollington Nostalgia Race has been CANCELLED.
URL:https://macclesfield-harriers.co.uk/event/bollington-nostalgia-2022/
LOCATION:Cheshire
CATEGORIES:Club Championship,Events,Fell,Trail
ATTACH;FMTTYPE=image/jpeg:https://macclesfield-harriers.co.uk/wp-content/uploads/2022/01/2022-Peaks-Trail-Seriesl.jpg
END:VEVENT
BEGIN:VEVENT
DTSTART;TZID=Europe/London:20220712T190000
DTEND;TZID=Europe/London:20220712T203000
DTSTAMP:20260426T025033
CREATED:20220614T082958Z
LAST-MODIFIED:20220614T082958Z
UID:10000138-1657652400-1657657800@macclesfield-harriers.co.uk
SUMMARY:Round the Runway 5M
DESCRIPTION:
URL:https://macclesfield-harriers.co.uk/event/round-the-runway-5m-2/
LOCATION:Cheshire
CATEGORIES:Club Championship,Road
END:VEVENT
BEGIN:VEVENT
DTSTART;TZID=Europe/London:20220717T080000
DTEND;TZID=Europe/London:20220717T170000
DTSTAMP:20260426T025033
CREATED:20220104T092508Z
LAST-MODIFIED:20220104T101055Z
UID:10000110-1658044800-1658077200@macclesfield-harriers.co.uk
SUMMARY:Kentmere Horseshoe (High Fell Series)
DESCRIPTION:Entries open 1st Feb 2022
URL:https://macclesfield-harriers.co.uk/event/kentmere-horseshoe-2022/
LOCATION:Cheshire
CATEGORIES:Club Championship,Events,Fell,Trail
ATTACH;FMTTYPE=image/jpeg:https://macclesfield-harriers.co.uk/wp-content/uploads/2022/01/2022-High-Fell-Series.jpg
END:VEVENT
BEGIN:VEVENT
DTSTART;TZID=Europe/London:20220718T190000
DTEND;TZID=Europe/London:20220718T200000
DTSTAMP:20260426T025033
CREATED:20220101T171124Z
LAST-MODIFIED:20221126T160008Z
UID:10000137-1658170800-1658174400@macclesfield-harriers.co.uk
SUMMARY:2022 Road Handicap
DESCRIPTION:
URL:https://macclesfield-harriers.co.uk/event/road-handicap/
LOCATION:Macclesfield Athletics Track\, Priory Lane\, Macclesfield\, Cheshire\, SK10 4AF\, United Kingdom
CATEGORIES:Club Championship,Events,Road
ATTACH;FMTTYPE=image/jpeg:https://macclesfield-harriers.co.uk/wp-content/uploads/2019/07/65454807_2133652556744594_3950367484132982784_o-e1625500782627.jpg
END:VEVENT
BEGIN:VEVENT
DTSTART;TZID=Europe/London:20220720T190000
DTEND;TZID=Europe/London:20220720T210000
DTSTAMP:20260426T025033
CREATED:20220104T094725Z
LAST-MODIFIED:20220104T094943Z
UID:10000203-1658343600-1658350800@macclesfield-harriers.co.uk
SUMMARY:Blisco Dash (Summer Series)
DESCRIPTION:£2 EOD
URL:https://macclesfield-harriers.co.uk/event/blisco-dash-2022/
LOCATION:Cheshire
CATEGORIES:Club Championship,Events,Fell,Trail
END:VEVENT
BEGIN:VEVENT
DTSTART;TZID=Europe/London:20220727T193000
DTEND;TZID=Europe/London:20220727T210000
DTSTAMP:20260426T025033
CREATED:20220129T162658Z
LAST-MODIFIED:20221126T155256Z
UID:10000118-1658950200-1658955600@macclesfield-harriers.co.uk
SUMMARY:2022 Terry's High 5
DESCRIPTION:Event details (entry\, timing) to be published nearer the time.
URL:https://macclesfield-harriers.co.uk/event/terrys-high-5/
LOCATION:Cheshire
CATEGORIES:Club Championship,Events,Trail
END:VEVENT
BEGIN:VEVENT
DTSTART;TZID=Europe/London:20220731T093000
DTEND;TZID=Europe/London:20220731T113000
DTSTAMP:20260426T025033
CREATED:20220101T170326Z
LAST-MODIFIED:20220614T082843Z
UID:10000252-1659259800-1659267000@macclesfield-harriers.co.uk
SUMMARY:Colshaw 10K
DESCRIPTION:
URL:https://macclesfield-harriers.co.uk/event/colshaw-10k/
LOCATION:Cheshire
CATEGORIES:Club Championship,Events,Road
ATTACH;FMTTYPE=image/jpeg:https://macclesfield-harriers.co.uk/wp-content/uploads/2022/01/colshaw-1.jpg
END:VEVENT
END:VCALENDAR