BEGIN:VCALENDAR
VERSION:2.0
PRODID:-//Macclesfield Harriers &amp; Athletic Club - ECPv6.15.20//NONSGML v1.0//EN
CALSCALE:GREGORIAN
METHOD:PUBLISH
X-WR-CALNAME:Macclesfield Harriers &amp; Athletic Club
X-ORIGINAL-URL:https://macclesfield-harriers.co.uk
X-WR-CALDESC:Events for Macclesfield Harriers &amp; Athletic Club
REFRESH-INTERVAL;VALUE=DURATION:PT1H
X-Robots-Tag:noindex
X-PUBLISHED-TTL:PT1H
BEGIN:VTIMEZONE
TZID:UTC
BEGIN:STANDARD
TZOFFSETFROM:+0000
TZOFFSETTO:+0000
TZNAME:UTC
DTSTART:20250101T000000
END:STANDARD
END:VTIMEZONE
BEGIN:VEVENT
DTSTART;TZID=UTC:20260621T113000
DTEND;TZID=UTC:20260621T173000
DTSTAMP:20260422T085410
CREATED:20260128T210523Z
LAST-MODIFIED:20260128T210523Z
UID:10000441-1782041400-1782063000@macclesfield-harriers.co.uk
SUMMARY:2026 Northern Track and Field League Round 1
DESCRIPTION:Round 1 of the 2026 Northern T&F League will be held on Sunday 21st June at Witton Park\, Blackburn. \nThis event is only for U18s\, U20s and Seniors. \nThe order and timing of events can be found here: \nNorthern T&F League Rules \nPlease contact your Team Manager for entry details.
URL:https://macclesfield-harriers.co.uk/event/2026-northern-track-and-field-league-round-1/
LOCATION:Witton Park Arena\, Witton Park Arena\, Preston Old Road\, Blackburn\, Lancashire\, BB2 2TP\, United Kingdom
CATEGORIES:Track and Field
ATTACH;FMTTYPE=image/png:https://macclesfield-harriers.co.uk/wp-content/uploads/2024/04/cxah22pk.png
END:VEVENT
END:VCALENDAR