BEGIN:VCALENDAR
VERSION:2.0
PRODID:-//Macclesfield Harriers &amp; Athletic Club - ECPv6.15.20//NONSGML v1.0//EN
CALSCALE:GREGORIAN
METHOD:PUBLISH
X-ORIGINAL-URL:https://macclesfield-harriers.co.uk
X-WR-CALDESC:Events for Macclesfield Harriers &amp; Athletic Club
REFRESH-INTERVAL;VALUE=DURATION:PT1H
X-Robots-Tag:noindex
X-PUBLISHED-TTL:PT1H
BEGIN:VTIMEZONE
TZID:UTC
BEGIN:STANDARD
TZOFFSETFROM:+0000
TZOFFSETTO:+0000
TZNAME:UTC
DTSTART:20230101T000000
END:STANDARD
END:VTIMEZONE
BEGIN:VTIMEZONE
TZID:Europe/London
BEGIN:DAYLIGHT
TZOFFSETFROM:+0000
TZOFFSETTO:+0100
TZNAME:BST
DTSTART:20230326T010000
END:DAYLIGHT
BEGIN:STANDARD
TZOFFSETFROM:+0100
TZOFFSETTO:+0000
TZNAME:GMT
DTSTART:20231029T010000
END:STANDARD
BEGIN:DAYLIGHT
TZOFFSETFROM:+0000
TZOFFSETTO:+0100
TZNAME:BST
DTSTART:20240331T010000
END:DAYLIGHT
BEGIN:STANDARD
TZOFFSETFROM:+0100
TZOFFSETTO:+0000
TZNAME:GMT
DTSTART:20241027T010000
END:STANDARD
BEGIN:DAYLIGHT
TZOFFSETFROM:+0000
TZOFFSETTO:+0100
TZNAME:BST
DTSTART:20250330T010000
END:DAYLIGHT
BEGIN:STANDARD
TZOFFSETFROM:+0100
TZOFFSETTO:+0000
TZNAME:GMT
DTSTART:20251026T010000
END:STANDARD
END:VTIMEZONE
BEGIN:VEVENT
DTSTART;TZID=UTC:20240615T103000
DTEND;TZID=UTC:20240615T173000
DTSTAMP:20260423T174353
CREATED:20240407T154039Z
LAST-MODIFIED:20240409T144558Z
UID:10000376-1718447400-1718472600@macclesfield-harriers.co.uk
SUMMARY:2024 Northern Track and Field League Round 2
DESCRIPTION:Round 2 of the Northern T&F League will be held at Macclesfield Athletics Track. \nThis event is only for U17s and Seniors. \nThe order and timing of events can be found here: 2024-Northern-TF-League-Rules-of-Competition.pdf (northernathletics.co.uk)
URL:https://macclesfield-harriers.co.uk/event/2024-northern-tf-league-round-2/
LOCATION:Macclesfield Athletics Track\, Priory Lane\, Macclesfield\, Cheshire\, SK10 4AF\, United Kingdom
CATEGORIES:Track and Field
ATTACH;FMTTYPE=image/png:https://macclesfield-harriers.co.uk/wp-content/uploads/2024/04/cxah22pk.png
END:VEVENT
BEGIN:VEVENT
DTSTART;TZID=Europe/London:20240615T140000
DTEND;TZID=Europe/London:20240615T160000
DTSTAMP:20260423T174353
CREATED:20240121T161307Z
LAST-MODIFIED:20240121T161307Z
UID:10000337-1718460000-1718467200@macclesfield-harriers.co.uk
SUMMARY:2024 Shrigley Stag - Peaks Trail Series
DESCRIPTION:BS 10km 280m
URL:https://macclesfield-harriers.co.uk/event/2024-shrigley-stag-peaks-trail-series/
LOCATION:Shrigley Hall Hotel & Spa\, Pott Shrigley\, SK10 5SB
CATEGORIES:Club Championship,Events,Fell,Trail
ATTACH;FMTTYPE=image/jpeg:https://macclesfield-harriers.co.uk/wp-content/uploads/2022/01/2022-Peaks-Trail-Seriesl.jpg
END:VEVENT
END:VCALENDAR