BEGIN:VCALENDAR
VERSION:2.0
PRODID:-//Macclesfield Harriers &amp; Athletic Club - ECPv6.15.20//NONSGML v1.0//EN
CALSCALE:GREGORIAN
METHOD:PUBLISH
X-ORIGINAL-URL:https://macclesfield-harriers.co.uk
X-WR-CALDESC:Events for Macclesfield Harriers &amp; Athletic Club
REFRESH-INTERVAL;VALUE=DURATION:PT1H
X-Robots-Tag:noindex
X-PUBLISHED-TTL:PT1H
BEGIN:VTIMEZONE
TZID:UTC
BEGIN:STANDARD
TZOFFSETFROM:+0000
TZOFFSETTO:+0000
TZNAME:UTC
DTSTART:20230101T000000
END:STANDARD
END:VTIMEZONE
BEGIN:VEVENT
DTSTART;TZID=UTC:20240518T113000
DTEND;TZID=UTC:20240518T173000
DTSTAMP:20260423T190453
CREATED:20240407T152224Z
LAST-MODIFIED:20240409T134132Z
UID:10000375-1716031800-1716053400@macclesfield-harriers.co.uk
SUMMARY:2024 Northern Track and Field League Round 1
DESCRIPTION:Round 1 of the Northern T&F League will be held at Deeside AAC\, Deeside Stadium\, Connah’s Quay. \nThis event is only for U17s and Seniors. \nThe order and timing of events can be found here: 2024-Northern-TF-League-Rules-of-Competition.pdf (northernathletics.co.uk)
URL:https://macclesfield-harriers.co.uk/event/2024-northern-tf-league-round-1/
LOCATION:Deeside Stadium\, Kelserton Road\, Connah's Quay\, CH5 4BR\, United Kingdom
CATEGORIES:Track and Field
ATTACH;FMTTYPE=image/png:https://macclesfield-harriers.co.uk/wp-content/uploads/2024/04/cxah22pk.png
END:VEVENT
END:VCALENDAR